{"text_format":"1","workbook":"xlsx","n_sheets":20,"sheets":["旅客１（１）","旅客１（２）","旅客２","旅客３","旅客４","旅客５","旅客６（１）","旅客６（２）","旅客７","旅客８","旅客９（１）","旅客９（２）","旅客９（３）","旅客１０","旅客１１（１）（２）","旅客１１（３）（４）","旅客１２（１）","旅客１２（２）１道内","旅客１２（２）２道外","旅客１２（２）３海外"],"not_rendered":{"charts":0,"images":1,"macros":0,"external_links":4,"defined_names":33,"comments":2,"pivot_tables":0},"unopened":[],"bounds":{"document_bytes":16777216,"sheet_cells":100000,"rows_first":2000,"rows_last":500,"rows_between":2000,"halvings":0,"cell_chars":16384,"cell_head_chars":4096},"cells_cut":0,"cells_raw":0,"read":"whole","date_system":"1900"}

{"sheet":"旅客１（１）","index":0,"n_rows":27,"n_cols":42,"rows_kept":27,"cut":false,"hidden":false,"merged":[[23,2,23,25],[24,2,24,25],[25,2,25,25],[19,23,20,25],[19,26,20,28],[19,29,20,31],[19,32,20,34],[19,35,20,37],[19,0,20,1],[19,2,20,4],[19,5,20,7],[19,8,20,10],[19,11,20,13],[19,14,20,16],[19,17,20,19],[19,41,20,43],[22,0,22,1],[19,20,20,22],[17,20,17,22],[17,23,17,25],[17,26,17,28],[17,29,17,31],[17,32,17,34],[19,38,20,40],[17,38,17,40],[17,41,18,43],[17,35,17,37],[15,35,15,37],[15,38,15,40],[15,41,16,43],[17,0,18,1],[17,2,17,4],[17,5,17,7],[17,8,17,10],[17,11,17,13],[17,14,17,16],[15,32,15,34],[15,0,16,1],[15,2,15,4],[15,5,15,7],[15,8,15,10],[15,11,15,13],[15,14,15,16],[17,17,17,19],[15,17,15,19],[15,20,15,22],[15,23,15,25],[15,26,15,28],[15,29,15,31],[11,35,11,37],[11,38,11,40],[11,41,12,43],[13,0,14,1],[13,2,13,4],[13,5,13,7],[13,8,13,10],[13,11,13,13],[13,14,13,16],[13,17,13,19],[13,20,13,22],[13,23,13,25],[13,26,13,28],[13,29,13,31],[13,32,13,34],[13,35,13,37],[13,38,13,40],[13,41,14,43],[11,0,12,1],[11,2,11,4],[11,5,11,7],[11,8,11,10],[11,11,11,13],[11,14,11,16],[11,17,11,19],[11,20,11,22],[11,23,11,25],[7,26,7,28],[7,29,7,31],[7,32,7,34],[7,17,7,19],[7,20,7,22],[7,23,7,25],[11,26,11,28],[11,29,11,31],[11,32,11,34],[7,35,7,37],[7,38,7,40],[7,41,8,43],[9,0,10,1],[9,2,9,4],[9,5,9,7],[9,8,9,10],[9,11,9,13],[9,14,9,16],[9,17,9,19],[9,20,9,22],[9,23,9,25],[9,26,9,28],[9,29,9,31],[9,32,9,34],[9,35,9,37],[9,38,9,40],[9,41,10,43],[7,0,8,1],[7,2,7,4],[7,5,7,7],[7,8,7,10],[7,11,7,13],[7,14,7,16],[0,0,0,28],[3,40,3,43],[4,0,6,0],[4,1,5,1],[4,2,4,19],[4,20,5,31],[4,32,6,34],[4,35,6,37],[4,38,6,40],[4,41,6,43],[5,2,5,10],[5,11,5,19],[6,2,6,4],[6,5,6,7],[6,8,6,10],[6,11,6,13],[6,14,6,16],[6,17,6,19],[6,20,6,22],[6,23,6,25],[6,26,6,28],[6,29,6,31]]}
["１．機関別輸送人員の推移　　　　　"]
[]
["（１）　北海道内（相互間）機関別輸送人員の推移"]
[null,null,null,null,null,null,null,null,null,null,null,null,null,null,null,null,null,null,null,null,null,null,null,null,null,null,null,null,null,null,null,null,null,null,null,null,null,null,null,null,"（単位：千人、％）"]
["年度","区分","鉄　　　道　　　・　　　軌　　　道　",null,null,null,null,null,null,null,null,null,null,null,null,null,null,null,null,null,"自　　　　　　　　動　　　　　　　　車",null,null,null,null,null,null,null,null,null,null,null,"船　　舶",null,null,"航　　空",null,null,"合　　計",null,null,"前年度　　対　 比"]
[null,null,"Ｊ　　Ｒ",null,null,null,null,null,null,null,null,"ＪＲ以外の鉄道・軌道"]
[null,null,"定　　期",null,null,"定 期 外",null,null,"計",null,null,"定　　期",null,null,"定 期 外",null,null,"計",null,null,"乗合バス",null,null,"貸切バス",null,null,"ハイヤー     タクシー",null,null,"計"]
["元",null,78006,null,null,54449,null,null,132455,null,null,80094,null,null,158891,null,null,238985,null,null,176262,null,null,12918,null,null,84513,null,null,273693,null,null,1535,null,null,772,null,null,{"$f":"SUM(I8+R8+AD8+AG8+AJ8)","v":647440},null,null,96.8]
[null,null,"(",{"$f":"C8/AM8*100","v":12.048375139009019},")","(",{"$f":"F8/AM8*100","v":8.4098912640553571},")","(",{"$f":"I8/AM8*100","v":20.458266403064375},")","(",{"$f":"L8/AM8*100","v":12.370876065735821},")","(",{"$f":"O8/AM8*100","v":24.541424688001978},")","(",{"$f":"R8/AM8*100","v":36.912300753737796},")","(",{"$f":"U8/AM8*100","v":27.224453231187447},")","(",{"$f":"X8/AM8*100","v":1.9952428024218463},")","(",{"$f":"AA8/AM8*100","v":13.053410354627456},")","(",{"$f":"AD8/AM8*100","v":42.273106388236748},")","(",{"$f":"AG8/AM8*100","v":0.2370876065735821},")","(",{"$f":"AJ8/AM8*100","v":0.11923884838749538},")","(",{"$f":"SUM(J9+S9+AE9+AH9+AK9)","v":100},")"]
[2,null,65103,null,null,28737,null,null,93840,null,null,60799,null,null,112211,null,null,173010,null,null,125986,null,null,5803,null,null,55266,null,null,187055,null,null,550,null,null,415,null,null,{"$f":"SUM(I10+R10+AD10+AG10+AJ10)","v":454870},null,null,{"$f":"AM10/AM8*100","v":70.256703323860123}]
[null,null,"(",{"$f":"C10/AM10*100","v":14.312440917185128},")","(",{"$f":"F10/AM10*100","v":6.3176292127421023},")","(",{"$f":"I10/AM10*100","v":20.630070129927233},")","(",{"$f":"L10/AM10*100","v":13.366236507133905},")","(",{"$f":"O10/AM10*100","v":24.668806472178865},")","(",{"$f":"R10/AM10*100","v":38.03504297931277},")","(",{"$f":"U10/AM10*100","v":27.697144239013344},")","(",{"$f":"X10/AM10*100","v":1.2757491151317959},")","(",{"$f":"AA10/AM10*100","v":12.149845010662387},")","(",{"$f":"AD10/AM10*100","v":41.122738364807525},")","(",{"$f":"AG10/AM10*100","v":0.1209136676413041},")","(",{"$f":"AJ10/AM10*100","v":9.1234858311165817E-2},")","(",{"$f":"SUM(J11+S11+AE11+AH11+AK11)","v":100},")"]
[3,null,63351,null,null,32162,null,null,95513,null,null,62861,null,null,122626,null,null,185487,null,null,128660,null,null,5942,null,null,54358,null,null,188960,null,null,564,null,null,484,null,null,{"$f":"SUM(I12+R12+AD12+AG12+AJ12)","v":471008},null,null,{"$f":"AM12/AM10*100","v":103.54782685162793}]
[null,null,"(",{"$f":"C12/AM12*100","v":13.450090019702426},")","(",{"$f":"F12/AM12*100","v":6.8283341259596435},")","(",{"$f":"I12/AM12*100","v":20.278424145662068},")","(",{"$f":"L12/AM12*100","v":13.346057816427749},")","(",{"$f":"O12/AM12*100","v":26.034801956654661},")","(",{"$f":"R12/AM12*100","v":39.380859773082413},")","(",{"$f":"U12/AM12*100","v":27.315884231265713},")","(",{"$f":"X12/AM12*100","v":1.2615496976696787},")","(",{"$f":"AA12/AM12*100","v":11.540780623683675},")","(",{"$f":"AD12/AM12*100","v":40.118214552619065},")","(",{"$f":"AG12/AM12*100","v":0.11974318907534479},")","(",{"$f":"AJ12/AM12*100","v":0.10275833956111149},")","(",{"$f":"SUM(J13+S13+AE13+AH13+AK13)","v":100},")"]
[4,null,65719,null,null,44039,null,null,109758,null,null,72049,null,null,142142,null,null,214191,null,null,144360,null,null,8741,null,null,66779,null,null,218521,null,null,933,null,null,732,null,null,{"$f":"SUM(I14+R14+AD14+AG14+AJ14)","v":544135},null,null,{"$f":"AM14/AM12*100","v":115.52563863034173}]
[null,null,"(",{"$f":"C14/AM14*100","v":12.077701305742142},")","(",{"$f":"F14/AM14*100","v":8.0933959403456868},")","(",{"$f":"I14/AM14*100","v":20.171097246087825},")","(",{"$f":"L14/AM14*100","v":13.241015556801161},")","(",{"$f":"O14/AM14*100","v":26.122561496687403},")","(",{"$f":"R14/AM14*100","v":39.363577053488562},")","(",{"$f":"U14/AM14*100","v":26.530180929364956},")","(",{"$f":"X14/AM14*100","v":1.6064028228288934},")","(",{"$f":"AA14/AM14*100","v":12.272505903865769},")","(",{"$f":"AD14/AM14*100","v":40.159335459031311},")","(",{"$f":"AG14/AM14*100","v":0.17146480193334374},")","(",{"$f":"AJ14/AM14*100","v":0.13452543945895779},")","(",{"$f":"SUM(J15+S15+AE15+AH15+AK15)","v":100},")"]
[5,null,67471,null,null,51518,null,null,118989,null,null,79372,null,null,153649,null,null,233020,null,null,145895,null,null,10510,null,null,66463,null,null,222868,null,null,1262,null,null,832,null,null,{"$f":"SUM(I16+R16+AD16+AG16+AJ16)","v":576971},null,null,{"$f":"AM16/AM14*100","v":106.03453187168626}]
[null,null,"(",{"$f":"C16/AM16*100","v":11.694001951571224},")","(",{"$f":"F16/AM16*100","v":8.9290449606652675},")","(",{"$f":"I16/AM16*100","v":20.623046912236489},")","(",{"$f":"L16/AM16*100","v":13.756670612561116},")","(",{"$f":"O16/AM16*100","v":26.630281244637942},")","(",{"$f":"R16/AM16*100","v":40.38677853826276},")","(",{"$f":"U16/AM16*100","v":25.286366212513279},")","(",{"$f":"X16/AM16*100","v":1.8215820205868232},")","(",{"$f":"AA16/AM16*100","v":11.519296463773742},")","(",{"$f":"AD16/AM16*100","v":38.627244696873845},")","(",{"$f":"AG16/AM16*100","v":0.21872849761946442},")","(",{"$f":"AJ16/AM16*100","v":0.14420135500744405},")","(",{"$f":"SUM(J17+S17+AE17+AH17+AK17)","v":100},")"]
[6,null,68609,null,null,55692,null,null,124301,null,null,84269,null,null,160796,null,null,245065,null,null,150017,null,null,11524,null,null,60312,null,null,{"$f":"SUM(U18:AC18)","v":221853},null,null,1304,null,null,927,null,null,{"$f":"SUM(I18+R18+AD18+AG18+AJ18)","v":593450},null,null,{"$f":"AM18/AM16*100","v":102.85612275140346}]
[null,null,"(",{"$f":"C18/AM18*100","v":11.561041368270283},")","(",{"$f":"F18/AM18*100","v":9.3844468784227821},")","(",{"$f":"I18/AM18*100","v":20.945488246693067},")","(",{"$f":"L18/AM18*100","v":14.199848344426657},")","(",{"$f":"O18/AM18*100","v":27.095121745724153},")","(",{"$f":"R18/AM18*100","v":41.294970090150812},")","(",{"$f":"U18/AM18*100","v":25.278793495660967},")","(",{"$f":"X18/AM18*100","v":1.9418653635521106},")","(",{"$f":"AA18/AM18*100","v":10.162945488246693},")","(",{"$f":"AD18/AM18*100","v":37.383604347459773},")","(",{"$f":"AG18/AM18*100","v":0.21973207515376189},")","(",{"$f":"AJ18/AM18*100","v":0.15620524054258994},")","(",{"$f":"SUM(J19+S19+AE19+AH19+AK19)","v":100},")"]
[{"$f":"A18&\"/\"&A8","v":"6/元"},null,{"$f":"C18/C8*100","v":87.953490757121244},null,null,{"$f":"F18/F8*100","v":102.28287020881925},null,null,{"$f":"I18/I8*100","v":93.843947000868226},null,null,{"$f":"L18/L8*100","v":105.21262516543062},null,null,{"$f":"O18/O8*100","v":101.19893511904388},null,null,{"$f":"R18/R8*100","v":102.54409272548486},null,null,{"$f":"U18/U8*100","v":85.110233629483375},null,null,{"$f":"X18/X8*100","v":89.208855860040259},null,null,{"$f":"AA18/AA8*100","v":71.364168826097767},null,null,{"$f":"AD18/AD8*100","v":81.059069833718794},null,null,{"$f":"AG18/AG8*100","v":84.951140065146575},null,null,{"$f":"AJ18/AJ8*100","v":120.07772020725389},null,null,{"$f":"AM18/AM8*100","v":91.661003336216481}]
[]
[]
["（注）",null,"１．　航空は「航空輸送統計年報」、その他は北海道運輸局資料による"]
[null,null,"２．　ハイヤー・タクシーは個人タクシーを含む"]
[null,null,"３．　乗合バスには乗用車両を用いた乗合事業者を含む"]
[null,null,"４．　（　）内は、輸送機関別シェア"]
[null,null,{"$f":"\"５．　\"&A20&\"は令和\"&A8&\"年度を１００と表している\"","v":"５．　6/元は令和元年度を１００と表している"}]

{"sheet":"旅客１（２）","index":1,"n_rows":24,"n_cols":18,"rows_kept":24,"cut":false,"hidden":false,"merged":[[15,14,15,16],[15,17,16,18],[13,0,14,1],[13,2,13,4],[17,17,18,18],[17,0,18,1],[17,2,18,4],[17,5,18,7],[17,8,18,10],[17,11,18,13],[17,14,18,16],[15,0,16,1],[15,2,15,4],[15,5,15,7],[15,8,15,10],[15,11,15,13],[13,5,13,7],[13,8,13,10],[13,11,13,13],[13,14,13,16],[9,17,10,18],[11,5,11,7],[11,8,11,10],[11,11,11,13],[13,17,14,18],[7,14,7,16],[7,17,8,18],[5,0,6,1],[5,2,5,4],[11,14,11,16],[11,17,12,18],[9,0,10,1],[9,2,9,4],[9,5,9,7],[9,8,9,10],[9,11,9,13],[9,14,9,16],[11,0,12,1],[11,2,11,4],[7,0,8,1],[7,2,7,4],[7,5,7,7],[7,8,7,10],[7,11,7,13],[5,14,5,16],[2,15,2,18],[3,2,3,7],[3,8,4,10],[3,11,4,13],[3,14,4,16],[3,17,4,18],[5,17,6,18],[4,2,4,4],[4,5,4,7],[5,5,5,7],[5,8,5,10],[5,11,5,13]]}
[]
["（２）　道内－道外間機関別輸送人員の推移"]
[null,null,null,null,null,null,null,null,null,null,null,null,null,null,null,"（単位：千人、％）"]
[null,"区分","Ｊ　　Ｒ",null,null,null,null,null,"船　　　舶",null,null,"航　　　空",null,null,"合　　　計",null,null,"前年度対比"]
["年度",null,"海峡線",null,null,"北海道新幹線"]
["元",null,0,null,null,1507,null,null,1853,null,null,22015,null,null,25375,null,null,98.409928252860198]
[null,null,"（",{"$f":"C6/O6*100","v":0},"）","（",{"$f":"F6/O6*100","v":5.9389162561576354},"）","（",{"$f":"I6/O6*100","v":7.3024630541871911},"）","（",{"$f":"L6/O6*100","v":86.758620689655174},"）","（",{"$f":"SUM(D7+G7+J7+M7)","v":100},"）"]
[2,null,1,null,null,531,null,null,1018,null,null,7169,null,null,8719,null,null,34.360591133004924]
[null,null,"（",{"$f":"C8/O8*100","v":1.1469205184080743E-2},"）","（",{"$f":"F8/O8*100","v":6.0901479527468743},"）","（",{"$f":"I8/O8*100","v":11.675650877394196},"）","（",{"$f":"L8/O8*100","v":82.22273196467485},"）","（",{"$f":"SUM(D9+G9+J9+M9)","v":100},"）"]
[3,null,1,null,null,609,null,null,1158,null,null,10869,null,null,12637,null,null,144.93634591122836]
[null,null,"（",{"$f":"C10/O10*100","v":7.9132705547202645E-3},"）","（",{"$f":"F10/O10*100","v":4.8191817678246425},"）","（",{"$f":"I10/O10*100","v":9.1635673023660686},"）","（",{"$f":"L10/O10*100","v":86.00933765925457},"）","（",{"$f":"SUM(D11+G11+J11+M11)","v":100},"）"]
[4,null,1,null,null,1070,null,null,1544,null,null,20026,null,null,22641,null,null,179.16435862942154]
[null,null,"（",{"$f":"C12/O12*100","v":4.4167660439026549E-3},"）","（",{"$f":"F12/O12*100","v":4.7259396669758402},"）","（",{"$f":"I12/O12*100","v":6.8194867717856988},"）","（",{"$f":"L12/O12*100","v":88.450156795194559},"）","（",{"$f":"SUM(D13+G13+J13+M13)","v":100},"）"]
[5,null,1,null,null,1402,null,null,1756,null,null,23722,null,null,26881,null,null,118.72708802614727]
[null,null,"（",{"$f":"C14/O14*100","v":3.7200996986719247E-3},"）","（",{"$f":"F14/O14*100","v":5.2155797775380384},"）","（",{"$f":"I14/O14*100","v":6.5324950708678999},"）","（",{"$f":"L14/O14*100","v":88.248205051895383},"）","（",{"$f":"SUM(D15+G15+J15+M15)","v":100},"）"]
[6,null,1,null,null,1607,null,null,1809,null,null,24900,null,null,{"$f":"SUM(C16:M16)","v":28317},null,null,{"$f":"O16/O14*100","v":105.34206316729289}]
[null,null,"（",{"$f":"C16/O16*100","v":3.5314475403467882E-3},"）","（",{"$f":"F16/O16*100","v":5.6750361973372891},"）","（",{"$f":"I16/O16*100","v":6.3883886004873398},"）","（",{"$f":"L16/O16*100","v":87.933043754635023},"）","（",{"$f":"SUM(D17+G17+J17+M17)","v":100},"）"]
[{"$f":"A16&\"/\"&A6","v":"6/元"},null,"-",null,null,{"$f":"F16/F6*100","v":106.635700066357},null,null,{"$f":"I16/I6*100","v":97.62547220723151},null,null,{"$f":"L16/L6*100","v":113.10470133999546},null,null,{"$f":"O16/O6*100","v":111.59408866995074}]
[]
[]
["（注）","１．　「航空輸送統計年報」及び北海道運輸局資料による"]
[null,"２．　（　）内は輸送機関別シェア"]
[null,"３．　北海道新幹線は平成２８年３月２６日開業"]
[null,{"$f":"\"４．　\"&A18&\"は令和\"&A6&\"年度を１００と表している\"","v":"４．　6/元は令和元年度を１００と表している"}]

{"sheet":"旅客２","index":2,"n_rows":28,"n_cols":16,"rows_kept":28,"cut":false,"hidden":false,"merged":[[17,15,18,15],[24,0,24,1],[19,15,20,15],[21,0,22,4],[21,6,22,6],[21,8,22,8],[21,10,22,10],[21,11,22,11],[21,13,22,13],[21,15,22,15],[19,0,20,4],[17,13,18,13],[19,6,20,6],[19,8,20,8],[19,10,20,10],[19,11,20,11],[19,13,20,13],[17,0,18,4],[17,6,18,6],[17,8,18,8],[17,10,18,10],[17,11,18,11],[13,13,14,13],[13,15,14,15],[11,0,12,4],[11,6,12,6],[15,0,16,4],[15,6,16,6],[15,8,16,8],[15,10,16,10],[15,11,16,11],[15,13,16,13],[15,15,16,15],[13,0,14,4],[13,6,14,6],[13,8,14,8],[13,10,14,10],[13,11,14,11],[9,0,10,4],[9,6,10,6],[9,8,10,8],[9,10,10,10],[9,11,10,11],[11,8,12,8],[11,10,12,10],[11,11,12,11],[11,13,12,13],[7,15,8,15],[11,15,12,15],[9,13,10,13],[9,15,10,15],[6,0,6,4],[7,0,8,4],[7,6,8,6],[7,8,8,8],[7,10,8,10],[5,5,6,5],[5,6,6,6],[5,7,6,7],[5,8,6,8],[5,9,6,9],[5,10,6,10],[5,11,6,11],[5,12,5,13],[5,14,5,15],[7,11,8,11],[7,13,8,13],[0,0,0,15],[4,0,4,4],[4,5,4,6],[4,7,4,8],[4,9,4,11],[4,12,4,15]]}
["２．支局別旅客自動車運送事業者数及び車両数"]
[]
[]
[null,null,null,null,null,null,null,null,null,null,null,null,null,null,null,"（令和7年3月31日現在）"]
["事業種別",null,null,null,null,"乗合バス",null,"貸切バス",null,"ハイヤー・タクシー",null,null,"自家用\n有償旅客運送"]
[null,null,null,null,null,"事業者数","届出車両数","事業者数","届出車両数","法人","個人","認可\n・\n届出車両数","交通空白地",null,"福祉"]
["支局別",null,null,null,null,null,null,null,null,null,null,null,"事業者数","車両数","事業者数","車両数"]
["札　　幌",null,null,null,null,"（４）",1923,"（２２）",1693,"（１０）",1125,7574,null,241,null,603]
[null,null,null,null,null,34,null,119,null,531,null,null,30,null,125]
["函　　館",null,null,null,null,"（１）",298,"（6）",173,-1,68,880,null,46,null,141]
[null,null,null,null,null,13,null,10,null,87,null,null,8,null,22]
["旭　　川",null,null,null,null,"（３）",619,"（２）",248,null,97,1033,null,183,null,172]
[null,null,null,null,null,23,null,21,null,103,null,null,30,null,39]
["室　　蘭",null,null,null,null,"（１）",339,null,266,-3,16,575,null,59,null,166]
[null,null,null,null,null,10,null,19,null,76,null,null,12,null,34]
["釧　　路",null,null,null,null,null,151,null,84,null,32,508,null,69,null,123]
[null,null,null,null,null,6,null,7,null,43,null,null,9,null,19]
["帯　　広",null,null,null,null,null,231,null,125,-1,53,495,null,22,null,149]
[null,null,null,null,null,10,null,11,null,45,null,null,7,null,28]
["北　　見",null,null,null,null,"（１）",199,null,131,null,16,423,null,46,null,234]
[null,null,null,null,null,8,null,15,null,74,null,null,10,null,31]
["合　　計",null,null,null,null,null,3760,null,2720,null,1407,11488,null,666,null,1588]
[null,null,null,null,null,104,null,201,null,959,null,null,106,null,298]
[]
["（注）",null,"１．　北海道運輸局資料による"]
[null,null,"２．　（　）内は他管内に本社のある事業者で外数"]
[null,null,"３．　乗合バスには乗用車両を用いた乗合事業者及び車両を含む"]
[null,null,"４．　公営事業者はなし"]

{"sheet":"旅客３","index":3,"n_rows":45,"n_cols":13,"rows_kept":45,"cut":false,"hidden":false,"merged":[[36,5,37,5],[36,6,37,6],[36,7,37,7],[36,8,37,8],[36,9,37,9],[38,2,39,2],[38,3,39,3],[38,4,39,4],[38,5,39,5],[38,6,39,6],[38,7,39,7],[38,8,39,8],[38,9,39,9],[30,9,31,9],[31,1,31,2],[32,0,39,0],[32,1,35,1],[32,2,33,2],[32,3,33,3],[32,4,33,4],[32,5,33,5],[32,6,33,6],[32,7,33,7],[32,8,33,8],[32,9,33,9],[34,2,35,2],[34,3,35,3],[34,4,35,4],[34,5,35,5],[34,6,35,6],[34,7,35,7],[34,8,35,8],[34,9,35,9],[36,1,39,1],[36,2,37,2],[36,3,37,3],[36,4,37,4],[26,9,27,9],[28,1,28,2],[28,3,29,3],[28,4,29,4],[28,5,29,5],[28,6,29,6],[28,7,29,7],[28,8,29,8],[28,9,29,9],[29,1,29,2],[24,0,31,0],[24,1,25,2],[26,1,27,2],[26,3,27,3],[26,4,27,4],[26,5,27,5],[26,6,27,6],[26,7,27,7],[26,8,27,8],[30,1,30,2],[30,3,31,3],[30,4,31,4],[30,5,31,5],[30,6,31,6],[30,7,31,7],[30,8,31,8],[20,6,21,6],[20,7,21,7],[20,8,21,8],[20,9,21,9],[21,1,21,2],[22,1,22,2],[22,3,23,3],[22,4,23,4],[22,5,23,5],[22,6,23,6],[22,7,23,7],[22,8,23,8],[22,9,23,9],[23,1,23,2],[14,7,15,7],[14,8,15,8],[14,9,15,9],[16,0,23,0],[16,1,17,2],[16,3,17,3],[16,4,17,4],[16,5,17,5],[16,6,17,6],[16,7,17,7],[16,8,17,8],[16,9,17,9],[18,1,19,2],[18,3,19,3],[18,4,19,4],[18,5,19,5],[18,6,19,6],[18,7,19,7],[18,8,19,8],[18,9,19,9],[20,1,20,2],[20,3,21,3],[20,4,21,4],[20,5,21,5],[8,7,9,7],[8,8,9,8],[8,9,9,9],[10,6,11,6],[10,7,11,7],[10,8,11,8],[10,9,11,9],[11,1,11,2],[12,1,12,2],[12,3,13,3],[12,4,13,4],[12,5,13,5],[12,6,13,6],[12,7,13,7],[12,8,13,8],[12,9,13,9],[13,1,13,2],[4,7,5,7],[4,8,5,8],[4,9,5,9],[6,1,7,2],[6,3,7,3],[6,4,7,4],[6,5,7,5],[6,6,7,6],[6,7,7,7],[6,8,7,8],[6,9,7,9],[4,0,15,0],[4,1,5,2],[4,3,5,3],[4,4,5,4],[4,5,5,5],[4,6,5,6],[10,1,10,2],[10,3,11,3],[10,4,11,4],[10,5,11,5],[8,1,9,2],[8,3,9,3],[8,4,9,4],[8,5,9,5],[8,6,9,6],[14,1,15,2],[14,3,15,3],[14,4,15,4],[14,5,15,5],[14,6,15,6],[0,0,0,9],[2,3,3,3],[2,4,3,4],[2,5,3,5],[2,6,3,6],[2,7,3,7],[2,8,3,8],[2,9,3,9],[3,0,3,1]]}
["３．旅客自動車運送事業の推移"]
[]
[null,null,"年度","元",2,3,4,5,6,{"$f":"I3&\"/\"&D3","v":"6/元"}]
["区分"]
["乗合バス","事業者数",null,98,98,101,102,106,104,{"$f":"I5/D5*100","v":106.12244897959184}]
[]
[null,"車両数",null,4111,3990,3929,3888,3797,3760,{"$f":"I7/D7*100","v":91.461931403551446}]
[]
[null,"路線キロ",null,30681,30568,30916,31141,30584,30173,{"$f":"I9/D9*100","v":98.3442521430201}]
[]
[null,"走行キロ",null,178987,150410,147706,145036,151365,139143,{"$f":"I11/D11*100","v":77.739165414247964}]
[null,"（千キロ）"]
[null,"輸送人員",null,176262,125986,128660,144360,145895,150017,{"$f":"I13/D13*100","v":85.110233629483375}]
[null,"（千人）"]
[null,"運転者数",null,4910,4885,4703,4398,4248,4313,{"$f":"I15/D15*100","v":87.841140529531572}]
[]
["貸切バス","事業者数",null,226,216,209,195,190,201,{"$f":"I17/D17*100","v":88.938053097345133}]
[]
[null,"車両数",null,2974,2701,2541,2537,2592,2720,{"$f":"I19/D19*100","v":91.459314055144588}]
[]
[null,"走行キロ",null,83379,26854,28445,51510,74129,78110,{"$f":"I21/D21*100","v":93.680662996677825}]
[null,"（千キロ）"]
[null,"輸送人員",null,12918,5803,5942,8741,10510,11524,{"$f":"I23/D23*100","v":89.208855860040259}]
[null,"（千人）"]
["ハイヤー・タクシー","事業者数",null,967,965,951,945,951,964,{"$f":"I25/D25*100","v":99.689762150982418}]
[null,null,null,1683,1646,1597,1507,1439,1407,{"$f":"I26/D26*100","v":83.600713012477726}]
[null,"車両数",null,12625,12290,12157,11946,11383,11488,{"$f":"I27/D27*100","v":90.994059405940604}]
[]
[null,"走行キロ",null,517585,368557,351312,387458,381058.7,360311,{"$f":"I29/D29*100","v":69.613879845822424}]
[null,"（千キロ）"]
[null,"輸送人員",null,84513,55266,54358,66779,66463,60312,{"$f":"I31/D31*100","v":71.364168826097767},null,null," "]
[null,"（千人）"]
["旅客運送\n自家用有償","交通空白地","事業者数",71,76,82,87,99,106,{"$f":"I33/D33*100","v":149.29577464788733}]
[]
[null,null,"車両数",378,401,418,442,499,666,{"$f":"I35/D35*100","v":176.19047619047618}]
[]
[null,"福祉","事業者数",314,313,306,311,300,298,{"$f":"I37/D37*100","v":94.904458598726109}]
[]
[null,null,"車両数",1816,1738,1684,1675,1639,1588,{"$f":"I39/D39*100","v":87.444933920704841}]
[]
[]
["（注）","１．　北海道運輸局資料による"]
[null,"２．　ハイヤー・タクシー事業者数上段は法人事業者数、下段は個人タクシー事業者数"]
[null,"３．　乗合バスには乗用車両を用いた乗合事業者を含む"]
[null,{"$f":"\"４．　\"&I3&\"／\"&D3&\"は令和\"&D3&\"年度を１００として表している\"","v":"４．　6／元は令和元年度を１００として表している"}]

{"sheet":"旅客４","index":4,"n_rows":91,"n_cols":8,"rows_kept":91,"cut":false,"hidden":false,"merged":[[84,0,85,0],[84,1,85,1],[84,2,85,2],[84,3,85,3],[79,0,80,0],[79,1,80,1],[79,2,80,2],[79,3,80,3],[79,5,80,5],[82,0,83,0],[82,1,83,1],[82,2,83,2],[82,3,83,3],[73,0,75,0],[73,1,75,1],[73,2,75,2],[73,3,75,3],[73,5,75,5],[76,0,78,0],[76,1,78,1],[76,2,78,2],[76,3,78,3],[61,0,64,0],[61,1,64,1],[61,2,64,2],[61,3,64,3],[61,5,64,5],[71,0,72,0],[71,1,72,1],[71,2,72,2],[71,3,72,3],[71,4,72,4],[56,0,57,0],[56,1,57,1],[56,2,57,2],[56,3,57,3],[56,4,57,4],[56,5,57,5],[58,0,60,0],[58,1,60,1],[58,2,60,2],[58,3,60,3],[58,5,60,5],[51,0,52,0],[51,1,52,1],[51,2,52,2],[51,3,52,3],[51,5,52,5],[53,0,55,0],[53,1,55,1],[53,2,55,2],[53,3,55,3],[53,5,55,5],[41,0,45,0],[41,1,45,1],[41,2,45,2],[41,3,45,3],[41,5,45,5],[47,0,49,0],[47,1,49,1],[47,2,49,2],[47,3,49,3],[47,5,49,5],[34,0,36,0],[34,1,36,1],[34,2,36,2],[34,3,36,3],[34,5,36,5],[38,0,39,0],[38,1,39,1],[38,2,39,2],[38,3,39,3],[38,5,39,5],[24,0,25,0],[24,1,25,1],[24,2,25,2],[24,3,25,3],[24,5,25,5],[30,0,32,0],[30,1,32,1],[30,2,32,2],[30,3,32,3],[30,5,32,5],[16,0,18,0],[16,1,18,1],[16,2,18,2],[16,3,18,3],[16,5,18,5],[22,0,23,0],[22,1,23,1],[22,2,23,2],[22,3,23,3],[22,5,23,5],[0,0,0,5],[8,0,9,0],[8,1,9,1],[8,2,9,2],[8,3,9,3],[8,5,9,5],[10,0,11,0],[10,1,11,1],[10,2,11,2],[10,3,11,3],[10,4,11,4],[10,5,11,5]]}
["４．都市間バスの運行状況"]
[]
["　都市間バスの運行系統（主なもの）"]
[null,null,null,null,null,"（令和7年3月31日現在）"]
["発　地","着　地","名    称","運行系統\nキロ","事　業　者　名","備　考"]
["札幌","洞爺湖温泉","札幌洞爺湖線",108.3,"道南バス"]
["札幌","岩見沢","高速いわみざわ号",43.2,"北海道中央バス"]
["札幌","登別温泉","高速おんせん号",110.6,"道南バス"]
["札幌","室蘭","高速むろらん号\n高速白鳥号",132.19999999999999,"北海道中央バス"]
[null,null,null,null,"道南バス"]
["札幌","室蘭","高速蘭東ライナー号",131.30000000000001,"道南バス"]
[]
["札幌","留萌","高速るもい号",159.6,"北海道中央バス","深川経由便\n滝川経由便"]
["札幌","留萌","特急ましけ号",133.9,"沿岸バス"]
["札幌","浦河","高速ペガサス号",171.5,"道南バス"]
["札幌","富良野","高速ふらの号",144.4,"北海道中央バス"]
["札幌","旭川","高速あさひかわ号",138.80000000000001,"北海道中央バス"]
[null,null,null,null,"ＪＲ北海道バス"]
[null,null,null,null,"道北バス"]
["札幌","岩内","高速いわない号",97.5,"北海道中央バス"]
["札幌","滝川","高速たきかわ号",91.9,"北海道中央バス"]
["札幌","豊富","特急はぼろ号",301.39999999999998,"沿岸バス","増毛経由便\n羽幌経由便"]
["札幌","稚内","わっかない号",333.1,"宗谷バス"]
[null,null,null,null,"北都交通"]
["札幌","苫小牧","高速とまこまい号\n高速ハスカップ号",69.900000000000006,"北海道中央バス"]
[null,null,null,null,"道南バス"]
["札幌","三笠","高速みかさ号",57,"北海道中央バス"]
["札幌","ニセコ","高速ニセコ号",121.8,"北海道中央バス"]
["札幌","余市","高速よいち号",61.1,"北海道中央バス"]
["札幌","美国","高速しゃこたん号",81.900000000000006,"北海道中央バス"]
["札幌","釧路","スターライト釧路号",312.10000000000002,"北海道中央バス"]
[null,null,null,null,"くしろバス"]
[null,null,null,null,"阿寒バス"]
["札幌","釧路","釧路特急ニュースター号",320.7,"北海道バス"]
["札幌","小樽","高速おたる号",37.200000000000003,"北海道中央バス","円山経由便\n北大経由便\n望洋台経由便"]
[null,null,null,null,"JR北海道バス"]
[]
["札幌","栗山","高速くりやま号",44.1,"北海道中央バス"]
["札幌","名寄","高速なよろ号",204.9,"北海道中央バス"]
[null,null,null,null,"道北バス"]
["札幌","帯広","帯広特急ニュースター号",210.8,"北海道バス"]
["札幌","帯広","ポテトライナー",210.2,"北海道中央バス","直行便\n音更経由便\n芽室経由便"]
[null,null,null,null,"北都交通"]
[null,null,null,null,"ＪＲ北海道バス"]
[null,null,null,null,"十勝バス"]
[null,null,null,null,"拓殖バス"]
["発地","着地","名    称","運行系統\nキロ","事　業　者　名","備　考"]
["札幌","網走","ドリーミント\nオホーツク号",348.3,"北海道中央バス"]
[null,null,null,null,"北見バス"]
[null,null,null,null,"網走バス"]
["札幌","北見","北見特急ニュースター号",319.60000000000002,"北海道バス"]
["札幌","根室","オーロラ号",449.3,"北都交通","直行便\n中標津経由便"]
[null,null,null,null,"根室交通"]
["札幌","函館","高速はこだて号",321.3,"北都交通"]
[null,null,null,null,"北海道中央バス"]
[null,null,null,null,"函館バス"]
["札幌","函館","函館特急ニュースター号",338.5,"北海道バス"]
[]
["札幌","遠軽","高速えんがる号",254.6,"北海道中央バス"]
[null,null,null,null,"北見バス",null,null," "]
[null,null,null,null,"道北バス"]
["札幌","紋別","流氷もんべつ号",279.3,"北海道中央バス"]
[null,null,null,null,"ＪＲ北海道バス"]
[null,null,null,null,"道北バス"]
[null,null,null,null,"北紋バス"]
["札幌","えりも","高速えりも号",215.2,"ＪＲ北海道バス"]
["苫小牧","えりも","特急とまも号",167.8,"ＪＲ北海道バス"]
["札幌","枝幸","特急えさし号（札幌）",299.10000000000002,"宗谷バス"]
["旭川","鬼志別","特急天北号",223.8,"宗谷バス"]
["札幌","知床","イーグルライナー\n札幌知床線",415.1,"斜里バス"]
["旭川","紋別","特急オホーツク号",144.19999999999999,"道北バス"]
["旭川","枝幸","特急えさし号（旭川）",172.6,"宗谷バス"]
[]
["旭川","帯広","ノースライナー",181.4,"道北バス","狩勝峠経由便\n三国峠経由便"]
[null,null,null,null,"拓殖バス"]
[null,null,null,null,"十勝バス"]
["旭川","釧路","サンライズ号",316.8,"道北バス"]
[null,null,null,null,"北見バス"]
[null,null,null,null,"阿寒バス"]
["旭川","新千歳空港","たいせつライナー",173.2,"旭川電気軌道"]
[null,null,null,null,"北都交通"]
["旭川","羽幌","特急あさひかわ号",140.6,"沿岸バス"]
["帯広","新千歳空港","とかちミルキーライナー",174.3,"帯運観光"]
[null,null,null,null,"北都交通"]
["釧路","根室","特急ねむろ号",142.5,"くしろバス"]
[null,null,null,null,"根室交通"]
["室蘭","新千歳空港","高速はやぶさ号",97.4,"道南バス"]
["網走","新千歳空港","千歳オホーツクエクスプレス",358.3,"網走バス"]
["登別温泉","新千歳空港","高速登別温泉エアポート号",76.400000000000006,"道南バス"]
["（注）","１．　北海道運輸局資料による"]
[null,"２．　経由地別の運行がある場合、備考に記載"]

{"sheet":"旅客５","index":5,"n_rows":25,"n_cols":10,"rows_kept":25,"cut":false,"hidden":false,"merged":[[10,0,10,1],[11,0,11,1],[21,1,21,9],[22,1,22,9],[23,1,23,9],[12,0,12,1],[13,0,13,1],[14,0,14,1],[17,1,17,9],[18,1,18,9],[19,1,19,9],[5,0,5,1],[6,0,6,1],[7,0,7,1],[8,0,8,1],[9,0,9,1],[0,0,0,9],[3,2,3,6],[3,7,3,9],[4,2,4,3],[4,5,4,6]]}
["５．主要交通圏別ハイヤー・タクシー事業者数及び車両数"]
[]
[null,null,null,null,null,null,null,null,null,"（令和7年3月31日現在）"]
[null,"区分","事　業　者　数",null,null,null,null,"車　　両　　数"]
["交通圏",null,"法　人",null,"個　人","計",null,"法　人       （Ａ）","個　人      （Ｂ）","計\n（Ｃ）"]
["札幌交通圏",null,-5,347,1057,{"$f":"C6","v":-5},{"$f":"SUM(D6:E6)","v":1404},4951,{"$f":"E6","v":1057},{"$f":"SUM(H6:I6)","v":6008}]
["小樽市",null,null,39,68,null,107,324,68,392]
["函館交通圏",null,-1,61,68,{"$f":"C8","v":-1},129,710,68,778]
["旭川交通圏\n（旭川市）",null,null,38,97,null,135,568,97,665]
["室蘭市",null,null,14,6,null,20,207,6,213]
["苫小牧交通圏",null,-2,28,10,{"$f":"C11","v":-2},38,193,10,203]
["釧路交通圏",null,null,18,32,null,50,359,32,391]
["帯広交通圏",null,-1,26,53,{"$f":"C13","v":-1},79,368,53,421]
["北見交通圏",null,null,29,16,null,45,200,16,216]
["合　　　　　計",null,null,{"$f":"SUM(D6:D14)","v":600},{"$f":"SUM(E6:E14)","v":1407},null,2007,{"$f":"SUM(H6:H14)","v":7880},{"$f":"SUM(I6:I14)","v":1407},{"$f":"SUM(J6:J14)","v":9287}]
[]
["（注）","１．北海道運輸局資料による"]
[null,"２．札幌交通圏は、札幌市、江別市、石狩市（ただし、平成１７年１０月１日に編入\n　　された旧厚田村及び旧浜益村の区域を除く）、北広島市"]
[null,"３．函館交通圏は、函館市（ただし、平成１６年１２月１日に編入された旧南茅部\n　　町の区域を除く）、北斗市、七飯町"]
[null,"４．旭川交通圏は、旭川市、鷹栖町、当麻町、比布町（個人は、旭川市のみ）"]
[null,"５．苫小牧交通圏は、苫小牧市、白老町"]
[null,"６．釧路交通圏は、釧路市（ただし、平成１７年１０月１１日に新設された釧路市に\n　　おける旧釧路市の区域に限る）、釧路町"]
[null,"７．帯広交通圏は、帯広市、音更町、芽室町、幕別町（ただし、平成１８年２月６\n　　日に編入された旧忠類村の区域を除く）、中札内村、更別村、池田町"]
[null,"８．北見交通圏は、北見市（ただし、平成１８年３月５日に新設された北見市にお\n　　ける旧北見市及び旧端野町の区域に限る）"]
[null,"９．（　　　）内は、他交通圏に本社のある事業者で外数"]

{"sheet":"旅客６（１）","index":6,"n_rows":29,"n_cols":23,"rows_kept":29,"cut":false,"hidden":false,"merged":[[19,3,20,5],[19,6,20,6],[19,7,20,9],[19,10,20,10],[17,11,17,13],[17,14,18,14],[22,0,22,1],[24,2,24,22],[19,11,20,13],[19,14,20,14],[19,15,20,17],[19,18,20,18],[19,19,20,21],[19,22,20,22],[19,0,20,1],[19,2,20,2],[15,18,16,18],[15,19,15,21],[15,22,16,22],[17,15,17,17],[17,18,18,18],[17,19,17,21],[17,22,18,22],[17,0,18,1],[17,2,18,2],[17,3,17,5],[17,6,18,6],[17,7,17,9],[17,10,18,10],[15,0,16,1],[15,2,16,2],[15,3,15,5],[15,6,16,6],[15,7,15,9],[15,10,16,10],[15,11,15,13],[15,14,16,14],[15,15,15,17],[11,18,12,18],[11,19,11,21],[11,22,12,22],[13,0,14,1],[13,2,14,2],[13,3,13,5],[13,6,14,6],[13,7,13,9],[13,10,14,10],[13,11,13,13],[13,14,14,14],[13,15,13,17],[13,18,14,18],[13,19,13,21],[13,22,14,22],[11,0,12,1],[11,2,12,2],[11,3,11,5],[11,6,12,6],[11,7,11,9],[11,10,12,10],[11,11,11,13],[11,14,12,14],[11,15,11,17],[7,18,8,18],[7,19,7,21],[7,22,8,22],[9,0,10,1],[9,2,10,2],[9,3,9,5],[9,6,10,6],[9,7,9,9],[9,10,10,10],[9,11,9,13],[9,14,10,14],[9,15,9,17],[9,18,10,18],[9,19,9,21],[9,22,10,22],[7,0,8,1],[7,2,8,2],[7,3,7,5],[7,6,8,6],[7,7,7,9],[7,10,8,10],[7,11,7,13],[7,14,8,14],[7,15,7,17],[0,0,0,22],[4,0,4,1],[4,2,4,5],[4,6,4,9],[4,10,4,13],[4,14,4,17],[4,18,4,21],[4,22,6,22],[5,3,5,5],[5,7,5,9],[5,11,5,13],[5,15,5,17],[5,19,5,21],[6,3,6,5],[6,7,6,9],[6,11,6,13],[6,15,6,17],[6,19,6,21]]}
["６．札幌市における旅客輸送の状況"]
[]
["（１）　機関別輸送人員の推移"]
[]
["区分",null,"市　　　電",null,null,null,"地　下　鉄",null,null,null,"乗合バス",null,null,null,"ハイヤー・タクシー",null,null,null,"合　　　計",null,null,null,"前年度\n対 比\n(％)"]
[null,null,"走行距離","輸送人員",null,null,"走行距離","輸送人員",null,null,"走行距離","輸送人員",null,null,"走行距離","輸送人員",null,null,"走行距離","輸送人員"]
["年度",null,"（千㎞）","（千人）",null,null,"（千㎞）","（千人）",null,null,"（千㎞）","（千人）",null,null,"（千㎞）","（千人）",null,null,"（千㎞）","（千人）"]
["元",null,881,8581,null,null,32896,224323,null,null,48071,108693,null,null,281665,48267,null,null,271744,{"$f":"SUM(D8+H8+L8+P8)","v":389864},null,null,98.134788584201331]
[null,null,null,"（",{"$f":"D8/T8*100","v":2.2010239468122217},"）",null,"（",{"$f":"H8/T8*100","v":57.538782755012008},"）",null,"（",{"$f":"L8/T8*100","v":27.879722159522295},"）",null,"（",{"$f":"P8/T8*100","v":12.380471138653478},"）",null,"（",{"$f":"T8/T8*100","v":100},"）"]
["２",null,874,6325,null,null,33598,162823,null,null,38184,77719,null,null,199088,29169,null,null,273577,{"$f":"SUM(D10+H10+L10+P10)","v":276036},null,null,70.803151868343832]
[null,null,null,"（",{"$f":"D10/T10*100","v":2.2913677926067617},"）",null,"（",{"$f":"H10/T10*100","v":58.98614673448391},"）",null,"（",{"$f":"L10/T10*100","v":28.1553855294237},"）",null,"（",{"$f":"P10/T10*100","v":10.567099943485632},"）",null,"（",{"$f":"T10/T10*100","v":100},"）"]
[3,null,870,6804,null,null,33604,174681,null,null,46215,81800,null,null,192888,30655,null,null,278395,{"$f":"SUM(D12+H12+L12+P12)","v":293940},null,null,106.48611050732512]
[null,null,null,"（",{"$f":"D12/T12*100","v":2.3147581139007962},"）",null,"（",{"$f":"H12/T12*100","v":59.427434170238826},"）",null,"（",{"$f":"L12/T12*100","v":27.828808600394638},"）",null,"（",{"$f":"P12/T12*100","v":10.428999115465741},"）",null,"（",{"$f":"T12/T12*100","v":100},"）"]
[4,null,879,7659,null,null,33620,210560,null,null,34160,89267,null,null,209736,37131,null,null,278395,{"$f":"SUM(D14+H14+L14+P14)","v":344617},null,null,117.24059331836429]
[null,null,null,"（",{"$f":"D14/T14*100","v":2.2224672607561438},"）",null,"（",{"$f":"H14/T14*100","v":61.099713595092517},"）",null,"（",{"$f":"L14/T14*100","v":25.903249114234061},"）",null,"（",{"$f":"P14/T14*100","v":10.774570029917269},"）",null,"（",{"$f":"T14/T14*100","v":100},"）"]
[5,null,887,8845,null,null,33813,218653,null,null,37606,106902,null,null,207390,37401,null,null,279696,{"$f":"SUM(D16+H16+L16+P16)","v":371801},null,null,107.88817730988313]
[null,null,null,"（",{"$f":"D16/T16*100","v":2.3789607881635604},"）",null,"（",{"$f":"H16/T16*100","v":58.809147904389711},"）",null,"（",{"$f":"L16/T16*100","v":28.752477803986544},"）",null,"（",{"$f":"P16/T16*100","v":10.059413503460185},"）",null,"（",{"$f":"T16/T16*100","v":100},"）"]
[6,null,864,9143,null,null,33766,229874,null,null,33585,104067,null,null,203942,34955,null,null,{"$f":"SUM(C18+G18+K18+O18)","v":272157},{"$f":"SUM(D18+H18+L18+P18)","v":378039},null,null,{"$f":"T18/T16*100","v":101.67777924212145}]
[null,null,null,"（",{"$f":"D18/T18*100","v":2.4185335375450681},"）",null,"（",{"$f":"H18/T18*100","v":60.806953779901022},"）",null,"（",{"$f":"L18/T18*100","v":27.528112178902177},"）",null,"（",{"$f":"P18/T18*100","v":9.2464005036517403},"）",null,"（",{"$f":"T18/T18*100","v":100},"）"]
[{"$f":"A18&\"/\"&A8","v":"6/元"},null,{"$f":"C18/C8*100","v":98.070374574347326},{"$f":"D18/D8*100","v":106.54935322223518},null,null,{"$f":"G18/G8*100","v":102.64469844357977},{"$f":"H18/H8*100","v":102.47455677750388},{"$f":"I16/#REF!*100","v":{"$error":"#REF!"}},{"$f":"J16/#REF!*100","v":{"$error":"#REF!"}},{"$f":"K18/K8*100","v":69.865407418193925},{"$f":"L18/L8*100","v":95.743976153018124},{"$f":"M16/#REF!*100","v":{"$error":"#REF!"}},{"$f":"N16/#REF!*100","v":{"$error":"#REF!"}},{"$f":"O18/O8*100","v":72.405872224096001},{"$f":"P18/P8*100","v":72.420079971823398},{"$f":"Q16/#REF!*100","v":{"$error":"#REF!"}},{"$f":"R16/#REF!*100","v":{"$error":"#REF!"}},{"$f":"S18/S8*100","v":100.15198127649552},{"$f":"T18/T8*100","v":96.966891018406415},{"$f":"U14/#REF!*100","v":{"$error":"#REF!"}},{"$f":"V14/#REF!*100","v":{"$error":"#REF!"}}]
[]
[]
["（注）",null,"１．　北海道運輸局資料による"]
[null,null,"２．　市電・地下鉄の走行距離は車両キロを使用"]
[null,null,"３．　乗合バスについては、札幌市を起終点とした通勤圏内（小樽市、岩見沢市、千歳市を円で結ぶ\n　　圏内）の運行系統"]
[null,null,"　　なお、定期観光バスは除く"]
[null,null,"４．　ハイヤー・タクシーについては、札幌交通圏（札幌市、江別市、石狩市、北広島市）の数値"]
[null,null,"５．　（　　　）内は輸送機関別シェア"]
[null,null,{"$f":"\"６．　\"&A20&\"は令和\"&A8&\"年度を１００として表している\"","v":"６．　6/元は令和元年度を１００として表している"}]

{"sheet":"旅客６（２）","index":7,"n_rows":33,"n_cols":36,"rows_kept":33,"cut":false,"hidden":false,"merged":[[31,32,31,34],[32,0,32,1],[29,9,29,13],[29,14,29,16],[29,18,29,22],[29,23,29,25],[30,9,30,13],[30,14,30,16],[30,18,30,22],[30,23,30,25],[28,9,28,13],[28,14,28,16],[28,18,28,22],[28,23,28,25],[31,23,31,26],[26,23,26,25],[26,27,26,31],[26,32,26,34],[27,0,27,4],[27,5,27,7],[27,9,27,13],[27,14,27,16],[27,18,27,22],[27,23,27,25],[26,0,26,4],[26,5,26,7],[26,9,26,13],[26,14,26,16],[26,18,26,22],[27,27,27,31],[27,32,27,34],[24,0,24,8],[24,9,24,17],[24,18,24,26],[24,27,24,35],[25,0,25,4],[25,5,25,8],[25,9,25,13],[25,14,25,17],[25,18,25,22],[25,23,25,26],[25,27,25,31],[25,32,25,35],[18,0,18,5],[18,6,18,15],[18,16,18,25],[18,26,18,35],[20,0,20,1],[16,0,16,5],[16,6,16,15],[16,16,16,25],[16,26,16,35],[17,0,17,5],[17,6,17,15],[17,16,17,25],[17,26,17,35],[14,0,14,5],[14,6,14,15],[14,16,14,25],[14,26,14,35],[15,0,15,5],[15,6,15,15],[15,16,15,25],[15,26,15,35],[11,0,11,5],[11,6,11,15],[11,16,11,25],[11,26,11,35],[12,0,13,1],[12,2,12,5],[12,6,12,15],[12,16,12,25],[12,26,12,35],[13,2,13,5],[13,6,13,15],[13,16,13,25],[13,26,13,35],[7,0,7,5],[7,6,7,15],[7,16,7,25],[7,26,7,35],[8,0,10,5],[8,6,8,15],[8,16,8,25],[8,26,8,35],[9,6,9,15],[9,16,9,25],[9,26,9,35],[10,6,10,15],[10,16,10,25],[10,26,10,35],[4,6,5,15],[4,16,5,25],[4,26,5,35],[6,0,6,5],[6,6,6,15],[6,16,6,25],[6,26,6,35]]}
[]
[]
["（２）　地下鉄の概要"]
[null,null,null,null,null,null,null,null,null,null,null,null,null,null,null,null,null,null,null,null,null,null,null,null,null,null,null,null,null,null,null,null,null,null,null,"（令和7年3月31日現在）"]
[null,null,null,null,null,"区分","南　　　北　　　線",null,null,null,null,null,null,null,null,null,"東　　　西　　　線",null,null,null,null,null,null,null,null,null,"東　　　豊　　　線"]
["項目"]
["方　　式",null,null,null,null,null," 案内軌条式（ゴムタイヤ使用）",null,null,null,null,null,null,null,null,null," 同　　左",null,null,null,null,null,null,null,null,null," 同　　左"]
["起　　点",null,null,null,null,null," 麻　　　 生",null,null,null,null,null,null,null,null,null," 宮　の　沢",null,null,null,null,null,null,null,null,null," 栄　　　 町"]
["主       な       　　経  過  地",null,null,null,null,null," 北３４条、北２４条、さっぽろ駅、",null,null,null,null,null,null,null,null,null," 琴似、円山公園、大通、",null,null,null,null,null,null,null,null,null," 新道東、元町、東区役所前、"]
[null,null,null,null,null,null," 大通、すすきの、中島公園、",null,null,null,null,null,null,null,null,null," 東札幌、白石、大谷地",null,null,null,null,null,null,null,null,null," 北１３条東、大通、学園前、"]
[null,null,null,null,null,null,"平岸、澄川",null,null,null,null,null,null,null,null,null,null,null,null,null,null,null,null,null,null,null," 美園"]
["終　　点",null,null,null,null,null," 真　駒　内",null,null,null,null,null,null,null,null,null," 新さっぽろ",null,null,null,null,null,null,null,null,null," 福　　　 住"]
["構造",null,"地下部",null,null,null," 麻生～平岸",null,null,null,null,null,null,null,null,null," 宮の沢～新さっぽろ",null,null,null,null,null,null,null,null,null," 栄町～福住"]
[null,null,"高架部",null,null,null," 平岸～真駒内",null,null,null,null,null,null,null,null,null," な　　　　し",null,null,null,null,null,null,null,null,null," な　　　　し"]
["キ ロ 程",null,null,null,null,null," １４．３㎞",null,null,null,null,null,null,null,null,null," ２０．１㎞",null,null,null,null,null,null,null,null,null," １３．６㎞"]
["駅　　数",null,null,null,null,null," １６駅",null,null,null,null,null,null,null,null,null," １９駅",null,null,null,null,null,null,null,null,null," １４駅"]
["信号保安設備",null,null,null,null,null," ○自動列車制御装置（ＡＴＣ）",null,null,null,null,null,null,null,null,null," ○自動列車制御装置（ＡＴＣ）",null,null,null,null,null,null,null,null,null," ○自動列車制御装置（ＡＴＣ）"]
["建 設 費",null,null,null,null,null," ８２２億円",null,null,null,null,null,null,null,null,null," ２，８９４億円",null,null,null,null,null,null,null,null,null," ３，３０２億円"]
["車　　両",null,null,null,null,null," １２０両",null,null,null,null,null,null,null,null,null," １６８両",null,null,null,null,null,null,null,null,null," ８０両"]
[]
["（注）",null,null,"１． 北海道運輸局資料による"]
[]
["（３）　札幌市内パークアンドライド駐車場"]
[null,null,null,null,null,null,null,null,null,null,null,null,null,null,null,null,null,null,null,null,null,null,null,null,null,null,null,null,null,null,null,null,null,null,null,"（令和３年１０月現在）"]
["Ｊ　　Ｒ",null,null,null,null,null,null,null,null,"南　北　線",null,null,null,null,null,null,null,null,"東　西　線",null,null,null,null,null,null,null,null,"東　豊　線"]
["駅　名",null,null,null,null,"収容台数",null,null,null,"駅　名",null,null,null,null,"収容台数",null,null,null,"駅　名",null,null,null,null,"収容台数",null,null,null,"駅　名",null,null,null,null,"収容台数"]
["新　川",null,null,null,null,72,null,null,"台","麻　生",null,null,null,null,41,null,null,"台","宮の沢",null,null,null,null,441,null,null,"台","北１３条東",null,null,null,null,13,null,null,"台"]
["新琴似",null,null,null,null,90,null,null,"台","南平岸",null,null,null,null,11,null,null,"台","琴　似",null,null,null,null,67,null,null,"台","東区役所前",null,null,null,null,13,null,null,"台"]
[null,null,null,null,null,null,null,null,null,"澄　川",null,null,null,null,197,null,null,"台","二十四軒",null,null,null,null,258,null,null,"台"]
[null,null,null,null,null,null,null,null,null,"自衛隊前",null,null,null,null,128,null,null,"台","大谷地",null,null,null,null,424,null,null,"台"]
[null,null,null,null,null,null,null,null,null,"真駒内",null,null,null,null,150,null,null,"台","新札幌",null,null,null,null,427,null,null,"台"]
[null,null,null,null,null,null,null,null,null,null,null,null,null,null,null,null,null,null,null,null,null,null,null,"合　　計",null,null,null,"　２６カ所",null,null,null,null,{"$f":"F27+F28+O27+O28+O29+O30+O31+X27+X28+X29+X30+X31+AG27+AG28","v":2332},null,null,"台"]
["（注）",null,null,"札幌市資料による"]

{"sheet":"旅客７","index":8,"n_rows":97,"n_cols":29,"rows_kept":97,"cut":false,"hidden":false,"merged":[[96,0,97,9],[96,10,97,18],[96,19,97,20],[96,21,97,29],[92,10,93,16],[92,17,92,18],[92,19,93,20],[92,21,92,24],[92,25,93,27],[92,28,93,29],[93,17,93,18],[93,21,93,24],[94,1,95,9],[94,10,95,18],[94,19,95,20],[94,21,95,29],[88,10,89,18],[88,19,89,20],[88,21,89,29],[90,0,95,0],[90,1,91,1],[90,2,91,2],[90,3,91,3],[90,4,91,7],[90,8,91,8],[90,9,91,9],[90,10,91,16],[90,17,90,18],[90,19,91,20],[90,21,90,24],[90,25,91,27],[90,28,91,29],[91,17,91,18],[91,21,91,24],[92,1,93,1],[92,2,93,2],[92,3,93,3],[92,4,93,7],[92,8,93,8],[92,9,93,9],[84,25,85,27],[84,28,85,29],[85,17,85,18],[85,21,85,24],[86,2,87,2],[86,3,87,3],[86,4,87,7],[86,8,87,8],[86,9,87,9],[86,10,87,16],[86,17,86,18],[86,19,87,20],[86,21,86,24],[86,25,87,27],[86,28,87,29],[87,17,87,18],[87,21,87,24],[83,19,83,20],[83,21,83,24],[84,1,87,1],[84,2,85,2],[84,3,85,3],[84,4,85,7],[84,8,85,8],[84,9,85,9],[84,10,85,16],[84,17,84,18],[84,19,85,20],[84,21,84,24],[77,2,78,9],[77,10,78,18],[77,19,78,20],[77,21,78,29],[79,1,80,9],[79,10,80,18],[79,19,80,20],[79,21,80,29],[81,0,89,0],[81,1,83,1],[81,2,83,2],[81,3,83,3],[81,4,83,7],[81,8,83,8],[88,1,89,9],[81,9,83,9],[81,10,83,16],[81,17,83,18],[81,19,81,20],[81,21,81,24],[81,25,83,27],[81,28,83,29],[82,19,82,20],[82,21,82,24],[73,25,74,27],[73,28,74,29],[74,17,74,18],[74,21,74,24],[75,2,76,2],[75,3,76,3],[75,4,76,7],[75,8,76,8],[75,9,76,9],[75,10,76,16],[75,17,75,18],[75,19,76,20],[75,21,75,24],[75,25,76,27],[75,28,76,29],[76,17,76,18],[76,21,76,24],[73,2,74,2],[73,3,74,3],[73,4,74,7],[73,8,74,8],[73,9,74,9],[73,10,74,16],[73,17,73,18],[73,19,74,20],[73,21,73,24],[68,25,69,27],[68,28,69,29],[69,17,69,18],[69,21,69,24],[70,2,72,2],[70,3,72,3],[70,4,72,7],[70,8,72,8],[70,9,72,9],[70,10,72,16],[70,17,72,18],[70,19,72,20],[70,21,70,24],[70,25,72,27],[70,28,72,29],[71,21,71,24],[72,21,72,24],[68,2,69,2],[68,3,69,3],[68,4,69,7],[68,8,69,8],[68,9,69,9],[68,10,69,16],[68,17,68,18],[68,19,69,20],[68,21,68,24],[64,25,65,27],[64,28,65,29],[65,17,65,18],[65,21,65,24],[66,2,67,2],[66,3,67,3],[66,4,66,7],[66,8,67,8],[66,9,67,9],[66,10,67,16],[66,17,66,18],[66,19,67,20],[66,21,66,24],[66,25,67,27],[66,28,67,29],[67,4,67,7],[67,17,67,18],[67,21,67,24],[64,2,65,2],[64,3,65,3],[64,4,65,7],[64,8,65,8],[64,9,65,9],[64,10,65,16],[64,17,64,18],[64,19,65,20],[64,21,64,24],[62,4,63,7],[62,8,63,8],[62,9,63,9],[62,10,63,16],[62,17,62,18],[62,19,63,20],[62,21,62,24],[62,25,63,27],[62,28,63,29],[63,17,63,18],[63,21,63,24],[60,9,61,9],[60,10,61,16],[60,17,60,18],[60,19,61,20],[60,21,60,24],[60,25,61,27],[60,28,61,29],[61,4,61,7],[61,17,61,18],[61,21,61,24],[58,9,59,9],[58,10,59,16],[58,17,58,18],[58,19,59,20],[58,21,58,24],[58,25,59,27],[58,28,59,29],[59,17,59,18],[59,21,59,24],[56,9,57,9],[56,10,57,16],[56,17,56,18],[56,19,57,20],[56,21,56,24],[56,25,57,27],[56,28,57,29],[57,17,57,18],[57,21,57,24],[54,9,55,9],[54,10,55,16],[54,17,54,18],[54,19,55,20],[54,21,54,24],[54,25,55,27],[54,28,55,29],[55,17,55,18],[55,21,55,24],[52,9,53,9],[52,10,53,16],[52,17,52,18],[52,19,53,20],[52,21,52,24],[52,25,53,27],[52,28,53,29],[53,17,53,18],[53,21,53,24],[52,0,80,0],[52,1,78,1],[52,2,53,2],[52,3,53,3],[52,4,53,7],[52,8,53,8],[56,2,57,2],[56,3,57,3],[56,4,57,7],[56,8,57,8],[54,2,55,2],[54,3,55,3],[54,4,55,7],[54,8,55,8],[58,2,59,2],[58,3,59,3],[58,4,59,7],[58,8,59,8],[60,2,61,2],[60,3,61,3],[60,4,60,7],[60,8,61,8],[62,2,63,2],[62,3,63,3],[45,25,46,27],[45,28,46,29],[46,4,46,7],[46,17,46,18],[46,21,46,24],[47,2,48,9],[47,19,48,20],[47,21,48,29],[50,0,51,1],[50,2,51,8],[50,9,51,20],[50,21,51,24],[50,25,51,27],[50,28,51,29],[12,0,48,0],[45,2,46,2],[45,3,46,3],[45,4,45,7],[45,8,46,8],[45,9,46,9],[45,10,46,16],[45,17,45,18],[45,19,46,20],[45,21,45,24],[40,25,41,27],[40,28,41,29],[41,17,41,18],[41,21,41,24],[42,2,44,2],[42,3,44,3],[42,4,44,7],[42,8,44,8],[42,9,44,9],[42,10,44,16],[42,17,44,18],[42,19,44,20],[42,21,42,24],[42,25,44,27],[42,28,44,29],[43,21,43,24],[44,21,44,24],[40,2,41,2],[40,3,41,3],[40,4,41,7],[40,8,41,8],[40,9,41,9],[40,10,41,16],[40,17,40,18],[40,19,41,20],[40,21,40,24],[34,25,36,27],[34,28,36,29],[35,17,35,18],[35,21,35,24],[36,17,36,18],[36,21,36,24],[37,2,39,2],[37,3,39,3],[37,4,39,7],[37,8,39,8],[37,9,39,9],[37,10,39,16],[37,17,37,18],[37,19,39,20],[37,21,37,24],[37,25,39,27],[37,28,39,29],[38,17,38,18],[38,21,38,24],[39,17,39,18],[39,21,39,24],[34,2,36,2],[34,3,36,3],[34,4,36,7],[34,8,36,8],[34,9,36,9],[34,10,36,16],[34,17,34,18],[34,19,36,20],[34,21,34,24],[30,25,31,27],[30,21,30,24],[30,28,31,29],[31,17,31,18],[31,21,31,24],[32,2,33,2],[32,3,33,3],[32,4,33,7],[32,8,33,8],[32,9,33,9],[32,10,33,16],[32,17,32,18],[32,19,33,20],[32,21,32,24],[32,25,33,27],[32,28,33,29],[33,17,33,18],[33,21,33,24],[30,2,31,2],[30,3,31,3],[30,4,31,7],[30,8,31,8],[30,9,31,9],[30,10,31,16],[30,17,30,18],[30,19,31,20],[26,25,27,27],[26,28,27,29],[27,17,27,18],[27,21,27,24],[28,2,29,2],[28,3,29,3],[28,4,28,7],[28,8,29,8],[28,9,29,9],[28,10,29,16],[28,17,28,18],[28,19,29,20],[28,21,28,24],[28,25,29,27],[28,28,29,29],[29,4,29,7],[29,17,29,18],[29,21,29,24],[26,2,27,2],[26,3,27,3],[26,4,27,7],[26,8,27,8],[26,9,27,9],[26,10,27,16],[26,17,26,18],[26,19,27,20],[26,21,26,24],[22,25,23,27],[22,28,23,29],[23,17,23,18],[23,21,23,24],[24,2,25,2],[24,3,25,3],[24,4,25,7],[24,8,25,8],[24,9,25,9],[24,10,25,16],[24,17,24,18],[24,19,25,20],[24,21,24,24],[24,25,25,27],[24,28,25,29],[25,17,25,18],[25,21,25,24],[22,2,23,2],[22,3,23,3],[22,4,23,7],[22,8,23,8],[22,9,23,9],[22,10,23,16],[22,17,22,18],[22,19,23,20],[22,21,22,24],[18,25,19,27],[18,28,19,29],[19,17,19,18],[19,21,19,24],[20,25,21,27],[20,28,21,29],[20,2,21,2],[20,3,21,3],[20,4,21,7],[20,8,21,8],[20,9,21,9],[20,10,21,16],[20,17,20,18],[20,19,21,20],[20,21,20,24],[21,17,21,18],[21,21,21,24],[18,2,19,2],[18,3,19,3],[18,4,19,7],[18,8,19,8],[18,9,19,9],[18,10,19,16],[18,17,18,18],[18,19,19,20],[18,21,18,24],[14,25,15,27],[14,28,15,29],[15,17,15,18],[15,21,15,24],[16,9,17,9],[16,10,17,16],[16,17,16,18],[16,19,17,20],[16,21,16,24],[16,25,17,27],[16,28,17,29],[17,17,17,18],[17,21,17,24],[13,17,13,18],[13,21,13,24],[14,2,15,2],[14,3,15,3],[14,4,15,7],[14,8,15,8],[14,9,15,9],[14,10,15,16],[14,17,14,18],[14,19,15,20],[14,21,14,24],[10,0,11,1],[10,2,11,8],[10,9,11,20],[10,21,11,24],[10,25,11,27],[10,28,11,29],[7,0,7,9],[12,1,48,1],[12,2,13,2],[12,3,13,3],[12,4,12,7],[12,8,13,8],[16,2,17,2],[16,3,17,3],[16,4,17,7],[16,8,17,8],[12,9,13,9],[12,10,13,16],[12,17,12,18],[12,19,13,20],[12,21,12,24],[12,25,13,27],[12,28,13,29],[13,4,13,7],[7,10,7,11],[7,12,7,14],[7,15,7,16],[7,17,7,19],[7,20,7,21],[5,27,5,29],[6,22,6,24],[6,25,6,26],[6,27,6,29],[7,22,7,24],[7,25,7,26],[7,27,7,29],[5,0,5,9],[5,10,5,11],[5,12,5,14],[5,15,5,16],[5,17,5,19],[5,20,5,21],[5,22,5,24],[5,25,5,26],[6,0,6,9],[6,10,6,11],[6,12,6,14],[6,15,6,16],[6,17,6,19],[6,20,6,21],[4,0,4,9],[4,10,4,11],[4,12,4,14],[4,15,4,16],[4,17,4,19],[4,20,4,21],[4,22,4,24],[4,25,4,26],[4,27,4,29],[0,0,0,29],[2,0,2,9],[2,10,2,14],[2,15,2,19],[2,20,2,24],[2,25,2,29],[3,0,3,9],[3,10,3,11],[3,12,3,14],[3,15,3,16],[3,17,3,19],[3,20,3,21],[3,22,3,24],[3,25,3,26],[3,27,3,29]]}
["７．バス専用、優先レーン等の設置状況"]
[null,null,null,null,null,null,null,null,null,null,null,null,null,null,null,null,null,null,null,null,null,null,null,null,null,null,null,null,"（令和7年3月31日現在）"]
["　　　　　　　　　　　　　　　　　　　　　　　区分",null,null,null,null,null,null,null,null,null,"バス専用通行帯",null,null,null,null,"バス優先通行帯",null,null,null,null,"バス等専用道路",null,null,null,null,"計"]
["　　都市別",null,null,null,null,null,null,null,null,null,"区　間",null,"距離（ｍ）",null,null,"区　間",null,"距離（ｍ）",null,null,"区　間",null,"距離（ｍ）",null,null,"区　　間",null,"距　離　（ｍ）"]
["札　　　　　幌　　　　　市",null,null,null,null,null,null,null,null,null,16,null,53225,null,null,12,null,30930,null,null,null,null,null,null,null,{"$f":"SUM(K5+P5+T5)","v":28},null,{"$f":"SUM(M5+R5+W5)","v":84155}]
["函　　館　　市　　・　　北　　斗　　市",null,null,null,null,null,null,null,null,null,2,null,1400,null,null,2,null,5200,null,null,null,null,null,null,null,{"$f":"SUM(K6+P6+T6)","v":4},null,{"$f":"SUM(M6+R6+W6)","v":6600}]
["旭　　　　　川　　　　　市",null,null,null,null,null,null,null,null,null,1,null,1300,null,null,1,null,1300,null,null,null,null,null,null,null,{"$f":"SUM(K7+P7+T7)","v":2},null,{"$f":"SUM(M7+R7+W7)","v":2600}]
["計",null,null,null,null,null,null,null,null,null,{"$f":"SUM(K5:L7)","v":19},null,{"$f":"SUM(M5:O7)","v":55925},null,null,{"$f":"SUM(P5:P7)","v":15},null,{"$f":"SUM(R5:T7)","v":37430},null,null,null,null,null,null,null,{"$f":"SUM(Z5:AA7)","v":34},null,{"$f":"SUM(AB5:AD7)","v":93355}]
[]
["【バス専用・優先通行帯】"]
[null,null,"路　　　　　　　線",null,null,null,null,null,null,"区　　　間　　　距　　　離　　　（ｍ）",null,null,null,null,null,null,null,null,null,null,null,"規　制　時　間",null,null,null,"指　　定　　車",null,null,"実施年月日"]
[]
["札　　　　　　　幌　　　　　　　市","専　　　　　　　用","１",null,"国道５号",null,null,null,null,"１","手稲区手稲本町２条２丁目\n～中央区北１条西２５丁目",null,null,null,null,null,null,"都心流入",null,9180,null,"７：３０～９：００",null,null,null,"バス・自二輪\n実車のハイタク",null,null,"５５．１０．　６\n［変更］\n　１．１１．１５"]
[null,null,null,null,"道道宮の沢北１条線",null,null,null,null,null,null,null,null,null,null,null,null,"１車線",null,null,null,"（日、休日除く）"]
[null,null,"２",null,"国道１２号",null,null,null,null,"２","厚別区厚別中央２条２丁目\n～中央区北１条西２丁目",null,null,null,null,null,null,"都心流入",null,10120,null,"７：３０～９：００",null,null,null,"バス・自二輪\n実車のハイタク",null,null,"５０．　９．　１\n［変更］\n　１．１１．１５\n　６．　８．２４"]
[null,null,null,null,null,null,null,null,null,null,null,null,null,null,null,null,null,"１車線",null,null,null,"（土、日、休日除く）"]
[null,null,"３",null,"国道３６号",null,null,null,null,"３","清田区真栄１条１丁目\n～豊平区月寒中央通１１丁目",null,null,null,null,null,null,"都心流入",null,4600,null,"７：３０～９：００",null,null,null,"バス・自二輪\n実車のハイタク",null,null,"５３．１１．２４\n［変更］\n　６．　９．２８"]
[null,null,null,null,null,null,null,null,null,null,null,null,null,null,null,null,null,"１車線",null,null,null,"（土、日、休日除く）"]
[null,null,null,null,null,null,null,null,null,"４","豊平区月寒中央通１０丁目\n～中央区南４条西２丁目",null,null,null,null,null,null,"都心流入",null,5710,null,"７：３０～９：００",null,null,null,"バス・自二輪",null,null,"５２．　５．　２\n［変更］\n５３．１１．２４\n　７．１１．２９"]
[null,null,null,null,null,null,null,null,null,null,null,null,null,null,null,null,null,"１車線",null,null,null,"（土、日、休日除く）"]
[null,null,"４",null,"国道２３０号",null,null,null,null,"５","中央区南３０条西１１丁目\n～中央区大通西１１丁目",null,null,null,null,null,null,"都心流入",null,4500,null,"７：３０～９：００",null,null,null,"バス・自二輪\n実車のハイタク",null,null,"５２．　５．　２\n［変更］\n５８．　９．　２\n　６．　５．２５"]
[null,null,null,null,null,null,null,null,null,null,null,null,null,null,null,null,null,"１車線",null,null,null,"（土、日、休日除く）"]
[null,null,"５",null,"国道２３１号",null,null,null,null,"６","北区篠路２条１丁目\n～東区北４９条東２丁目",null,null,null,null,null,null,"都心流入",null,2900,null,"７：３０～９：００",null,null,null,"バス・自二輪",null,null,"　６．　８．２４"]
[null,null,null,null,null,null,null,null,null,null,null,null,null,null,null,null,null,"１車線",null,null,null,"（土、日、休日除く）"]
[null,null,"６",null,"国道５号",null,null,null,null,"７","東区北１１条東１丁目\n～中央区北１条東１丁目",null,null,null,null,null,null,"都心流入",null,1490,null,"７：３０～９：００",null,null,null,"バス・自二輪",null,null,"５０．　９．　１\n［変更］\n５８．　４．２７\n　６．１１．　２"]
[null,null,null,null,null,null,null,null,null,null,null,null,null,null,null,null,null,"１車線",null,null,null,"（土、日、休日除く）"]
[null,null,"７",null,"道道西野白石線",null,null,null,null,"８","西区西野２条２丁目\n～中央区北５条西２９丁目",null,null,null,null,null,null,"都心流入",null,2880,null,"７：３０～９：００",null,null,null,"バス・自二輪\n実車のハイタク",null,null,"５２．　５．　２\n［変更］\n平１．１１．１５\n令６． ７．２９"]
[null,null,null,null,null,null,null,null,null,null,null,null,null,null,null,null,null,"１車線",null,null,null,"（土、日、休日除く）"]
[null,null,"８",null,"道道樽川篠路線",null,null,null,null,"９","北区新琴似８条１６丁目\n～北区麻生町５丁目",null,null,null,null,null,null,"都心流入",null,3150,null,"７：３０～９：００",null,null,null,"バス・自二輪\n実車のハイタク",null,null,"５５．１０．　６\n［変更］\n６０．　６．　５\n　６．　８．２４"]
[null,null,null,null,"市道手稲新琴似線",null,null,null,null,null,null,null,null,null,null,null,null,"１車線",null,null,null,"（土、日、休日除く）"]
[null,null,"９",null,"道道札幌環状線",null,null,null,null,"１０","北区北２３条西１４丁目\n～北区北２４条西６丁目",null,null,null,null,null,null,"都心流入",null,1200,null,"７：３０～９：００",null,null,null,"バス・自二輪\n実車のハイタク",null,null,"５６．１０．１９"]
[null,null,null,null,null,null,null,null,null,null,null,null,null,null,null,null,null,"１車線",null,null,null,"（日、休日除く）"]
[null,null,"１０",null,"市道新川線",null,null,null,null,"１１","北区北２４条西１９丁目\n～北区北２３条西１４丁目",null,null,null,null,null,null,"都心流入",null,800,null,"７：３０～９：００",null,null,null,"バス・自二輪\n実車のハイタク",null,null,"５６．１０．１９"]
[null,null,null,null,null,null,null,null,null,null,null,null,null,null,null,null,null,"１車線",null,null,null,"（日、休日除く）"]
[null,null,"１１",null,"市道西２丁目線",null,null,null,null,"１２","中央区北４条西１丁目\n～中央区南４条西１丁目",null,null,null,null,null,null,"南方向",null,1140,null,"７：３０～９：３０",null,null,null,"バス・自二輪\n実車のハイタク",null,null,"４８．１０．　１\n［変更］\n　１．　４．１９"]
[null,null,null,null,null,null,null,null,null,null,null,null,null,null,null,null,null,"１～２",null,null,null,"１６：３０～１８：３０"]
[null,null,null,null,null,null,null,null,null,null,null,null,null,null,null,null,null,"車線",null,null,null,"（日、休日除く）"]
[null,null,"１２",null,"市道西３丁目線",null,null,null,null,"１３","中央区南４条西３丁目\n～中央区北３条西３丁目",null,null,null,null,null,null,"北方向",null,940,null,"７：３０～９：３０",null,null,null,"バス・自二輪\n実車のハイタク",null,null,"４８．１０．　１\n［変更］\n平１.　５．２４\n令５． ７．２０"]
[null,null,null,null,null,null,null,null,null,null,null,null,null,null,null,null,null,"１～２",null,null,null,"１６：３０～１８：３０"]
[null,null,null,null,null,null,null,null,null,null,null,null,null,null,null,null,null,"車線",null,null,null,"（日、休日除く）"]
[null,null,"１３",null,"市道苗穂三角街道線",null,null,null,null,"１４","東区東苗穂５条３丁目\n～東区東苗穂１条３丁目",null,null,null,null,null,null,"都心流入",null,1900,null,"７：３０～９：００",null,null,null,"バス・自二輪\n実車のハイタク",null,null,"　６．　８．２４"]
[null,null,null,null,null,null,null,null,null,null,null,null,null,null,null,null,null,"１車線",null,null,null,"（土、日、休日除く）"]
[null,null,"１４",null,"市道福住中央線",null,null,null,null,"１５","豊平区福住２条１丁目１\n～豊平区福住２条１丁目２",null,null,null,null,null,null,"南方向\n　１車線",null,130,null,"７：００～９：００",null,null,null,"バス・自二輪",null,null,"　６．　９．２８"]
[null,null,null,null,null,null,null,null,null,null,null,null,null,null,null,null,null,null,null,null,null,"１６：００～１９：００"]
[null,null,null,null,null,null,null,null,null,null,null,null,null,null,null,null,null,null,null,null,null,"（土、日、休日除く）"]
[null,null,"１５",null,"国道２３０号",null,null,null,null,"１６","中央区北１条西２４丁目243-1\n～中央区北１条西４丁目2-2",null,null,null,null,null,null,"東進",null,2585,null,"７：３０～９：００",null,null,null,"バス・自二輪\n実車のハイタク",null,null,"１０．１０．　７\n［変更］\n１８．　１．１８"]
[null,null,null,null,"道道宮の沢北１条線",null,null,null,null,null,null,null,null,null,null,null,null,"１車線",null,null,null,"（日、休日除く）"]
[null,null,"計",null,null,null,null,null,null,null,"１５路線　　　１６区間",null,null,null,null,null,null,null,null,{"$f":"SUM(T13:U47)","v":53225}]
[]
[]
[null,null,"路　　　　　　　線",null,null,null,null,null,null,"区　　　間　　　距　　　離　　　（ｍ）",null,null,null,null,null,null,null,null,null,null,null,"規　制　時　間",null,null,null,"指　　定　　車",null,null,"実施年月日"]
[]
["札　　　　幌　　　　市","優　　　　　　　先","１６",null,"国道１２号",null,null,null,null,"１７","厚別区厚別東４条４丁目\n～厚別区厚別中央２条２丁目",null,null,null,null,null,null,"都心流入",null,3000,null,"７：３０～９：００",null,null,null,"バス",null,null,"　６．　８．２４"]
[null,null,null,null,null,null,null,null,null,null,null,null,null,null,null,null,null,"１車線",null,null,null,"（土、日、休日除く）"]
[null,null,"１７",null,"国道３６号",null,null,null,null,"１８","清田区美しが丘１条９丁目\n～清田区真栄１条２丁目",null,null,null,null,null,null,"都心流入",null,3000,null,"７：３０～９：００",null,null,null,"バス",null,null,"　６．　９．２８"]
[null,null,null,null,null,null,null,null,null,null,null,null,null,null,null,null,null,"１車線",null,null,null,"（土、日、休日除く）"]
[null,null,"１８",null,"国道２３１号",null,null,null,null,"１９","北区篠路１０条１丁目\n～北区篠路２条１丁目",null,null,null,null,null,null,"都心流入",null,1400,null,"７：３０～９：００",null,null,null,"バス",null,null,"　６．　８．２４"]
[null,null,null,null,null,null,null,null,null,null,null,null,null,null,null,null,null,"１車線",null,null,null,"（土、日、休日除く）"]
[null,null,"１９",null,"道道樽川篠路線",null,null,null,null,"２０","石狩市花川南８条３丁目\n～北区新琴似８条１６丁目",null,null,null,null,null,null,"都心流入",null,2200,null,"７：３０～９：００",null,null,null,"バス",null,null,"　６．　８．２４"]
[null,null,null,null,null,null,null,null,null,null,null,null,null,null,null,null,null,"１車線",null,null,null,"（土、日、休日除く）"]
[null,null,"２０",null,"道道真駒内御料",null,null,null,null,"２１","清田区平岡９条１丁目\n～清田区平岡１条１丁目",null,null,null,null,null,null,"南方向",null,2650,null,"７：３０～９：００",null,null,null,"バス",null,null,"　６．　９．２８"]
[null,null,null,null,"札幌線",null,null,null,null,null,null,null,null,null,null,null,null,"１車線",null,null,null,"（土、日、休日除く）"]
[null,null,null,null,null,null,null,null,null,"２２","清田区清田１条４丁目\n～清田区北野７条５丁目",null,null,null,null,null,null,"北方向",null,2650,null,"７：３０～９：００",null,null,null,"バス",null,null,"　６．　９．２８"]
[null,null,null,null,null,null,null,null,null,null,null,null,null,null,null,null,null,"１車線",null,null,null,"（土、日、休日除く）"]
[null,null,"２１",null,"道道札幌環状線",null,null,null,null,"２３","東区本町２条９丁目\n～東区北１４条東１５丁目",null,null,null,null,null,null,"南方向",null,2100,null,"７：３０～９：００",null,null,null,"バス",null,null,"　６．　９．２８"]
[null,null,null,null,null,null,null,null,null,null,null,null,null,null,null,null,null,"１車線",null,null,null,"（土、日、休日除く）"]
[null,null,"２２",null,"道道札幌環状線",null,null,null,null,"２４","北区篠路７条５丁目\n～中央区北３条東７丁目",null,null,null,null,null,null,"都心流入",null,9500,null,"７：３０～９：００",null,null,null,"バス",null,null,"５０．　９．　１\n［変更］\n　６．　８．２４"]
[null,null,null,null,"市道真駒内篠路線",null,null,null,null,null,null,null,null,null,null,null,null,"１車線",null,null,null,"（土、日、休日除く）"]
[null,null,"２３",null,"市道苗穂三角街道線",null,null,null,null,"２５","東区東苗穂８条３丁目\n～東区東苗穂６条３丁目",null,null,null,null,null,null,"都心流入",null,1000,null,"７：３０～９：００",null,null,null,"バス",null,null,"　６．　８．２４"]
[null,null,null,null,null,null,null,null,null,null,null,null,null,null,null,null,null,"１車線",null,null,null,"（土、日、休日除く）"]
[null,null,"２４",null,"市道福住中央線",null,null,null,null,"２６","豊平区福住１条１丁目５\n～豊平区福住１条１丁目３",null,null,null,null,null,null,"北方向\n　１車線",null,130,null,"７：００～９：００",null,null,null,"バス",null,null,"　６．　９．２８"]
[null,null,null,null,null,null,null,null,null,null,null,null,null,null,null,null,null,null,null,null,null,"１６：００～１９：００"]
[null,null,null,null,null,null,null,null,null,null,null,null,null,null,null,null,null,null,null,null,null,"（土、日、休日除く）"]
[null,null,"２５",null,"市道北３条線",null,null,null,null,"２７","中央区北２条東１３丁目\n～中央区北２条東３丁目",null,null,null,null,null,null,"都心流入",null,1500,null,"７：３０～９：００",null,null,null,"バス",null,null,"５０．　９．　１\n［変更］\n令６． ５．２８"]
[null,null,null,null,null,null,null,null,null,null,null,null,null,null,null,null,null,"１車線",null,null,null,"（日、休日除く）"]
[null,null,"２６",null,"市道北５条線",null,null,null,null,"２８","中央区北５条西２０丁目\n～中央区北５条西５丁目",null,null,null,null,null,null,"都心流入",null,1800,null,"７：３０～９：００",null,null,null,"バス",null,null,"５２．　５．　２\n［変更］\n６３．　４．２７"]
[null,null,null,null,null,null,null,null,null,null,null,null,null,null,null,null,null,"１車線",null,null,null,"（日、休日除く）"]
[null,null,"計",null,null,null,null,null,null,null,"１１路線　　　１２区間",null,null,null,null,null,null,null,null,{"$f":"SUM(T53:U77)","v":30930}]
[]
[null,"小　　　　　　　　計",null,null,null,null,null,null,null,null,"２６路線　　　２８区間",null,null,null,null,null,null,null,null,{"$f":"SUM(T78+T48)","v":84155}]
[]
["函館市・北斗市","専用","２７",null,"国道２７８号",null,null,null,null,"２９　　３０","函館市松風町１２番\n～函館市大森町３３番\nの両方向",null,null,null,null,null,null,"上下とも　　１車線",null,700,null,"７：３０～９：００",null,null,null,"路線バス\n通学通園バス\n二輪",null,null,"５２．１１．　１\n［変更］\n令４．１１．３０"]
[null,null,null,null,null,null,null,null,null,null,null,null,null,null,null,null,null,null,null,null,null,"１７：００～１８：３０"]
[null,null,null,null,null,null,null,null,null,null,null,null,null,null,null,null,null,null,null,700,null,"（日、休日除く）"]
[null,"優先","２８",null,"国道５号",null,null,null,null,"３１","函館市亀田本町５５番８号\n～函館市万代町８番１０号",null,null,null,null,null,null,"都心流入",null,1500,null,"７：３０～９：００",null,null,null,"バス・二輪\n軽車両",null,null,"５６．１２．　９"]
[null,null,null,null,null,null,null,null,null,null,null,null,null,null,null,null,null,"１車線",null,null,null,"（日、休日除く）"]
[null,null,"２９",null,"国道２２７号",null,null,null,null,"３２","北斗市七重浜２丁目\n～函館市吉川町５番１１号",null,null,null,null,null,null,"都心流入",null,3700,null,"７：３０～９：００",null,null,null,"バス・二輪\n軽車両",null,null,"５１．　９．　１"]
[null,null,null,null,null,null,null,null,null,null,null,null,null,null,null,null,null,"１車線",null,null,null,"（日、休日除く）"]
[null,"小　　　　　　　　計",null,null,null,null,null,null,null,null,"３路線　　　４区間",null,null,null,null,null,null,null,null,{"$f":"SUM(T82:U88)","v":6600}]
[]
["旭川市","専用","３０",null,"国道３９号",null,null,null,null,"３３","４条通１９丁目～４条通９丁目",null,null,null,null,null,null,"南側",null,1300,null,"７：３０～９：００",null,null,null,"バス・二輪\n軽車両",null,null,"５３．　７．１９"]
[null,null,null,null,null,null,null,null,null,null,null,null,null,null,null,null,null,"１車線",null,null,null,"（日、休日除く）"]
[null,"優先","３１",null,"市道４条通線",null,null,null,null,"３４","豊岡４条２丁目～４条通１９丁目",null,null,null,null,null,null,"都心流入",null,1300,null,"７：３０～９：００",null,null,null,"バス・二輪\n軽車両",null,null,"５３．　５．　４"]
[null,null,null,null,null,null,null,null,null,null,null,null,null,null,null,null,null,"１車線",null,null,null,"（日、休日除く）"]
[null,"小　　　　　　　　計",null,null,null,null,null,null,null,null,"２路線　　　２区間",null,null,null,null,null,null,null,null,{"$f":"SUM(T91:U94)","v":2600}]
[]
["合　　　　　　　　計",null,null,null,null,null,null,null,null,null,"３１路線　　　３４区間",null,null,null,null,null,null,null,null,{"$f":"SUM(T95+T89+T80)","v":93355}]

{"sheet":"旅客８","index":9,"n_rows":20,"n_cols":26,"rows_kept":20,"cut":false,"hidden":false,"merged":[[10,0,10,1],[11,0,11,1],[12,0,12,1],[13,0,13,1],[16,0,16,1],[9,0,9,1],[0,0,0,13],[3,12,3,13],[3,24,3,25],[4,1,5,1],[4,2,4,4],[4,20,4,22],[4,5,4,7],[4,8,4,10],[4,11,4,13],[4,14,4,16],[4,17,4,19],[4,23,4,25],[5,0,6,0],[7,0,7,1],[8,0,8,1]]}
["８．支局別乗合バス路線キロの推移"]
[]
[]
[null,null,null,null,null,null,null,null,null,null,null,null,null,null,null,null,null,null,null,null,null,null,null,null,"（単位 ： ㎞）"]
[null,"項 目","札　　幌",null,null,"函　　館",null,null,"旭　　川",null,null,"室　　蘭",null,null,"釧　　路",null,null,"帯　　広",null,null,"北　　見",null,null,"合　　計"]
["年 度",null,"認可","廃止","路線","認可","廃止","路線","認可","廃止","路線","認可","廃止","路線","認可","廃止","路線","認可","廃止","路線","認可","廃止","路線","認可","廃止","路線"]
[null,null,"キロ","キロ","キロ","キロ","キロ","キロ","キロ","キロ","キロ","キロ","キロ","キロ","キロ","キロ","キロ","キロ","キロ","キロ","キロ","キロ","キロ","キロ","キロ","キロ"]
["元",null,69.16,195.19,10308.449999999999,118.22,35.75,2497.9399999999996,53.54,128.4,5288.8700000000008,5.01,0.83,2014.42,10.48,51.21,4504.7,116.8,9.3800000000000008,2892.6899999999996,298.83,4.3499999999999996,3174.24,672.04,425.11,30681.309999999998]
[2,null,147.27000000000001,47.1,10408.619999999999,298.02999999999997,29.85,2766.1199999999994,55.68,593.79999999999995,4750.7500000000009,23.99,27.7,2010.71,214.31,245.91,4473.1000000000004,100.85,9.5,2984.0399999999995,0,0,3174.24,840.13,953.86,30567.579999999994]
[3,null,17,79,10346.619999999999,72,59,2779.1199999999994,19,61,4708.7500000000009,104,43,2071.71,5,23,4455.1000000000004,94,6,3072.0399999999995,308,0,3482.24,619,271,30915.579999999994]
[4,null,94.99,25.42,10416.19,20.54,74.08,2725.5799999999995,18.57,9.61,4717.7100000000009,137.97,36.9,2172.7799999999997,5.44,3.69,4456.8500000000004,0.57999999999999996,0.3,3072.3199999999993,107.28,9.74,3579.78,385.37,159.74,31141.21]
[5,null,47,387,10076.19,34,200,2559.5799999999995,73,49,4741.7100000000009,3,10,2165.7799999999997,40,10,4486.8500000000004,9,96,2985.3199999999993,11,22,3568.78,217,774,30584]
[6,null,26.346,207.98599999999999,{"$f":"E12+C13-D13","v":9894.5499999999993},30.83,36.106000000000002,{"$f":"H12+F13-G13","v":2554.3039999999992},32.17,16.512,{"$f":"K12+I13-J13","v":4757.3680000000013},8.2259999999999991,100.477,{"$f":"N12+L13-M13","v":2073.529},34.14,175.74100000000001,{"$f":"Q12+O13-P13","v":4345.2490000000007},0,54.485999999999997,{"$f":"T12+R13-S13","v":2930.8339999999994},65.904000000000011,17.84,{"$f":"W12+U13-V13","v":3616.8440000000001},{"$f":"SUM(C13,F13,I13,L13,O13,R13,U13)","v":197.61599999999999},{"$f":"SUM(D13,G13,J13,M13,P13,S13,V13)","v":609.14800000000002},{"$f":"SUM(E13,H13,K13,N13,Q13,T13,W13)","v":30172.678}]
[{"$f":"A13&\"/\"&A8","v":"6/元"},null,{"$f":"C13/C8*100","v":38.094274146905725},106.55566371228034,95.984847382487175,26.078497716122484,100.99580419580421,102.25641928949454,60.085917071348526,12.859813084112147,89.950556546105318,164.19161676646706,12105.662650602409,102.93429374211931,325.76335877862596,343.1771138449522,96.460341421182335,0,580.87420042643907,101.31863421244584,22.054010641501861,410.1149425287357,113.9436211502596,29.405392536158558,143.2918538731152,98.342208986513285]
[]
[]
["（注）",null,"１．　北海道運輸局資料による"]
[null,null,"２．　路線キロは各年３月３１日現在"]
[null,null,"３．　合計欄は四捨五入のため、内訳と必ずしも一致しない"]
[null,null,{"$f":"\"４．　\"&A13&\"/\"&A8&\"は令和\"&A8&\"年度を１００として表している\"","v":"４．　6/元は令和元年度を１００として表している"}]

{"sheet":"旅客９（１）","index":10,"n_rows":25,"n_cols":32,"rows_kept":25,"cut":false,"hidden":false,"merged":[[24,3,25,31],[19,7,19,9],[19,10,19,18],[21,0,21,1],[21,3,21,31],[22,3,22,31],[23,3,23,31],[12,0,12,3],[12,4,12,6],[12,7,12,18],[12,19,13,31],[13,0,13,3],[13,4,19,6],[13,7,13,18],[14,0,19,3],[14,7,15,18],[14,19,19,31],[16,7,16,9],[16,10,16,18],[17,7,17,9],[17,10,17,18],[18,7,18,9],[18,10,18,18],[10,0,11,3],[10,4,10,6],[10,7,11,18],[10,19,11,31],[11,4,11,6],[0,0,0,31],[3,1,3,31],[5,2,5,31],[6,2,6,31],[7,2,7,30]]}
["９．地方バス路線維持費補助制度"]
[]
["（１）生活交通路線維持に係る補助"]
[null,"　存続が危機に瀕している生活交通のネットワークについて、地域のニーズを踏まえた最適な交通手段であるバス交通、デマンド交通の確保維持のため、地域の多様な関係者による議論を経た地域の交通に関する計画等に基づき実施される取組みを支援"]
[]
[null,"○","地域間幹線系統（複数市町村にまたがり、１日の輸送量が１５～１５０人、１日の運行回数が３回以上、広域行政圏の中心都市等にアクセスする広域的・幹線的な系統）に係る補助"]
[null,"○","地域内フィーダー系統（地域間幹線又は地域間交通ネットワークと接続する系統）に係る補助"]
[null,"○","国は乗合バス事業者及び自家用有償旅客運送者に対して補助対象経費の１／２を補助"]
[]
[null,null,null,null,null,null,null,null,null,null,null,null,null,null,null,null,null,null,null,null,null,null,null,null,null,null,null,null,null,null,null,"（令和7年3月31日現在）"]
["区　　　　　分",null,null,null,"補助対象事",null,null,"補助対象経費",null,null,null,null,null,null,null,null,null,null,null,"備　　　　　　　　　考"]
[null,null,null,null,"業者の要件"]
["地域間幹線系統確保維持費補助",null,null,null,"乗合バス\n事業者",null,null,"補助対象経常費用と経常収益の差額（補助対象路線ごと）ただし、補助対象経常費用の９／２０を限度"]
["地域内フィーダー系統確保維持費補助",null,null,null,"乗合バス\n事業者\n\n及び\n\n自家用\n有償旅客\n運送者",null,null,"補助対象経常費用と経常収益の差額（補助対象路線ごと）"]
["車両減価償却費\n等補助",null,null,null,null,null,null,"補助対象期間中に新たに購入等を行い、主として生活交通路線の運行の用に供する車両購入に係る減価償却費及び当該購入に係る金融費用（年2.5％を上限）に相当する額",null,null,null,null,null,null,null,null,null,null,null,"\n〔車両の種別〕\n\n・地上から車両の床面までの地上高が６５㎝以下の車両（「都市間連絡用車両」は除く）\n\n・ノンステップ型車両は、原則として、標準仕様ノンステップバス認定要領(平成22年6月4日付け国自技第49号)に基づく認定を受けた車両に限る\n\n・定員11人以上の車両"]
[]
[null,null,null,null,null,null,null,"ﾜﾝｽﾃｯﾌﾟ型",null,null,"（1両当たりの補助限度額：1,300万円）　　　　　　　　　　　　　　　　　　　　　　　　　　　　　　　　　　　　　　　　　　　　　　　　　　　　　　　　　　（スロープもしくはリフト付き）"]
[null,null,null,null,null,null,null,"ﾉﾝｽﾃｯﾌﾟ型",null,null,"（1両当たりの補助限度額：1,500万円）                                                                                                                      （スロープもしくはリフト付き）"]
[null,null,null,null,null,null,null,"小型車両",null,null,"（1両当たりの補助限度額：1,200万円） 　　　　　　　　　　　　　　　　　　　　　　　　　　　　　　　　　　　　　　　　　　　　　　　　　　　　　　　　　　　　　　　（上記類型に属さない、長さ７ｍ以下　　　　　　　　　かつ定員２９人以下の車両）                                                                                                                          "]
[null,null,null,null,null,null,null,"都市間連絡用車両",null,null,"（1両当たりの補助限度額：1,500万円）\n（運行区間の一部に高速道路等を含む補助対象系統の運行の用に供するものであって、保安基準に適合した車両）"]
[]
["（注）",null,"１．","　地域間幹線系統確保維持費補助における「補助対象経常費用」とは、地域キロ当たり標準経常費用と乗合バス事業者キロ当たり経常費用と比較し、いずれか少ない方の額に、補助対象系統の計画実車走行キロ数を乗じて得た額"]
[null,null,"２．","　地域内フィーダー系統確保維持費補助における「補助対象経常費用」とは、路線を定める系統にあっては、地域キロ当たり標準経常費用と補助対象事業者キロ当たり経常費用と比較し、いずれか少ない方の額に、補助対象系統の実車走行キロ数を乗じて得た額、路線を定めるもの以外の系統にあっては、地域時間当たり標準経常費用と補助対象事業者時間当たり経常費用と比較し、いずれか少ない方の額に、補助対象系統のサービス提供時間を乗じて得た額"]
[null,null,"３．","　地域間交通ネットワークとは、地域間幹線バス系統、鉄軌道路線、内航旅客船航路及び国内定期航空路"]
[null,null,"４．","　車両減価償却費等補助は、上記限度額に満たない場合、限度額は実費購入予定費（消費税を除く）から備忘価額として１円を控除した額"]

{"sheet":"旅客９（２）","index":11,"n_rows":42,"n_cols":24,"rows_kept":42,"cut":false,"hidden":false,"merged":[[30,0,30,2],[20,0,23,1],[20,2,21,2],[22,2,23,2],[24,0,27,1],[24,2,25,2],[26,2,27,2],[16,0,19,1],[16,2,17,2],[18,2,19,2],[28,0,28,2],[29,0,29,2],[8,0,11,1],[8,2,9,2],[10,2,11,2],[12,0,15,1],[12,2,13,2],[14,2,15,2],[1,0,1,8],[3,0,3,2],[4,0,7,1],[4,2,5,2],[6,2,7,2]]}
[]
["（２）地方バス路線等に対する補助金交付状況"]
[null,null,null,null,null,null,null,null,"（単位：千円）",null,null,null,"減価償却"]
["項　　　目",null,null,"元","２",3,4,5,6,null,null,null,null,"事業者数","車両数","金額"]
["車両減価\n償却費等\n（国庫）補助金",null,"国","18社49両","19社45両","5社25両","25社48両","25社47両",{"$f":"N7&\"社\"&O7&\"両\"","v":"25社42両"},null,null,null,"フィーダー",20,25,11979]
[null,null,null,54682,54318,34183,41352,35740,{"$f":"P7","v":28306},null,null,null,"幹線",5,17,16327]
[null,null,"道","2社5両","3社5両","4社5両","4社5両","3社5両","3社5両",null,null,null,"計",{"$f":"N5+N6","v":25},{"$f":"O5+O6","v":42},{"$f":"P5+P6","v":28306}]
[null,null,null,7423,5927,8005,7806,5171,5977]
["地域間幹線系統確保維持費（国庫）補助金",null,"国","25社160系統","23社147系統","23社144系統","24社143系統","24社144系統","24社144系統"]
[null,null,null,1254635,1297669,1392577,1279583,1079017,1116984]
[null,null,"道","25社160系統","23社147系統","23社144系統","24社143系統","24社144系統","26社144系統"]
[null,null,null,1254656,1187267,1386072,1279624,1079032,1116998]
["地域内ﾌｨｰﾀﾞｰ系統確保維持費国庫補助金",null,"国","77社212系統","76社246系統","82社261系統","87社284系統","91社260系統","94社251系統"]
[null,null,null,304065,347719,371983,278919,246638,289425]
[null,null,"道",null,null,null,null,"-","-"]
[null,null,null,null,null,null,null,"-","-",null,null,null,null," "]
["広域生活交通\n路線維持費\n補助金（※）",null,"国",null,null,null,null,"-","-"]
[null,null,null,null,null,null,null,"-","-"]
[null,null,"道","13社48系統","12社42系統","13社42系統","13社47系統","12社45系統","12社39系統"]
[null,null,null,112358,102871,115386,126753,125240,99714]
["広域生活バス\n路線運行維持\n対策事業費\n補助金",null,"国",null,null,null,null,"-","-"]
[null,null,null,null,null,null,null,"-","-"]
[null,null,"道",null,"14社5市町村54系統","15社６市町村58系統","17社7市町村57系統","-","-"]
[null,null,null,null,62413,66955,49813,"-","-"]
["市町村生活バス\n路線運行費\n補助金",null,"国",null,null,null,null,"-","-"]
[null,null,null,null,null,null,null,"-","-"]
[null,null,"道","11市町村4社","11市町村4社","11市町村3社","10市町村4社","11市町村3社","13市町村3社"]
[null,null,null,24532,22305,21629,22357,22230,23938]
["道内合計",null,null,3012351,3018076,3329835,3036394,2593068,{"$f":"I6+I8+I10+I12+I14+I20+I28","v":2681342},null,null,null,"全国国庫補助金（内訳）"]
["（内国庫補助計）",null,null,1613382,1699706,1798743,1599854,1361395,{"$f":"I6+I10+I14","v":1434715},null,null,null,"フィーダー運行費",{"$f":"V41","v":4013299},"千円",null,null,null,null,null,null,"フィーダー運行費（千円）","同減価償却費等（千円）","公有民営（千円）"]
["全国国庫補助金",null,null,13206493,16645690,12589644,14649557,12445422,{"$f":"N36","v":13774854.300000001},null,null,null,"同減価償却費等",{"$f":"W42","v":201294},"千円",null,null,null,null,null,"北海道",289425,11979,0]
["（※）","広域生活バス路線運行維持対策事業費補助金は、令和２年度から令和４年度まで実施",null,null,null,null,null,null,null,null,null,null,"幹線運行費（一般）",8004672,"千円",null,null,null,null,null,"東北",526580,12121,0]
[null,null,null,null,null,null,null,null,null,null,null,null,"同減価償却費（一般）",1425782.3,"千円",null,null,null,null,null,"北信",467691,21589,30000]
[null,null,null,null,null,null,null,null,null,null,null,null,"幹線運行費（復興）",129807,"千円",null,null,null,null,null,"関東",607313,17224,0]
[null,null,null,null,null,null,null,null,null,null,null,null,"幹線運行費（補正）",0,"千円",null,null,null,null,null,"中部",494182,28752,4990]
[null,null,null,null,null,null,null,null,null,null,null,null,null,{"$f":"N30+N31+N32+N33+N34+N35","v":13774854.300000001},null,null,null,null,null,null,"近畿",435332,27890,1104]
[null,null,null,null,null,null,null,null,null,null,null,null,null,null,null,null,null,null,null,null,"中国",250286,10631,3750]
[null,null,null,null,null,null,null,null,null,null,null,null,null,null,null,null,null,null,null,null,"四国",213590,4365,0]
[null,null,null,null,null,null,null,null,null,null,null,null,null,null,null,null,null,null,null,null,"九州",692746,13934,12389]
[null,null,null,null,null,null,null,null,null,null,null,null,null,null,null,null,null,null,null,null,"沖縄",36154,576,0]
[null,null,null,null,null,null,null,null,null,null,null,null,null,null,null,null,null,null,null,null,"計",{"$f":"SUM(V31:V40)","v":4013299},{"$f":"SUM(W31:W40)","v":149061},{"$f":"SUM(X31:X40)","v":52233}]
[null,null,null,null,null,null,null,null,null,null,null,null,null,null,null,null,null,null,null,null,null,null,{"$f":"W41+X41","v":201294}]

{"sheet":"旅客９（３）","index":12,"n_rows":3,"n_cols":14,"rows_kept":3,"cut":false,"hidden":false,"merged":[[1,0,1,8]]}
[]
["（３）市町村での地域公共交通計画作成状況一覧"]
[null,null,null,null,null,null,null,null,null,null,null,null,null,"（令和7年3月31日現在）"]

{"sheet":"旅客１０","index":13,"n_rows":46,"n_cols":6,"rows_kept":46,"cut":false,"hidden":false,"merged":[[44,0,44,1],[45,0,45,1],[39,0,39,1],[40,0,40,1],[41,0,41,1],[42,0,42,1],[43,0,43,1],[33,0,33,1],[37,2,38,2],[37,3,38,3],[37,4,38,4],[37,5,38,5],[28,0,28,1],[29,0,29,1],[30,0,30,1],[31,0,31,1],[32,0,32,1],[22,0,22,1],[26,2,27,2],[26,3,27,3],[26,4,27,4],[26,5,27,5],[17,0,17,1],[18,0,18,1],[19,0,19,1],[20,0,20,1],[21,0,21,1],[11,0,11,1],[15,2,16,2],[15,3,16,3],[15,4,16,4],[15,5,16,5],[6,0,6,1],[7,0,7,1],[8,0,8,1],[9,0,9,1],[10,0,10,1],[0,0,0,5],[4,2,5,2],[4,3,5,3],[4,4,5,4],[4,5,5,5]]}
["１０．索道事業の推移"]
[]
["（１）　事　業　者　数"]
[]
[null,"区分","普通索道","特殊索道","合　　計","前年度対比　（％）"]
["年度"]
["元",null,18,95,113,100]
[2,null,18,93,111,98.230088495575217]
[3,null,18,92,110,99.099099099099092]
[4,null,18,91,109,99.090909090909093]
[5,null,18,89,107,98.2]
[6,null,18,89,{"$f":"SUM(C12:D12)","v":107},{"$f":"E12/E11*100","v":100}]
[]
["（２）　索　　道　　数"]
[]
[null,"区分","普通索道","特殊索道","合　　計","前年度対比　（％）"]
["年度"]
[{"$f":"$A$7","v":"元"},null,33,293,326,98.787878787878796]
[{"$f":"$A$8","v":2},null,32,290,322,98.773006134969322]
[{"$f":"$A$9","v":3},null,32,289,321,99.689440993788821]
[{"$f":"$A$10","v":4},null,32,282,314,97.819314641744555]
[{"$f":"$A$11","v":5},null,33,280,313,99.681528662420376]
[{"$f":"$A$12","v":6},null,33,279,{"$f":"SUM(C23:D23)","v":312},{"$f":"E23/E22*100","v":99.680511182108617}]
[]
["（３）　キ　　ロ　　数"]
[]
[null,"区分","普通索道","特殊索道","合　　計","前年度対比　（％）"]
["年度"]
[{"$f":"$A$7","v":"元"},null,59.3,202.8,262.10000000000002,98.98036253776435]
[{"$f":"$A$8","v":2},null,57.6,201,258.60000000000002,98.664631819916053]
[{"$f":"$A$9","v":3},null,57.6,199,256.60000000000002,99.226604795050264]
[{"$f":"$A$10","v":4},null,57.6,195,252.6,98.441153546375673]
[{"$f":"$A$11","v":5},null,57.6,193.7,251.29999999999998,99.485352335708626]
[{"$f":"$A$12","v":6},null,57.6,192,{"$f":"C34+D34","v":249.6},{"$f":"E34/E33*100","v":99.323517707918825}]
[]
["（４）　輸　送　人　員"]
[null,null,null,null,null,"（ 単 位 ： 千 人 ）"]
[null,"区分","普通索道","特殊索道","合　　計","前年度対比　（％）"]
["年度"]
[{"$f":"$A$7","v":"元"},null,8643,32484,41127,88.42614491507203]
[{"$f":"$A$8","v":2},null,3530,24931,28461,69.202713545845796]
[{"$f":"$A$9","v":3},null,4117,26535,30652,107.69825375074664]
[{"$f":"$A$10","v":4},null,7458,34194,41652,135.88672843533865]
[{"$f":"$A$11","v":5},null,9495,35995,45490,109.21444348410641]
[{"$f":"$A$12","v":6},null,12126,39902,{"$f":"C45+D45","v":52028},{"$f":"E45/E44*100","v":114.3723895361618}]
["（注）",null,"１． 北海道運輸局資料による"]

{"sheet":"旅客１１（１）（２）","index":14,"n_rows":45,"n_cols":30,"rows_kept":45,"cut":false,"hidden":false,"merged":[[37,19,37,22],[37,23,37,29],[39,0,39,1],[36,19,36,22],[36,23,36,24],[36,26,36,28],[37,0,37,2],[37,3,37,4],[37,5,37,6],[37,7,37,8],[37,9,37,10],[37,12,37,14],[37,16,37,18],[36,0,36,2],[36,5,36,6],[36,7,36,8],[36,9,36,10],[36,12,36,14],[36,16,36,18],[35,0,35,2],[35,5,35,6],[35,7,35,8],[35,9,35,10],[35,12,35,14],[35,16,35,18],[35,19,35,22],[35,23,35,24],[35,26,35,28],[34,0,34,2],[34,5,34,6],[34,7,34,8],[34,9,34,10],[34,12,34,14],[34,16,34,18],[34,19,34,22],[34,23,34,24],[34,26,34,28],[33,0,33,2],[33,5,33,6],[33,7,33,8],[33,9,33,10],[33,12,33,14],[33,16,33,18],[33,19,33,22],[33,23,33,24],[33,26,33,28],[32,0,32,2],[32,5,32,6],[32,7,32,8],[32,9,32,10],[32,12,32,14],[32,16,32,18],[32,19,32,22],[32,23,32,24],[32,26,32,28],[31,0,31,2],[31,5,31,6],[31,7,31,8],[31,9,31,10],[31,12,31,14],[31,16,31,18],[31,19,31,22],[31,23,31,24],[31,26,31,28],[17,22,17,23],[17,24,17,26],[17,27,17,29],[19,0,19,1],[28,1,28,2],[28,3,30,4],[28,5,30,6],[28,7,30,8],[28,9,28,29],[29,9,30,15],[29,16,30,18],[29,19,30,22],[29,23,30,29],[30,0,30,1],[17,0,17,3],[17,4,17,5],[17,6,17,7],[17,8,17,9],[17,10,17,12],[17,13,17,15],[17,16,17,17],[17,18,17,19],[17,20,17,21],[15,22,15,23],[15,24,15,26],[15,27,15,29],[16,0,16,3],[16,4,16,5],[16,6,16,7],[16,8,16,9],[16,10,16,12],[16,13,16,15],[16,16,16,17],[16,18,16,19],[16,20,16,21],[16,22,16,23],[16,24,16,26],[16,27,16,29],[15,0,15,3],[15,4,15,5],[15,6,15,7],[15,8,15,9],[15,10,15,12],[15,13,15,15],[15,16,15,17],[15,18,15,19],[15,20,15,21],[13,22,13,23],[13,24,13,26],[13,27,13,29],[14,0,14,3],[14,4,14,5],[14,6,14,7],[14,8,14,9],[14,10,14,12],[14,13,14,15],[14,16,14,17],[14,18,14,19],[14,20,14,21],[14,22,14,23],[14,24,14,26],[14,27,14,29],[13,0,13,3],[13,4,13,5],[13,6,13,7],[13,8,13,9],[13,10,13,12],[13,13,13,15],[13,16,13,17],[13,18,13,19],[13,20,13,21],[11,22,11,23],[11,24,11,26],[11,27,11,29],[12,0,12,3],[12,4,12,5],[12,6,12,7],[12,8,12,9],[12,10,12,12],[12,13,12,15],[12,16,12,17],[12,18,12,19],[12,20,12,21],[12,22,12,23],[12,24,12,26],[12,27,12,29],[11,0,11,3],[11,4,11,5],[11,6,11,7],[11,8,11,9],[11,10,11,12],[11,13,11,15],[11,16,11,17],[11,18,11,19],[11,20,11,21],[9,22,9,23],[9,24,9,26],[9,27,9,29],[10,0,10,3],[10,4,10,5],[10,6,10,7],[10,8,10,9],[10,10,10,12],[10,13,10,15],[10,16,10,17],[10,18,10,19],[10,20,10,21],[10,22,10,23],[10,24,10,26],[10,27,10,29],[9,0,9,3],[9,4,9,5],[9,6,9,7],[9,8,9,9],[9,10,9,12],[9,13,9,15],[9,16,9,17],[9,18,9,19],[9,20,9,21],[0,0,0,29],[3,1,3,3],[3,4,3,12],[3,13,3,21],[3,22,3,29],[4,0,7,3],[4,4,8,5],[4,6,8,7],[4,8,8,9],[4,10,8,12],[4,13,8,15],[4,16,8,17],[4,18,8,19],[4,20,8,21],[4,22,8,23],[4,24,8,26],[4,27,8,29],[8,0,8,2]]}
["１１．旅 客 航 路 事 業"]
["（１）　支局別旅客航路事業者数等"]
[null,null,null,null,null,null,null,null,null,null,null,null,null,null,null,null,null,null,null,null,null,null,null,null,null,null,null,null,null,"（令和7年3月31日現在)"]
[null,"区　分",null,null,"事　　業　　者　　数",null,null,null,null,null,null,null,null,"航　　路　　数",null,null,null,null,null,null,null,null,"船　舶　数"]
[null,null,null,null,"法人",null,"地方公共団体",null,"個人",null,"計",null,null,"一般旅客定期航路",null,null,"特定旅客定期航路",null,"旅客不定期航路",null,"計",null,"カーフェリー",null,"一般旅客船",null,null,"計"]
[]
[]
[]
["支局別"]
["本　　　局",null,null,null,"6(2)",null,"-",null,"-",null,"6(2)",null,null,3,null,null,"-",null,8,null,{"$f":"SUM(N10:T10)","v":11},null,0,null,12,null,null,{"$f":"SUM(W10:AA10)","v":12}]
["函　　　館",null,null,null,"6(1)",null,"-",null,"-",null,"6(1)",null,null,6,null,null,"-",null,4,null,10,null,10,null,6,null,null,16]
["室　　　蘭",null,null,null,"3(1)",null,"-",null,"-",null,"3(1)",null,null,2,null,null,"-",null,5,null,7,null,1,null,5,null,null,6]
["苫小牧（海事事務所）",null,null,null,1,null,"-",null,"-",null,1,null,null,0,null,null,"-",null,1,null,1,null,0,null,2,null,null,2]
["釧　　　路",null,null,null,"8(2)",null,"-",null,1,null,"9(2)",null,null,2,null,null,"-",null,17,null,19,null,0,null,19,null,null,19]
["旭　　　川",null,null,null,3,null,"-",null,"-",null,3,null,null,2,null,null,"-",null,1,null,3,null,4,null,2,null,null,6]
["帯　　　広",null,null,null,1,null,"-",null,"-",null,1,null,null,0,null,null,"-",null,1,null,1,null,0,null,2,null,null,2]
["北　　　見",null,null,null,5,null,"-",null,"-",null,5,null,null,0,null,null,"-",null,12,null,12,null,0,null,11,null,null,11]
["計",null,null,null,"32(6)",null,{"$f":"SUM(G10:H17)","v":0},null,{"$f":"SUM(I10:J17)","v":1},null,"33(6)",null,null,{"$f":"SUM(N10:N17)","v":15},null,null,{"$f":"SUM(Q10:Q17)","v":0},null,{"$f":"SUM(S10:S17)","v":49},null,{"$f":"SUM(U10:U17)","v":64},null,14,null,55,null,null,69]
[]
["（注）",null,"１．　北海道運輸局資料による"]
[null,null,"２．　北海道運輸局管轄の事業者を計上"]
[null,null,"３．　航路を管轄する支局別に計上"]
[null,null,"４．　事業者数の（　　）は一般旅客定期・旅客不定期航路事業の兼業事業者の内数"]
[null,null,"５．　事業者数、船舶数の支局別の合計と計欄の数字は重複があるため一致しない"]
[]
[]
["（２）　旅客航路事業の推移"]
[null,null,null,null,null,null,null,null,null,null,null,null,null,null,null,null,null,null,null,null,null,null,null,null,null,null,null,null,null,"（令和7年3月31日現在)"]
[null,"区分",null,"事業者数",null,"航路数",null,"船舶数",null,"輸　　送　　人　　員　　（千　人）"]
[null,null,null,null,null,null,null,null,null,"一般旅客定期　　　　　　　　（ フェリー ）",null,null,null,null,null,null,"旅客不定期",null,null,"合　　　　計",null,null,null,"前年度対比 （％）"]
["年度"]
["元",null,null,37,-6,68,null,72,null,1469,null,"（",1320,null,null,"）",821,null,null,{"$f":"J32+Q32","v":2290},null,null,null,95.6,null,"（",99.5,null,null,"）"]
[2,null,null,37,-6,68,null,73,null,723,null,"（",672,null,null,"）",244,null,null,967,null,null,null,{"$f":"T33/T32*100","v":42.227074235807862},null,"（",{"$f":"M33/M32*100","v":50.909090909090907},null,null,"）"]
[3,null,null,37,-6,68,null,72,null,774,null,"(",729,null,null,")",258,null,null,1032,null,null,null,{"$f":"T34/T33*100","v":106.72182006204758},null,"（",{"$f":"M34/M33*100","v":108.48214285714286},null,null,"）"]
[4,null,null,34,-6,66,null,68,null,1106,null,"(",1031,null,null,")",470,null,null,1576,null,null,null,{"$f":"T35/T34*100","v":152.71317829457365},null,"（",{"$f":"M35/M34*100","v":141.42661179698217},null,null,"）"]
[5,null,null,32,-6,64,null,69,null,1280,null,"(",1158,null,null,")",706,null,null,1986,null,null,null,{"$f":"T36/T35*100","v":126.01522842639594},null,"（",{"$f":"M36/M35*100","v":112.31813773035888},null,null,"）"]
[6,null,null,33,-6,64,null,64,null,1327,null,"(",1195,null,null,")",768,null,null,2095,null,null,null,{"$f":"T37/T36*100","v":105.48841893252769},null,"（",{"$f":"M37/M36*100","v":103.19516407599309},null,null,"）"]
[{"$f":"A37&\"/\"&A32","v":"6/元"},null,null,{"$f":"D37/D32*100","v":89.189189189189193},null,{"$f":"F37/F32*100","v":94.117647058823522},null,{"$f":"H37/H32*100","v":88.888888888888886},null,{"$f":"J37/J32*100","v":90.333560245064675},null,"（",{"$f":"M37/M32*100","v":90.530303030303031},null,null,"）",{"$f":"Q37/Q32*100","v":93.544457978075513},null,null,{"$f":"T37/T32*100","v":91.484716157205241}]
[]
["（注）",null,"１．　北海道運輸局資料による"]
[null,null,"２．　フェリーは定期の内数"]
[null,null,"３．　輸送人員は、北海道運輸局管轄事業者のみの合計"]
[null,null,"４．　輸送人員の前年度対比との（　　）はフェリーの対比"]
[null,null,"５．　一般旅客定期・旅客不定期航路の兼業事業者数を（　）内に記載"]
[null,null,{"$f":"\"６．　\"&A37&\"／\"&A32&\"は令和\"&A32&\"年度を１００と表している\"","v":"６．　6／元は令和元年度を１００と表している"}]

{"sheet":"旅客１１（３）（４）","index":15,"n_rows":35,"n_cols":27,"rows_kept":35,"cut":false,"hidden":false,"merged":[[34,0,34,1],[34,2,34,14],[4,0,9,0],[4,1,9,1],[30,0,30,1],[31,0,31,1],[32,0,32,1],[29,0,29,1],[17,0,17,1],[17,2,17,14],[18,2,18,14],[19,2,19,14],[20,2,20,17],[21,2,21,17],[25,0,26,0],[25,1,26,1],[25,2,25,26],[27,0,27,1],[28,0,28,1],[4,2,9,2],[4,3,9,3],[4,4,9,4],[4,5,4,14],[5,14,9,14]]}
[]
[]
["（３）　航路別旅客輸送人員の推移"]
[null,null,null,null,null,null,null,null,null,null,null,null,null,null,"（単位:千人）"]
["年度","区分","沿　岸\n　　・　\n港　内\n　　・\n通　船　","湖　沼","離　島","北　　　海　　　道　　　～　　　本　　　州　　　間　　フェリー"]
[null,null,null,null,null,"苫小牧","苫小牧","函　館","函　館","室蘭","小　樽","苫小牧","苫小牧","室蘭","計"]
[null,null,null,null,null,null,"～"]
[null,null,null,null,null,"～","仙　台","～","～","～","～","～","～","～"]
[null,null,null,null,null,null,"～"]
[null,null,null,null,null,"八　戸","名古屋","大　間","青　森","青森","舞　鶴","敦　賀","大　洗","宮古"]
["元",null,526,444,565,339,187,116,638,"-",211,155,165,38,1811]
[2,null,165,130,253,204,96,51,366,"-",106,76,97,17,1013]
[3,null,193,109,260,232,113,56,412,"-",123,88,114,16,1154]
[4,null,304,240,388,295,157,91,551,"-",175,120,154,0,1543]
[5,null,390,430,445,334,184,105,611,8,208,132,169,0,1751]
[6,null,408,439,457,332,194,111,604,30,219,147,171,0,{"$f":"SUM(F16:N16)","v":1808}]
[]
["（注）",null,"１．　北海道運輸局資料による"]
[null,null,"２．　小樽～舞鶴は、小樽～新潟、小樽～敦賀を含む"]
[null,null,"３．　苫小牧～敦賀は、苫小牧～秋田、苫小牧～新潟、苫小牧～舞鶴を含む"]
[null,null,"４．　室蘭～宮古は、平成３０年６月より運航開始、令和２年４月より八戸～宮古休止、令和４年２月より室蘭～八戸休止"]
[null,null,"５．　室蘭～青森は、令和５年１０月より運航開始。"]
[]
["（４）　クルーズ客船寄港実績の推移"]
[null,null,null,null,null,null,null,null,null,null,null,null,null,null,null,null,null,null,null,null,null,null,null,null,null,null,"（単位:回）"]
["年度","港名","北海道"]
[null,null,"小樽","函館","室蘭","釧路","網走","羅臼","沓形","香深","稚内","根室","十勝","浦河","岩内","奥尻","留萌","苫小牧","江差","ウトロ","白老","鴛泊","青苗","神威脇",null,null,"計"]
[{"$f":"$A$11","v":"元"},null,29,47,5,15,2,5,8,5,3,1,1,1,1,1,1,5,null,null,null,null,null,null,null,null,130]
[{"$f":"$A$12","v":2},null,null,null,null,null,null,null,null,null,null,null,null,null,null,null,null,null,null,null,null,null,null,null,null,null,0]
[{"$f":"$A$13","v":3},null,null,1,1,null,null,null,null,null,null,null,null,null,null,null,null,null,null,null,null,null,null,null,null,null,2]
[{"$f":"$A$14","v":4},null,6,9,3,2,null,4,4,null,1,null,null,null,null,null,null,null,null,null,2,null,null,null,null,null,31]
[{"$f":"$A$15","v":5},null,22,48,13,12,1,5,8,null,2,2,null,null,null,2,null,2,null,null,1,1,1,1,null,null,121]
[{"$f":"$A$16","v":6},null,32,58,7,14,null,4,4,2,5,null,null,null,null,null,null,2,null,null,null,null,1,2,null,null,{"$f":"SUM(C33:Z33)","v":131}]
[]
["（注）",null,"１．　北海道運輸局資料による"]

{"sheet":"旅客１２（１）","index":16,"n_rows":17,"n_cols":41,"rows_kept":17,"cut":false,"hidden":false,"merged":[[12,0,12,1],[13,0,13,1],[13,2,13,4],[13,5,13,7],[13,8,13,10],[13,11,13,13],[13,32,13,34],[13,35,13,37],[13,38,13,40],[13,14,13,16],[13,17,13,19],[13,20,13,22],[13,23,13,25],[13,26,13,28],[13,29,13,31],[11,26,11,28],[11,29,11,31],[11,32,11,34],[11,35,11,37],[11,38,11,40],[10,0,10,1],[10,2,10,4],[10,5,10,7],[10,8,10,10],[10,11,10,13],[11,0,11,1],[11,2,11,4],[11,5,11,7],[11,8,11,10],[11,11,11,13],[11,14,11,16],[11,17,11,19],[11,20,11,22],[11,23,11,25],[10,14,10,16],[10,17,10,19],[10,20,10,22],[10,23,10,25],[10,26,10,28],[8,26,8,28],[8,29,8,31],[8,32,8,34],[8,35,8,37],[8,38,8,40],[9,26,9,28],[9,29,9,31],[9,32,9,34],[9,35,9,37],[9,38,9,40],[10,29,10,31],[10,32,10,34],[10,35,10,37],[10,38,10,40],[9,0,9,1],[9,2,9,4],[9,5,9,7],[9,8,9,10],[9,11,9,13],[9,14,9,16],[9,17,9,19],[9,20,9,22],[9,23,9,25],[8,0,8,1],[8,2,8,4],[8,5,8,7],[8,8,8,10],[8,11,8,13],[8,14,8,16],[8,17,8,19],[8,20,8,22],[8,23,8,25],[7,26,7,28],[7,29,7,31],[7,32,7,34],[7,35,7,37],[7,38,7,40],[6,0,6,1],[6,2,6,4],[6,5,6,7],[6,8,6,10],[6,11,6,13],[6,14,6,16],[6,17,6,19],[6,20,6,22],[6,23,6,25],[7,0,7,1],[7,2,7,4],[7,5,7,7],[7,8,7,10],[7,11,7,13],[7,14,7,16],[7,17,7,19],[7,20,7,22],[7,23,7,25],[6,26,6,28],[6,29,6,31],[6,32,6,34],[6,35,6,37],[0,0,0,22],[3,18,3,21],[3,36,3,40],[4,2,5,4],[4,5,5,7],[4,8,5,10],[4,11,5,13],[4,14,5,16],[4,17,5,19],[4,20,5,22],[4,23,5,25],[4,26,5,28],[4,29,5,31],[4,32,5,34],[4,35,5,37],[4,38,5,40],[6,38,6,40]]}
["１２．航 空 輸 送 実 績"]
[]
["（１）　航空旅客輸送人員の推移"]
[null,null,null,null,null,null,null,null,null,null,null,null,null,null,null,null,null,null,null,null,null,null,null,null,null,null,null,null,null,null,null,null,null,null,null,null,"（単位：千人、％）"]
[null,"空港名","新 千 歳",null,null,"丘　　珠",null,null,"函　　館",null,null,"旭　　川",null,null,"釧　　路",null,null,"女 満 別",null,null,"帯　　広",null,null,"稚　　内",null,null,"中 標 津",null,null,"紋　　別",null,null,"奥　　尻",null,null,"利　　尻",null,null,"合　　計"]
[" 年度"]
["元",null,18317,null,null,257,null,null,1444,null,null,963,null,null,770,null,null,747,null,null,593,null,null,168,null,null,182,null,null,66,null,null,11,null,null,42,null,null,23560]
[2,null,6037,null,null,161,null,null,555,null,null,279,null,null,331,null,null,286,null,null,190,null,null,55,null,null,55,null,null,21,null,null,7,null,null,22,null,null,7999]
[3,null,9008,null,null,197,null,null,769,null,null,456,null,null,427,null,null,459,null,null,288,null,null,78,null,null,82,null,null,36,null,null,9,null,null,28,null,null,11837]
[4,null,16630,null,null,317,null,null,1361,null,null,851,null,null,678,null,null,719,null,null,536,null,null,146,null,null,143,null,null,50,null,null,12,null,null,46,null,null,21489]
[5,null,19790,null,null,435,null,null,1558,null,null,1012,null,null,713,null,null,754,null,null,637,null,null,163,null,null,191,null,null,65,null,null,15,null,null,54,null,null,25387]
[6,null,20666,null,null,572,null,null,1700,null,null,1108,null,null,744,null,null,789,null,null,639,null,null,174,null,null,216,null,null,72,null,null,14,null,null,60,null,null,{"$f":"SUM(C12:AL12)","v":26754}]
["（指数）",null,"（",{"$f":"C12/AM12*100","v":77.244524183299689},"）","（",{"$f":"F12/AM12*100","v":2.1379980563654035},"）","（",{"$f":"I12/AM12*100","v":6.3541900276594152},"）","（",{"$f":"L12/AM12*100","v":4.141436794498019},"）","（",{"$f":"O12/AM12*100","v":2.780892576810944},"）","（",{"$f":"R12/AM12*100","v":2.9490917246019288},"）","（",{"$f":"U12/AM12*100","v":2.38842789863198},"）","（",{"$f":"X12/AM12*100","v":0.65037003812514016},"）","（",{"$f":"AA12/AM12*100","v":0.80735590939672564},"）","（",{"$f":"AD12/AM12*100","v":0.26911863646557527},"）","（",{"$f":"AG12/AM12*100","v":5.2328623757195186E-2},"）","(",{"$f":"AJ12/AM12*100","v":0.22426553038797939},"）","（",100,"）"]
[{"$f":"A12&\"/\"&A7","v":"6/元"},null,{"$f":"C12/C7*100","v":112.82415242670743},null,null,{"$f":"F12/F7*100","v":222.56809338521401},null,null,{"$f":"I12/I7*100","v":117.72853185595568},null,null,{"$f":"L12/L7*100","v":115.05711318795431},null,null,{"$f":"O12/O7*100","v":96.623376623376629},null,null,{"$f":"R12/R7*100","v":105.62248995983936},null,null,{"$f":"U12/U7*100","v":107.75716694772343},null,null,{"$f":"X12/X7*100","v":103.57142857142858},null,null,{"$f":"AA12/AA7*100","v":118.68131868131869},null,null,{"$f":"AD12/AD7*100","v":109.09090909090908},null,null,{"$f":"AG12/AG7*100","v":127.27272727272727},null,null,{"$f":"AJ12/AJ7*100","v":142.85714285714286},null,null,{"$f":"AM12/AM7*100","v":113.55687606112055}]
[]
["（注）","１． 航空輸送統計年報による"]
[null,{"$f":"\"２．\"&A14 &\"は令和\"&A7&\"年度を１００と表している\"","v":"２．6/元は令和元年度を１００と表している"}]

{"sheet":"旅客１２（２）１道内","index":17,"n_rows":28,"n_cols":31,"rows_kept":28,"cut":false,"hidden":false,"merged":[[19,2,19,9],[4,0,8,0],[4,1,8,1],[9,0,9,1],[10,0,10,1],[11,0,11,1],[12,0,12,1],[13,0,13,1],[14,0,14,1],[15,0,15,1],[17,0,17,1]]}
["（２）　航空路線別旅客輸送人員の推移"]
[]
[null,"道　　　内"]
[null,null,null,null,null,null,null,null,null,"（ 単位：千人 、％ ）",null,null,null,null,null,null,null,"↗ここに運輸の動き月報の航空輸送入力シートの道内部分を貼り付ける"]
["年　度","区　分","札　幌","札　幌","札　幌","札　幌","札　幌","札　幌","札　幌","函　館",null,null,null,null,null,null,null,"発","着"]
[null,null,null,null,null,null,null,null,null,null,null,null,null,null,null,null,"新千歳～稚内",30293,31211]
[null,null,"～","～","～","～","～","～","～","～",null,null,null,null,null,null,"新千歳～釧路",39048,43038]
[null,null,null,null,null,null,null,null,null,null,null,null,null,null,null,null,"新千歳～函館",40314,39541]
[null,null,"稚　内","釧　路","函　館","利　尻","中標津","女満別","奥尻","奥　尻",null,null,null,null,null,null,"新千歳～旭川"]
["元",null,56,164,187,42,104,208,"－",11,null,null,null,null,null,null,"新千歳～利尻",15079,13370,null,null,null,null,"札　幌","札　幌","札　幌","札　幌","札　幌","札　幌","札　幌","函　館"]
[2,null,43,88,96,22,49,109,"－",7,null,null,null,null,null,null,"新千歳～帯広",null,null,null,null,null,null,"～","～","～","～","～","～","～","～"]
[3,null,38,98,116,28,58,136,2,8,null,null,null,null,null,null,"新千歳～中標津",48005,49675,null,null,null,null,"稚　内","釧　路","函　館","利　尻","中標津","女満別","奥尻","奥　尻"]
[4,null,54.512,140.85,178.95500000000001,45.834000000000003,89.102999999999994,210.11799999999999,3.7909999999999999,8.6950000000000003,null,null,null,null,null,null,"新千歳～紋別",null,null,null,null,null,null,{"$f":"R6+S6+R17+S17","v":61504},{"$f":"R7+S7+R18+S18","v":161947},{"$f":"R8+S8+R19+S19","v":236657},{"$f":"R10+S10+R21+S21","v":59653},{"$f":"R12+S12+R23+S23","v":134813},{"$f":"R14+S14+R25+S25","v":257682},{"$f":"R15+S15+R26+S26","v":4112},{"$f":"R28+S28","v":10246}]
[5,null,58.585999999999999,153.97200000000001,202.17500000000001,53.985999999999997,114.633,233.56,4.2359999999999998,11.148999999999999,null,null,null,null,null,null,"新千歳～女満別",104980,106732]
[6,null,{"$f":"X13/1000","v":61.503999999999998},161.947,236.65700000000001,59.652999999999999,134.81299999999999,257.68200000000002,4.1120000000000001,10.246,null,null,null,null,null,null,"新千歳～奥尻"]
[{"$f":"A15&\"/\"&A10","v":"6/元"},null,{"$f":"C15/C10*100","v":109.82857142857144},98.748170731707319,126.55454545454545,142.03095238095239,129.6278846153846,123.88557692307694,{"$f":"IFERROR(I15/I10%,\"－\")","v":"－"},{"$f":"J15/J10*100","v":93.145454545454555}]
[null,null,null,null,null,null,null,null,null,null,null,null,null,null,null,null,"丘珠～稚内"]
["（注）",null,"１．　「航空輸送統計年報」による",null,null,null,null,null,null,null,null,null,null,null,null,null,"丘珠～釧路",39816,40045]
[null,null,"２．　札幌とは、新千歳・丘珠両空港の合計値",null,null,null,null,null,null,null,null,null,null,null,null,null,"丘珠～函館",78936,77866]
[null,null,{"$f":"\"３．　\"&A16&\"は令和\"&A10&\"年度を１００と表している\"","v":"３．　6/元は令和元年度を１００と表している"},null,null,null,null,null,null,null,null,null,null,null,null,null,"丘珠～旭川"]
[null,null,null,null,null,null,null,null,null,null,null,null,null,null,null,null,"丘珠～利尻",15763,15441]
[null,null,"　 ",null,null,null,null,null,null,null,null,null,null,null,null,null,"丘珠～帯広"]
[null,null,null,null,null,null,null,null,null,null,null,null,null,null,null,null,"丘珠～中標津",18550,18583]
[null,null,null,null,null,null,null,null,null,null,null,null,null,null,null,null,"丘珠～紋別"]
[null,null,null,null,null,null,null,null,null,null,null,null,null,null,null,null,"丘珠～女満別",23021,22949]
[null,null,null,null,null,null,null,null,null,null,null,null,null,null,null,null,"丘珠～奥尻",2005,2107]
[]
[null,null,null,null,null,null,null,null,null,null,null,null,null,null,null,null,"函館～奥尻",5286,4960]

{"sheet":"旅客１２（２）２道外","index":18,"n_rows":38,"n_cols":81,"rows_kept":38,"cut":false,"hidden":false,"merged":[[28,0,28,1],[29,0,29,1],[23,0,23,1],[24,0,24,1],[25,0,25,1],[26,0,26,1],[27,0,27,1],[12,0,12,1],[13,0,13,1],[14,0,14,1],[15,0,15,1],[18,0,22,0],[18,1,22,1],[4,0,8,0],[4,1,8,1],[9,0,9,1],[10,0,10,1],[11,0,11,1]]}
[]
[]
[null,"対 道 外 間",null,null,null,null,null,null,null,null,null,null,null,null,null,null,null,null,null,null,null,null,null,null,null,null,null,null,null,null,null,null,null,null,null,null,null,null,null,null,null,null,null,"発","着",null,"発","着",null,"発","着",null,"発","着",null,"発","着",null,"発","着",null,null,null,null,"稚　内","釧　路","釧　路","釧　路","函　館","函　館","函　館","旭　川","旭　川","旭　川","帯　広","帯　広","中標津","紋　別","女満別","女満別","女満別"]
[null,null,null,null,null,null,null,null,null,null,null,null,null,null,null,null,null,null,"（単位 : 千人、％）",null,null,null,null,null,null,null,null,null,null,null,null,null,null,null,null,null,null,null,null,null,null,null,"新千歳～青森",90928,88284,"新千歳～能登",null,null,"新千歳～北九州",null,null,"新千歳～多良間",null,null,"稚内～成田",null,null,"稚内～大阪",null,null,null,null,null,null,"～","～","～","～","～","～","～","～","～","～","～","～","～","～","～","～","～"]
["年 度","区 分","稚　内","釧　路","釧　路","釧　路","函　館","函　館","函　館","旭　川","旭　川","旭　川","帯　広","帯　広","中標津","紋　別","女満別","女満別","女満別",null,null,null,null,null,null,null,null,null,null,null,null,null,null,null,null,null,null,null,null,null,null,null,"新千歳～三沢",null,null,"新千歳～松本",29281,29571,"新千歳～佐賀",null,null,"新千歳～北大東島",null,null,"釧路～成田",null,null,"釧路～大阪",714,874,null,null,null,null,"東　京","東　京","名古屋","大　阪","東　京","名古屋","大　阪","東　京","名古屋","大　阪","東　京","名古屋","東　京","東　京","東　京","名古屋","大　阪"]
[null,null,null,null,null,null,null,null,null,null,null,null,null,null,null,null,null,null,null,null,null,null,null,null,null,null,null,null,null,null,null,null,null,null,null,null,null,null,null,null,null,null,"新千歳～花巻",41184,40846,"新千歳～静岡",53818,51978,"新千歳～長崎",null,null,"新千歳～下地島",null,null,"函館～成田",null,null,"函館～大阪",89004,95251,null,null,null,null,{"$f":"BA14+BB14+BD4+BE4","v":112957},{"$f":"BA15+BB15+BD5+BE5","v":559727},{"$f":"BD17+BE17","v":3864},{"$f":"BG5+BH5+BG17+BH17","v":18177},{"$f":"BA16+BB16+BD6+BE6","v":1168125},{"$f":"BD18+BE18","v":100811},{"$f":"BG6+BH6+BG18+BH18","v":184255},{"$f":"BA17+BB17+BD7+BE7","v":1081489},{"$f":"BD19+BE19","v":17520},{"$f":"BG7+BH7+BG19+BH19","v":8883},{"$f":"BA19+BB19+BD9+BE9","v":633750},{"$f":"BD21+BE21","v":4810},{"$f":"BA20+BB20+BD10+BE10","v":81383},{"$f":"BA21+BB21+BD11+BE11","v":71737},{"$f":"BA22+BB22+BD12+BE12","v":495982},{"$f":"BD24+BE24","v":15955},{"$f":"BG12+BH12+BG24+BH24","v":19527}]
[null,null,"～","～","～","～","～","～","～","～","～","～","～","～","～","～","～","～","～",null,null,null,null,null,null,null,null,null,null,null,null,null,null,null,null,null,null,null,null,null,null,null,"新千歳～仙台",443816,441063,"新千歳～名古屋",null,null,"新千歳～福江",null,null,"丘珠～三沢",6478,6759,"旭川～成田",53012,54010,"旭川～大阪",4198,4685,null,null,null,null,{"$f":"BM6/1000","v":112.95699999999999},559.72699999999998,3.8639999999999999,18.177,1168.125,100.81100000000001,184.255,1081.489,17.52,8.8829999999999991,633.75,4.8099999999999996,81.382999999999996,71.736999999999995,495.98200000000003,15.955,19.527000000000001]
[null,null,null,null,null,null,null,null,null,null,null,null,null,null,null,null,null,null,null,null,null,null,null,null,null,null,null,null,null,null,null,null,null,null,null,null,null,null,null,null,null,null,"新千歳～秋田",37260,37613,"新千歳～中部",705085,694243,"新千歳～壱岐",null,null,"丘珠～秋田",20300,19894,"利尻～成田",null,null,"利尻～大阪"]
[null,null,"東　京","東　京","名古屋","大　阪","東　京","名古屋","大　阪","東　京","名古屋","大　阪","東　京","名古屋","東　京","東　京","東　京","名古屋","大　阪",null,null,null,null,null,null,null,null,null,null,null,null,null,null,null,null,null,null,null,null,null,null,null,"新千歳～大館",null,null,"新千歳～大阪（伊丹）",681272,673733,"新千歳～対馬",null,null,"丘珠～新潟",22179,23102,"帯広～成田",null,null,"帯広～大阪",null,null,null,null,null,null,null,"表に載ってる数字全部の合計（重複有り）と合っているかの確認"]
["元",null,112,492,3,110,1023,85,137,901,54,8,589,4,78,66,471,47,20,null,null,null,null,null,null,null,null,null,null,null,null,null,null,null,null,null,null,null,null,null,null,null,"新千歳～山形",20021,19703,"新千歳～関西",734539,731277,"新千歳～熊本",null,null,"丘珠～松本",11356,11177,"中標津～成田",null,null,"中標津～大阪",null,null,null,null,null,null,null,{"$f":"BA24+BB24+BD14+BE14+BG14+BH14+BD26+BE26+BG26+BH26+SUM(BM16:BV16,BM6:CC6,BM26:BZ26)","v":41007100},null,null,"左の表の数字",{"$f":"SUM(AR4:BH27)","v":41007100}]
[2,null,12,194,1,48,356,32,63,274,1,4,188,2,6,21,171,2,4,null,null,null,null,null,null,null,null,null,null,null,null,null,null,null,null,null,null,null,null,null,null,null,"新千歳～庄内",null,null,"新千歳～神戸",334453,330334,"新千歳～天草",null,null,"丘珠～静岡",13385,13519,"紋別～成田",null,null,"紋別～大阪",null,null,null,null,null,null,null,null,{"$f":"BR10-BN10","v":0}]
[3,null,40,271,2,55,513,39,92,450,3,3,286,2,24,36,278,3,42,null,null,null,null,null,null,null,null,null,null,null,null,null,null,null,null,null,null,null,null,null,null,null,"新千歳～福島",19884,19644,"新千歳～但馬",null,null,"新千歳～大分",null,null,"丘珠～名古屋",34209,34408,"女満別～成田",null,null,"女満別～大阪",2765,3252]
[4,null,91.308000000000007,457.404,3.3140000000000001,76.168000000000006,930.41300000000001,78.658000000000001,163.94300000000001,829.678,13.865,7.8380000000000001,532.27499999999998,4.1040000000000001,54.072000000000003,50.113,430.35399999999998,9.7390000000000008,69.263999999999996,null,null,null,null,null,null,null,null,null,null,null,null,null,null,null,null,null,null,null,null,null,null,null,"新千歳～百里（茨城）",100800,98903,"新千歳～南紀白浜",null,null,"新千歳～宮崎",null,null,null,null,null,"奥尻～成田",null,null,"奥尻～大阪",null,null,null,null,null,null,"札　幌","札　幌","札　幌","札　幌","札　幌","札　幌","札　幌","札　幌","札　幌","札　幌"]
[5,null,103.998,531.36800000000005,3.6619999999999999,23.893000000000001,1066.3130000000001,98.171999999999997,179.74100000000001,984.19100000000003,18.759,8.8260000000000005,632.53899999999999,4.9530000000000003,75.882999999999996,65.176000000000002,480.53399999999999,15.816000000000001,24.2,null,null,null,null,null,null,null,null,null,null,null,null,null,null,null,null,null,null,null,null,null,null,null,"新千歳～成田",1019515,1007404,"新千歳～鳥取",null,null,"新千歳～鹿児島",null,null,"稚内～羽田",55103,57854,"新千歳～成田",1019515,1007404,"新千歳～大阪",681272,673733,null,null,null,null,"～","～","～","～","～","～","～","～","～","～"]
[6,null,{"$f":"BM7","v":112.95699999999999},559.72699999999998,3.8639999999999999,18.177,1168.125,100.81100000000001,184.255,1081.489,17.52,8.8829999999999991,633.75,4.8099999999999996,81.382999999999996,71.736999999999995,495.98200000000003,15.955,19.527000000000001,null,null,null,null,null,null,null,null,null,null,null,null,null,null,null,null,null,null,null,null,null,null,null,"新千歳～羽田",4953827,4906113,"新千歳～美保（米子）",null,null,"新千歳～種子島",null,null,"釧路～羽田",275543,284184,"丘珠～成田",null,null,"丘珠～大阪",null,null,null,null,null,null,"青　森","三　沢","花　巻","仙　台","秋　田","山　形","福　島","茨　城","東　京","新　潟"]
[{"$f":"A15&\"/\"&A10","v":"6/元"},null,{"$f":"C15/C10*100","v":100.85446428571427},113.76565040650407,128.80000000000001,16.524545454545454,114.18621700879766,118.60117647058826,134.49270072992701,120.03207547169812,32.444444444444443,111.03749999999999,107.59762308998302,120.24999999999999,104.33717948717948,108.69242424242422,105.30403397027601,33.946808510638299,97.635000000000005,null,null,null,null,null,null,null,null,null,null,null,null,null,null,null,null,null,null,null,null,null,null,null,"新千歳～大島",null,null,"新千歳～隠岐",null,null,"新千歳～屋久島",null,null,"函館～羽田",578160,589965,"稚内～中部",null,null,"稚内～関西",null,null,null,null,null,null,{"$f":"AR4+AS4","v":179212},{"$f":"AR5+AS5+BA7+BB7","v":13237},{"$f":"AR6+AS6","v":82030},{"$f":"AR7+AS7","v":884879},{"$f":"AR8+AS8+BA8+BB8","v":115067},{"$f":"AR10+AS10","v":39724},{"$f":"AR12+AS12","v":39528},{"$f":"AR13+AS13","v":199703},{"$f":"AR14+AS14+AR15+AS15+BA25+BB25+BD15+BE15","v":11886859},{"$f":"AR25+AS25+BA9+BB9","v":218955}]
[null,null,null,null,null,null,null,null,null,null,null,null,null,null,null,null,null,null,null,null,null,null,null,null,null,null,null,null,null,null,null,null,null,null,null,null,null,null,null,null,null,null,"新千歳～三宅島",null,null,"新千歳～出雲",2551,2533,"新千歳～奄美",null,null,"旭川～羽田",473214,501253,"釧路～中部",1840,2024,"釧路～関西",8110,8479,null,null,null,null,{"$f":"BM16/1000","v":179.21199999999999},13.237,82.03,884.87900000000002,115.06699999999999,39.723999999999997,39.527999999999999,199.703,11886.859,218.95500000000001]
[null,null,null,null,null,null,null,null,null,null,null,null,null,null,null,null,null,null,null,null,null,null,null,null,null,"（単位 : 千人、％）",null,null,null,null,null,null,null,null,null,null,null,null,null,null,null,null,"新千歳～八丈島",null,null,"新千歳～石見",null,null,"新千歳～喜界島",null,null,"利尻～羽田",null,null,"函館～中部",48827,51984,"函館～関西"]
["年 度","区 分","札　幌","札　幌","札　幌","札　幌","札　幌","札　幌","札　幌","札　幌","札　幌","札　幌","札　幌","札　幌","札　幌","札　幌","札　幌","札　幌","札　幌","札　幌","札　幌","札　幌","札　幌","札　幌","札　幌","札　幌",null,null,null,null,null,null,null,null,null,null,null,null,null,null,null,null,"新千歳～調布",null,null,"新千歳～岡山",43951,41765,"新千歳～沖永良部",null,null,"帯広～羽田",314379,319371,"旭川～中部",7565,9955,"旭川～関西"]
[null,null,null,null,null,null,null,null,null,null,null,null,null,null,null,null,null,null,null,null,null,null,null,null,null,null,null,null,null,null,null,null,null,null,null,null,null,null,null,null,null,null,"新千歳～新島",null,null,"新千歳～広島",94534,94335,"新千歳～与論",null,null,"中標津～羽田",40274,41109,"利尻～中部",null,null,"利尻～関西"]
[null,null,"～","～","～","～","～","～","～","～","～","～","～","～","～","～","～","～","～","～","～","～","～","～","～","～",null,null,null,null,null,null,null,null,null,null,null,null,null,null,null,null,"新千歳～神津島",null,null,"新千歳～山口宇部",null,null,"新千歳～徳之島",null,null,"紋別～羽田",32400,39337,"帯広～中部",2431,2379,"帯広～関西"]
[null,null,null,null,null,null,null,null,null,null,null,null,null,null,null,null,null,null,null,null,null,null,null,null,null,null,null,null,null,null,null,null,null,null,null,null,null,null,null,null,null,null,"新千歳～青ヶ島",null,null,"新千歳～岩国",null,null,"新千歳～那覇",59854,60950,"女満別～羽田",244583,251399,"中標津～中部",null,null,"中標津～関西"]
[null,null,"青　森","三　沢","花　巻","仙　台","秋　田","山　形","福　島","茨　城","東　京","新　潟","富　山","小　松","松　本","静　岡","名古屋","大　阪","神　戸","出　雲","岡　山","広　島","徳　島","松　山","福　岡","那　覇",null,null,null,null,null,null,null,null,null,null,null,null,null,null,null,null,"新千歳～御蔵島",null,null,"新千歳～徳島",1916,1976,"新千歳～南大東島",null,null,"奥尻～羽田",null,null,"紋別～中部",null,null,"紋別～関西",null,null,null,null,null,null,"札　幌","札　幌","札　幌","札　幌","札　幌","札　幌","札　幌","札　幌","札　幌","札　幌","札　幌","札　幌","札　幌","札　幌"]
[{"$f":"$A$10","v":"元"},null,151,18,87,840,112,33,54,181,10626,151,64,82,51,104,1522,2223,521,5,79,156,3,31,619,97,null,null,null,null,null,null,null,null,null,null,null,null,null,null,null,null,"新千歳～利島",null,null,"新千歳～高松",null,null,"新千歳～久米島",null,null,"新千歳～羽田",4953827,4906113,"女満別～中部",8609,7346,"女満別～関西",6670,6840,null,null,null,null,"～","～","～","～","～","～","～","～","～","～","～","～","～","～"]
[{"$f":"$A$11","v":2},null,48,5,24,319,28,8,11,60,3396,50,2,5,21,16,482,825,195,2,1,32,1,7,224,29,null,null,null,null,null,null,null,null,null,null,null,null,null,null,null,null,"新千歳～新潟",87766,85908,"新千歳～松山",null,null,"新千歳～宮古島",null,null,"丘珠～羽田",null,null,"奥尻～中部",null,null,"奥尻～関西",null,null,null,null,null,null,"富　山","小　松","松　本","静　岡","名古屋","大　阪","神　戸","出　雲","岡　山","広　島","徳　島","松　山","福　岡","那　覇"]
[{"$f":"$A$12","v":3},null,72,8,33,443,40,14,22,94,5131,64,11,15,34,42,720,1216,288,1,2,54,1,7,359,59,null,null,null,null,null,null,null,null,null,null,null,null,null,null,null,null,"新千歳～富山",40839,40098,"新千歳～高知",null,null,"新千歳～石垣",null,null,null,null,null,"新千歳～中部",705085,694243,"新千歳～関西",734539,731277,null,null,null,null,{"$f":"AR26+AS26","v":80937},{"$f":"AR27+AS27","v":95462},{"$f":"AU5+AV5+BA10+BB10","v":81385},{"$f":"AU6+AV6+BA11+BB11","v":132700},{"$f":"AU7+AV7+AU8+AV8+BA12+BB12+BD27+BE27","v":1467945},{"$f":"AU9+AV9+AU10+AV10+BG15+BH15+BG27+BH27","v":2820821},{"$f":"AU11+AV11","v":664787},{"$f":"AU17+AV17","v":5084},{"$f":"AU19+AV19","v":85716},{"$f":"AU20+AV20","v":188869},{"$f":"AU23+AV23","v":3892},{"$f":"AU25+AV25","v":0},{"$f":"AU27+AV27","v":913544},{"$f":"AX22+AY22","v":120804}]
[{"$f":"$A$13","v":4},null,134.36799999999999,13.327,68.968000000000004,728.81600000000003,89.635999999999996,30.102,31.332000000000001,167.80600000000001,9449.0619999999999,131.05799999999999,51.279000000000003,77.349999999999994,63.976999999999997,89.948999999999998,1299.748,2316.8290000000002,520.63900000000001,4.7060000000000004,15.215,170.58,3.19,0,657.68700000000001,107.78400000000001,null,null,null,null,null,null,null,null,null,null,null,null,null,null,null,null,"新千歳～小松",48426,47036,"新千歳～福岡",460252,453292,"新千歳～与那国",null,null,null,null,null,"丘珠～中部",null,null,"丘珠～関西",null,null,null,null,null,null,{"$f":"BM26/1000","v":80.936999999999998},95.462000000000003,81.385000000000005,132.69999999999999,1467.9449999999999,2820.8209999999999,664.78700000000003,5.0839999999999996,85.715999999999994,188.869,3.8919999999999999,0,913.54399999999998,120.804]
[{"$f":"$A$14","v":5},null,165.268,13.143000000000001,86.353999999999999,851.76499999999999,117.6,37.646000000000001,38.225000000000001,196.65799999999999,11362.115,184.18600000000001,76.260999999999996,100.61199999999999,82.655000000000001,111.547,1457.229,2763.683,586.79200000000003,5.4020000000000001,79.650000000000006,190.27600000000001,3.6619999999999999,0,774.08,119.041]
[{"$f":"$A$15","v":6},null,{"$f":"BM17","v":179.21199999999999},13.237,82.03,884.87900000000002,115.06699999999999,39.723999999999997,39.527999999999999,199.703,11886.859,218.95500000000001,{"$f":"BM27","v":80.936999999999998},95.462000000000003,81.385000000000005,132.69999999999999,1467.9449999999999,2820.8209999999999,664.78700000000003,5.0839999999999996,85.715999999999994,188.869,3.8919999999999999,0,913.54399999999998,120.804]
[{"$f":"$A$16","v":"6/元"},null,{"$f":"C29/C24*100","v":118.68344370860926},73.538888888888891,94.287356321839084,105.34273809523809,102.73839285714286,120.37575757575756,73.2,110.33314917127073,111.8657914549219,145.00331125827813,126.4640625,116.41707317073171,159.57843137254903,127.59615384615384,96.448423127463855,126.89253261358525,127.59827255278311,101.67999999999999,108.5012658227848,121.06987179487179,129.73333333333332,"－",{"$f":"Y29/Y24*100","v":147.583844911147},{"$f":"Z29/Z24*100","v":124.540206185567}]
[]
[]
["（注）","１．　「航空輸送統計年報」による"]
[null,"２．　札幌とは、新千歳・丘珠両空港の合計値"]
[null,"３．　東京とは、成田・羽田両空港の合計値"]
[null,"４．　大阪とは、関西・大阪（伊丹）両空港の合計値"]
[null,"５．　名古屋とは、中部・名古屋（小牧）両空港の合計値"]
[null,{"$f":"\"６．　\"&A30&\"は令和\"&A24&\"年度を１００と表している\"","v":"６．　6/元は令和元年度を１００と表している"}]

{"sheet":"旅客１２（２）３海外","index":19,"n_rows":37,"n_cols":12,"rows_kept":37,"cut":false,"hidden":false,"merged":[[15,0,15,1],[18,0,18,1],[10,0,10,1],[11,0,11,1],[12,0,12,1],[13,0,13,1],[14,0,14,1],[5,6,5,7],[5,10,5,11],[6,0,8,0],[6,1,8,1],[9,0,9,1]]}
[]
[]
[]
[]
[null,"海　　　外"]
[null,null,null,null,null,null,null,null,null,null,"(単位 ： 人 、％）"]
["年度","区分","新　千　歳","新　千　歳","新　千　歳","新　千　歳","新　千　歳","新　千　歳","函　　館","函　　館","旭　　川","旭　　川"]
[null,null,"～","～","～","～","～","～","～","～","～","～"]
[null,null,"中　　国","韓　　国","台　　湾","香　　港","タイ","そ　の　他","台　　湾","香　　港","韓　　国","台　　湾"]
["元",null,590798,858490,754529,417744,312871,352443,147531,"－ ",13234,29127]
[2,null,"－ ","－ ","－ ","－ ","－ ","－ ","－ ","－ ","－ ","－ "]
[3,null,"－ ","－ ","－ ","－ ","－ ","－ ","－ ","－ ","－ ","－ "]
[4,null,"－ ",413378,204257,105238,94266,94430,"－ ","－ ","－ ","－ "]
[5,null,129945,1376379,711857,301589,195062,168063,84894,13438,"－ ",27506]
[6,null,520581,1662450,811166,387879,256901,213961,156469,"－ ",14458,25408]
["前年度   対比",null,{"$f":"C15/C14*100","v":400.61641463696179},120.78431885403657,113.95069515366147,128.61178623888802,131.70222800955594,127.30999684642069,184.3110231582915,"－ ","－ ",{"$f":"L15/L14*100","v":92.372573256743991}]
[]
[]
["（注）",null,"　１．　東京航空局新千歳空港事務所、函館空港事務所、旭川空港出張所、北海道エアポート株式会社資料による"]
[null,null,"　２．　不定期（チャーター）便は除く"]
[null,null,"　３．　中国（元年度）：北京・上海・天津・杭州・南京・大連・無錫・青島・福州・成都の合計値"]
[null,null,"　４．　中国（5年度）：北京・上海・天津・杭州・深圳の合計値"]
[null,null,"　５．　中国（6年度）：北京・上海・天津・深圳・西安の合計値"]
[null,null,"　６．　韓国（4年度）：ソウル・釜山・大邱の合計値"]
[null,null,"　７．　韓国（5年度）：ソウル・釜山・大邱・務安の合計値"]
[null,null,"　８．　韓国（6年度）：ソウル・釜山・大邱・清州の合計値"]
[null,null,"　９．　台湾（元年度）：台北・高雄の合計値"]
[null,null,"１０．　台湾（4～5年度）：台北の合計値"]
[null,null,"１１．　台湾（6年度）：台北・高雄の合計値"]
[null,null,"１２．　タイ：令和元年5月以降のバンコク（スワンナプーム・ドンムアン）の合計値"]
[null,null,"１３．　タイ（4～5年度）：バンコク（スワンナプーム）の合計値"]
[null,null,"１４．　タイ（6年度）：バンコク（スワンナプーム・ドンムアン）の合計値"]
[null,null,"１５．　その他（元年度）：グアム・ホノルル・バンコク（平成31年4月）・クアラルンプール・ユジノサハリンスク・シンガポール・マニラ・"]
[null,null,"　　　　ウラジオストク・ミラノ・ダナン・マンペンサ・ウランバートル・ブダペスト・プラハ・サマルカンド・タシケント・ ヘルシンキ・シドニーの合計値"]
[null,null,"１６．　その他（4年度）：クアラルンプール・シンガポール・シドニーの合計値"]
[null,null,"１７．　その他（5年度）：シンガポール・マレーシア・ベトナム・オーストラリアの合計値"]
[null,null,"１８．　その他（6年度）：シンガポール・マレーシア・ベトナム・フィリピン・インドネシアの合計値"]