Workbook

Sheet 手引き
B1: 法人タクシー事業の運賃申請作成の手引き | V1: 設定２ | Z1: 初乗距離 | AF1: 初乗時間 | AH1: 加算時間 | AL1: 車種区分① | AM1: 車種区分１ | AN1: 車種区分② | AO1: 車種区分２ | AP1: 車種区分③ | AQ1: 車種区分３ | AR1: 車種区分④ | AS1: 車種区分４ | AT1: 車種区分⑤ | AU1: 車種区分５ | AV1: 車種区分⑤ | AW1: 車種区分６ | AX1: 車種区分⑥ | AY1: 車種区分７ | AZ1: 車種区分⑦ | BA1: 車種区分８ | BB1: 車種区分⑧ | BC1: 車種区分９ | BD1: 車種区分⑨ | BE1: 車種区分１０ | BF1: 車種区分⑩
I2: ※令和8年9月更新様式 | N2: =COUNTIF($I:$I,"入力内容を確認してください") -> 6 | X2: 距離制運賃 | Z2: 1.2 | AC2: 時間制運賃 | AF2: 30 | AH2: 30 | AJ2: =AF2-AH2 -> 0 | AL2: 特定大型車 | AM2: 道路運送車両法施行規則第２条に定める普通自動車（以下 | AN2: 特定大型車 | AO2: 道路運送車両法施行規則第２条に定める普通自動車（以下 | AP2: 特定大型車 | AQ2: 道路運送車両法施行規則第２条に定める普通自動車（以下 | AR2: 特定大型車 | AS2: 道路運送車両法施行規則第２条に定める普通自動車（以下 | AT2: 特定大型車 | AU2: 道路運送車両法施行規則第２条に定める普通自動車（以下
B3: 作成の前に | V3: 大阪 | W3: 設定範囲 | X3: 特定大型車 | Y3: 大阪!$A$8 | Z3: 大阪!$A$9:$Z$14 | AB3: 設定範囲 | AC3: 特定大型車 | AD3: 大阪!$O$8 | AE3: 大阪!$O$9:$Z$14 | AM3: 「普通自動車」という。）又は小型自動車（以下「小型 | AO3: 「普通自動車」という。）又は小型自動車（以下「小型 | AQ3: 「普通自動車」という。）又は小型自動車（以下「小型 | AS3: 「普通自動車」という。）又は小型自動車（以下「小型 | AU3: 「普通自動車」という。）又は小型自動車（以下「小型
B4: このファイルは、泉州交通圏で事業を行う法人タクシーにおける一般的な運賃申請をパソコンで作成する様式です。 | K4: 黄色セルは必ず入力してください | W4: 設定範囲 | X4: 大型車 | Y4: 大阪!$A$18 | Z4: 大阪!$A$19:$Z$23 | AB4: 設定範囲 | AC4: 大型車 | AD4: 大阪!$O$18 | AE4: 大阪!$O$19:$Z$23 | AM4: 自動車」という。）のうち乗車定員が９名以上のもの。 | AO4: 自動車」という。）のうち乗車定員が９名以上のもの。 | AQ4: 自動車」という。）のうち乗車定員が７名以上のもの。 | AS4: 自動車」という。）のうち乗車定員が７名以上のもの。 | AU4: 自動車」という。）のうち乗車定員が７名以上のもの。
B5: 上から順番に記載してください。近畿運輸局に対する申請のみ利用可能です。 | M5: 運賃改定時の設定変更 | W5: 設定範囲 | X5: 普通車 | Y5: 大阪!$A$27 | Z5: 大阪!$A$28:$Z$32 | AB5: 設定範囲 | AC5: 普通車 | AD5: 大阪!$O$27 | AE5: 大阪!$O$28:$Z$32 | AL5: 大 型 車 | AM5: 以下のいずれかに該当する自動車。 | AN5: 大 型 車 | AO5: 普通自動車のうち排気量が２リットル（ハイブリッド自 | AP5: 大 型 車 | AQ5: 普通自動車のうち排気量が２リットル（ハイブリッド自 | AR5: 大 型 車 | AS5: 普通自動車のうち排気量が２リットル（ハイブリッド自 | AT5: 大 型 車 | AU5: 普通自動車のうち排気量が２リットル（ハイブリッド自
B6: その他、特殊な運賃設定を申請する場合は、近畿運輸局へご相談ください。 | G6: ※行・列・シートの追加・削除は計算式が崩れるため、しないでください。 | M6: ①運賃改定時 | W6: 設定範囲 | AB6: 設定範囲 | AM6: 一 普通自動車のうち排気量が２リットルを超えるもので | AO6: 動車にあっては２．５リットル。）を超えるもので | AQ6: 動車にあっては２．５リットル。）を超えるもので | AS6: 動車にあっては２．５リットル。）を超えるもので | AU6: 動車にあっては２．５リットル。）を超えるもので
D7: ※excel2013で作成・動作確認済 パソコンにダウンロードして、読み取り専用を解除のうえ、作成してください。 | N7: 設定2 | O7: （改正があった場合）初乗距離、時間制運賃の初乗時間・加算時間を修正 | W7: 車種区分 | X7: 車種区分１ | AM7: あって乗車定員が７名以上のもの（特定大型車を除く。）。 | AO7: あって乗車定員が８名以下のもの。 | AQ7: あって乗車定員が６名以下のもの。 | AS7: あって乗車定員が６名以下のもの。 | AU7: あって乗車定員が６名以下のもの。
A8: 1 | B8: 申請者の基本情報を入力してください。 | I8: =IF(COUNTA(D9:D13)=5,"入力完了","入力内容を確認してください") -> 入力内容を確認してください | N8: ブロック名運賃シート | O8: ブロック名と同名の自動認可運賃表シートを新運賃に修正する。 | X8: =VLOOKUP($X7,名前2!$A$5:$B$8,2,0) -> 車種区分① | AM8: 二 普通自動車のうち排気量が２リットル（ハイブリッド | AN8: 普 通 車 | AO8: 以下のいずれかに該当する自動車。 | AP8: 普 通 車 | AQ8: 以下のいずれかに該当する自動車。 | AR8: 中 型 車 | AS8: 以下のいずれかに該当する自動車。 | AT8: 中 型 車 | AU8: 以下のいずれかに該当する自動車。
B9: 申請予定日 | N9: 設定2 | O9: 自動認可運賃表シートを参照している範囲について、Y列/AD列は設定判定セル（初期値は「無」）、 | AM9: 自動車にあっては２．５リットル。）を超えるもので | AO9: 一 普通自動車又は小型自動車のうち特定大型車及び大型 | AQ9: 一 普通自動車又は小型自動車のうち特定大型車及び大型 | AS9: 一 普通自動車のうち特定大型車及び大型車に該当する | AU9: 一 普通自動車のうち特定大型車及び大型車に該当する
B10: 会社住所 | O10: Z列/AE列は各車種区分の上限運賃から下限運賃をカバーしている範囲のセル指定に置き換える。 | AM10: あって乗車定員が６名以下のもの。 | AO10: 車に該当する自動車以外のもの。 | AQ10: 車に該当する自動車以外のもの。 | AS10: 自動車以外のもの。 | AU10: 自動車以外のもの。
B11: 名称 | M11: ②車種区分改正時 | Z11: 初乗距離 | AF11: 初乗時間 | AH11: 加算時間 | AL11: 普 通 車 | AM11: 以下のいずれかに該当する自動車。 | AO11: 二 道路運送車両法施行規則第２条に定める軽自動車（ | AQ11: 二 道路運送車両法施行規則第２条に定める軽自動車（ | AS11: 二 小型自動車のうち乗車定員が６名以下のもの | AU11: 二 小型自動車のうち乗車定員が６名以下のもの
B12: 代表者役職・代表者名 | O12: 名前2!A1 | P12: を再表示 | X12: 距離制運賃 | Z12: 0.9 | AC12: 時間制運賃 | AF12: 30 | AH12: 30 | AJ12: =AF12-AH12 -> 0 | AM12: 一 普通自動車又は小型自動車のうち特定大型車及び大型 | AO12: 以下「軽自動車」という。）のうち、内燃機関を搭載し | AQ12: 以下「軽自動車」という。）のうち、内燃機関を搭載し | AS12: （小型自動車のうち長さが４．６メートル未満であって | AU12: （小型自動車のうち長さが４．６メートル未満であって
B13: 担当者氏名 | N13: 名前2シート | O13: 車種区分内容を修正 | V13: 京都市域 | W13: 設定範囲 | X13: 特定大型車 | Y13: 京都市域!$A$8 | Z13: 京都市域!$A$9:$Z$13 | AB13: 設定範囲 | AC13: 特定大型車 | AD13: 京都市域!$O$８ | AE13: 京都市域!$O$9:$Z$13 | AM13: 車に該当する自動車以外のもの。 | AO13: ないもの又は福祉輸送サービスの用に供するものに限る。 | AQ13: ないもの又は福祉輸送サービスの用に供するものに限る。 | AS13: 乗車定員が５名以下のものを除く。）。 | AU13: 乗車定員が５名以下のものを除く。）。
B14: 担当者連絡先 | N14: 設定１ | O14: N列を小型・中型→普通車に変更された場合にN列を修正 | W14: 設定範囲 | X14: 大型車 | Y14: 京都市域!$A$17 | Z14: 京都市域!$A$18:$Z$21 | AB14: 設定範囲 | AC14: 大型車 | AD14: 京都市域!$O$17 | AE14: 京都市域!$O$18:$Z$21 | AM14: 二 道路運送車両法施行規則第２条に定める軽自動車（ | AO14: ただし、「タクシー事業における軽自動車の活用について」 | AQ14: ただし、「タクシー事業における軽自動車の活用について」 | AR14: 小 型 車 | AS14: 以下のいずれかに該当する自動車。 | AT14: 小 型 車 | AU14: 以下のいずれかに該当する自動車。
B15: 担当者メールアドレス | N15: 設定２ | O15: 名前2シートで設定した車種区分名にX列を修正 | W15: 設定範囲 | X15: 普通車 | Y15: 京都市域!$A$25 | Z15: 京都市域!$A$26:$Z$29 | AB15: 設定範囲 | AC15: 普通車 | AD15: 京都市域!$O$25 | AE15: 京都市域!$O$26:$Z$29 | AM15: 以下「軽自動車」という。）のうち、内燃機関を搭載し | AO15: （令和８年６月１日付け国自旅第３７号）別紙１．に基 | AQ15: （令和８年６月１日付け国自旅第３７号）別紙１．に基 | AS15: 一 小型自動車のうち長さが４．６メートル未満であって | AU15: 一 小型自動車のうち長さが４．６メートル未満であって
W16: 設定範囲 | AB16: 設定範囲 | AM16: ないもの又は福祉輸送サービスの用に供するものに限る。 | AO16: づき近畿運輸局長が公示する地域においては、軽自動車と | AQ16: づき近畿運輸局長が公示する地域においては、軽自動車と | AS16: 乗車定員が５名以下のもの。 | AU16: 乗車定員が５名以下のもの。
A17: 2 | B17: 申請の種類について、選択してください。 | I17: =IF($C$19="○",IF(COUNTA(E20)=1,"入力完了","入力内容を確認してください"),IF(COUNTA(C18:C19)=1,"入力完了","入力内容を確認してください")) -> 入力内容を確認してください | M17: ③運賃ブロック改正時 | W17: 車種区分 | X17: 車種区分２ | AM17: ただし、「タクシー事業における軽自動車の活用について」 | AO17: する。 | AQ17: する。 | AS17: 二 道路運送車両法施行規則第２条に定める軽自動車（ | AU17: 二 道路運送車両法施行規則第２条に定める軽自動車（
B18: ① | D18: 設定の申請 | O18: 手引きシートB27:B40のブロック名を修正し、同名の自動認可運賃表のシートを作成する(もしくは既存のシートどれかを修正)。 | X18: =VLOOKUP($X17,名前2!$A$5:$B$8,2,0) -> 車種区分② | AM18: （令和８年６月１日付け国自旅第３７号）別紙１．に基 | AN18: 備 考 | AO18: １ 自動車検査証に記載されている諸元を基準とする。 | AP18: 備 考 | AQ18: １ 自動車検査証に記載されている諸元を基準とする。 | AS18: 以下「軽自動車」という。）（内燃機関を搭載しない | AU18: 以下「軽自動車」という。）（内燃機関を搭載しない
B19: ② | D19: 変更の申請 | E19: ※現在の認可書を申請書に添付してください。 | N19: 設定１ | O19: ブロック名に対応した府県名と運賃適用をM27:N40に記載する。 | Z19: 初乗距離 | AF19: 初乗時間 | AH19: 加算時間 | AM19: づき近畿運輸局長が公示する地域においては、軽自動車と | AO19: ２ 車体の形状が患者輸送車、車いす移動車又は身体障害 | AQ19: ２ 車体の形状が患者輸送車、車いす移動車又は身体障害 | AS19: もの又は福祉輸送サービスの用に供するものに限る。）。 | AU19: もの又は福祉輸送サービスの用に供するものに限る。）。
B20: 変更の申請の場合は、変更を必要とする理由 を記載してください（自由記述）→ | N20: 設定２ | O20: ①、②と同様の作業を行う。 | X20: 距離制運賃 | Z20: 1.3 | AC20: 時間制運賃 | AF20: 30 | AH20: 30 | AJ20: =AF20-AH20 -> 0 | AM20: する。 | AO20: 者輸送車である特種自動車については、上記の車種区分に | AQ20: 者輸送車である特種自動車については、上記の車種区分に | AR20: 備 考 | AS20: １ 自動車の大きさ等については、自動車検査証に記載 | AT20: 備 考 | AU20: １ 自動車の大きさ等については、自動車検査証に記載
P21: =IF(COUNTA(大阪!A10:A15),"○","") | V21: 京都北部 | W21: 設定範囲 | X21: 特定大型車 | Y21: 京都北部!$A$8 | Z21: 京都北部!$A$9:$Z$11 | AB21: 設定範囲 | AC21: 特定大型車 | AD21: 京都北部!$O$8 | AE21: 京都北部!$O$9:$Z$11 | AL21: 備 考 | AM21: １ 自動車検査証に記載されている諸元を基準とする。 | AO21: よらず、以下の区分を適用する。 | AQ21: よらず、以下の区分を適用する。 | AS21: されている諸元を基準とする。 | AU21: されている諸元を基準とする。
A22: 3 | B22: 距離制運賃を設定しますか（設定しない（時間制運賃のみ）を選択するには駅待ちや流し営業を行なうことがなく、観光需要や冠婚葬祭等の需要に対応する顧客との契約により行う場合のみに限ります） | I22: =IF(COUNTA(C23:C24)=1,"入力完了","入力内容を確認してください") -> 入力内容を確認してください | W22: 設定範囲 | X22: 大型車 | Y22: 京都北部!$A$15 | Z22: 京都北部!$A$16:$Z$18 | AB22: 設定範囲 | AC22: 大型車 | AD22: 京都北部!$O$15 | AE22: 京都北部!$O$16:$Z$18 | AM22: ２ 車体の形状が患者輸送車、車いす移動車又は身体障害 | AO22: 一 次号に掲げる自動車以外の自動車 | AQ22: 一 次号に掲げる自動車以外の自動車 | AS22: ただし、特殊なバンパー等を装置した自動車は、標準バン | AU22: ただし、特殊なバンパー等を装置した自動車は、標準バン
B23: ① | D23: 設定する（タクシーメーターを設置する） | M23: 設定１ | W23: 設定範囲 | X23: 普通車 | Y23: 京都北部!$A$22 | Z23: 京都北部!$A$23:$Z$25 | AB23: 設定範囲 | AC23: 普通車 | AD23: 京都北部!$O$22 | AE23: 京都北部!$O$23:$Z$25 | AM23: 者輸送車である特種自動車については、上記の車種区分に | AO23: ア 乗車定員が７名以上のもの 大型車 | AQ23: ア 乗車定員が７名以上のもの 大型車 | AS23: パーを装置した自動車の長さとする。 | AU23: パーを装置した自動車の長さとする。
B24: ② | D24: 設定しない（タクシーメーターを設置しない） | P24: 距離制無 | Q24: =IF(C24="○",P24,"") | W24: 設定範囲 | AB24: 設定範囲 | AM24: よらず、以下の区分を適用する。 | AO24: イ 乗車定員が６名以下のもの 普通車 | AQ24: イ 乗車定員が６名以下のもの 普通車 | AS24: ２ 車体の形状が患者輸送車、車いす移動車又は身体障害 | AU24: ２ 車体の形状が患者輸送車、車いす移動車又は身体障害
P25: 距離制運賃 | U25: 時間制 | W25: 車種区分 | X25: 車種区分２ | AM25: 一 次号に掲げる自動車以外の自動車 | AO25: 二 専ら旅客を寝台に乗せて運行することを目的とする | AQ25: 二 専ら旅客を寝台に乗せて運行することを目的とする | AS25: 者輸送車である特種自動車（軽自動車を除く。）について | AU25: 者輸送車である特種自動車（軽自動車を除く。）について
B26: 運賃を適用する営業所を設置する（している）区域を選択してください | I26: =IF(COUNTA(C27:C27)=1,"入力完了","入力内容を確認してください") -> 入力完了 | M26: =INDEX($B$27:$L$37,MATCH("○",$C$27:$C$27,0),1) -> 大阪 | P26: 特大 | Q26: 大型 | R26: 普通 | U26: 特大 | X26: =VLOOKUP($X25,名前2!$A$5:$B$8,2,0) -> 車種区分② | AM26: ア 乗車定員が７名以上のもの 大型車 | AO26: 自動車 | AQ26: 自動車 | AS26: は、上記の車種区分によらず、以下の区分を適用する。 | AU26: は、上記の車種区分によらず、以下の区分を適用する。
B27: 大阪 | C27: ○ | D27: 泉州交通圏 | M27: 大阪府 | N27: 普通車 | P27: =IF(INDIRECT(INDEX($Y:$Y,MATCH(手引き!$B27,$V:$V,0)))="","○","") | Q27: =IF(INDIRECT(INDEX($Y:$Y,MATCH(手引き!$B27,$V:$V,0)+1))="","○","") | R27: =IF(INDIRECT(INDEX($Y:$Y,MATCH(手引き!$B27,$V:$V,0)+2))="","○","") | U27: =IF(INDIRECT(INDEX($AD:$AD,MATCH(手引き!$B27,$V:$V,0)))="","○","") | Z27: 初乗距離 | AF27: 初乗時間 | AH27: 加算時間 | AM27: イ 乗車定員が６名以下のもの 普通車 | AO27: ア 普通自動車 普通自動車 | AQ27: ア 普通自動車 普通自動車 | AS27: 一 次号に掲げる自動車以外の自動車 | AU27: 一 次号に掲げる自動車以外の自動車
X28: 距離制運賃 | Z28: 1.3 | AC28: 時間制運賃 | AF28: 30 | AH28: 30 | AJ28: =AF28-AH28 -> 0 | AM28: 二 専ら旅客を寝台に乗せて運行することを目的とする | AO28: イ 小型自動車 小型自動車 | AQ28: イ 小型自動車 小型自動車 | AS28: ア 乗車定員が７名以上のもの 大型車 | AU28: ア 乗車定員が７名以上のもの 大型車
A29: 4 | B29: 自動認可運賃から、希望する運賃を選択してください。 | I29: =IF(COUNTIF(M40:O42,"☓")>0,"入力内容を確認してください","入力完了") -> 入力内容を確認してください | V29: 神戸市域 | W29: 設定範囲 | X29: 特定大型車 | Y29: 神戸市域!$A$8 | Z29: 神戸市域!$A$9:$Z$15 | AB29: 設定範囲 | AC29: 特定大型車 | AD29: 神戸市域!$O$8 | AE29: 神戸市域!$O$9:$Z$15 | AM29: 自動車 | AO29: ３ 上記の車種区分において、ハイブリッド自動車とは、 | AQ29: ３ 上記の車種区分において、ハイブリッド自動車とは、 | AS29: イ 乗車定員が６名以下のもの 中型車 | AU29: イ 乗車定員が６名以下のもの 中型車
C30: → | D30: =HYPERLINK("#"&$M$26&"!A1","運賃額設定") -> 運賃額設定 | E30: （対応する区域の自動認可運賃シートに移動します） | J30: =VLOOKUP("○",$C$27:$N$37,11,0) -> 大阪府 | W30: 設定範囲 | X30: 大型車 | Y30: 神戸市域!$A$19 | Z30: 神戸市域!$A$20:$Z$26 | AB30: 設定範囲 | AC30: 大型車 | AD30: 神戸市域!$O$19 | AE30: 神戸市域!$O$20:$Z$26 | AM30: ア 普通自動車 普通自動車 | AO30: 内燃機関を搭載し、併せて電気又は蓄圧器に蓄えられた | AQ30: 内燃機関を搭載し、併せて電気又は蓄圧器に蓄えられた | AS30: 二 専ら旅客を寝台に乗せて運行することを目的とする | AU30: 二 専ら旅客を寝台に乗せて運行することを目的とする
D31: ※事業開始後の車両入れ替えに備えて、導入予定車両以外の車種区分の設定も可能です（任意）。 | W31: 設定範囲 | X31: 普通車 | Y31: 神戸市域!$A$30 | Z31: 神戸市域!$A$31:$Z$37 | AB31: 設定範囲 | AC31: 普通車 | AD31: 神戸市域!$O$30 | AE31: 神戸市域!$O$31:$Z$37 | AM31: イ 小型自動車 小型自動車 | AO31: 圧力を動力源として用いる自動車をいう。 | AQ31: 圧力を動力源として用いる自動車をいう。 | AS31: 自動車 | AU31: 自動車
W32: 設定範囲 | AB32: 設定範囲 | AM32: ３ 上記の車種区分において、ハイブリッド自動車とは、 | AS32: ア 普通自動車 普通自動車 | AU32: ア 普通自動車 普通自動車
A33: 5 | B33: 距離制運賃の迎車回送料金を設定しますか。 （距離制運賃を設定しない場合は「設定しない」を選択） | I33: =IF($C$35="○",IF(M46=0,"入力完了","入力内容を確認してください"),IF(COUNTA(C34:C40)=1,"入力完了","入力内容を確認してください")) -> 入力内容を確認してください | W33: 車種区分 | X33: 車種区分１ | AM33: 内燃機関を搭載し、併せて電気又は蓄圧器に蓄えられた | AS33: イ 小型自動車 小型自動車 | AU33: イ 小型自動車 小型自動車
B34: ① | D34: 設定する（スリップ制 ※迎車時からメーターの計算を始めるもの（初乗距離を上限）） | X34: =VLOOKUP($X33,名前2!$A$5:$B$8,2,0) -> 車種区分① | AM34: 圧力を動力源として用いる自動車をいう。 | AS34: ３ 上記の車種区分において、ハイブリッド自動車とは、 | AU34: ３ 上記の車種区分において、ハイブリッド自動車とは、
B35: ② | D35: 設定する（定額制） | Z35: 初乗距離 | AF35: 初乗時間 | AH35: 加算時間 | AS35: 内燃機関を搭載し、併せて電気又は蓄圧器に蓄えられた | AU35: 内燃機関を搭載し、併せて電気又は蓄圧器に蓄えられた
E36: =IF($C$35="○",IF(P38<>0,"特定大型車",""),"") | G36: =IF(E36="","","円") | X36: 距離制運賃 | Z36: 1.2 | AC36: 時間制運賃 | AF36: 30 | AH36: 30 | AJ36: =AF36-AH36 -> 0 | AS36: 圧力を動力源として用いる自動車をいう。 | AU36: 圧力を動力源として用いる自動車をいう。
E37: =IF($C$35="○",IF(Q38<>0,"大型車",""),"") | G37: =IF(E37="","","円") | H37: =IF(C35="○","※初乗運賃より高い金額は設定できません。","") | V37: 兵庫 | W37: 設定範囲 | X37: 特定大型車 | Y37: 兵庫!$A$8 | Z37: 兵庫!$A$9:$Z$16 | AB37: 設定範囲 | AC37: 特定大型車 | AD37: 兵庫!$O$8 | AE37: 兵庫!$O$9:$Z$16 | AS37: ４ 「標準仕様ユニバーサルデザインタクシー認定要領」
E38: =IF($C$35="○",IF(R38<>0,"普通車",""),"") | G38: =IF(E38="","","円") | P38: =COUNTIF(P27:P37,"○") -> 0 | Q38: =COUNTIF(Q27:Q37,"○") -> 0 | R38: =COUNTIF(R27:R37,"○") -> 0 | T38: =SUM(P38:S38) -> 0 | U38: =COUNTIF(U27:U37,"○") -> 0 | W38: 設定範囲 | X38: 大型車 | Y38: 兵庫!$A$20 | Z38: 兵庫!$A$21:$Z$28 | AB38: 設定範囲 | AC38: 大型車 | AD38: 兵庫!$O$20 | AE38: 兵庫!$O$21:$Z$28 | AS38: （平成２４年３月２８日付け国自旅第１９２号」に基づき
M39: 距離制設定 | N39: 時間制設定 | O39: エラー判定 | P39: =IFERROR(LEFT(VLOOKUP("○",INDIRECT(別紙!$Z$3),2,0),1),"") | Q39: =IFERROR(LEFT(VLOOKUP("○",INDIRECT(別紙!$Z$4),2,0),1),"") | R39: =IFERROR(LEFT(VLOOKUP("○",INDIRECT(別紙!$Z$5),2,0),1),"") | S39: =IFERROR(LEFT(VLOOKUP("○",INDIRECT(別紙!$Z$6),2,0),1),"") | T39: =CONCATENATE(P39,Q39,R39,S39,"-") -> - | W39: 設定範囲 | X39: 普通車 | Y39: 兵庫!$A$32 | Z39: 兵庫!$A$33:$Z$39 | AB39: 設定範囲 | AC39: 普通車 | AD39: 兵庫!$O$32 | AE39: 兵庫!$O$33:$Z$39 | AS39: 認定された型式のうち通称名「ＪＰＮ ＴＡＸＩ」につい
B40: ③ | D40: 設定しない | M40: =IF(C24="○","○",IF(COUNTIF(INDIRECT($M$26&"!$A:$A"),"○")>0,"○","☓")) -> ☓ | N40: =IF(COUNTIF(INDIRECT($M$26&"!$O:$O"),"○")>0,"○","☓") -> ☓ | O40: =IF(ISERROR(M40),"☓","") | P40: =IFERROR(LEFT(VLOOKUP("○",INDIRECT(別紙!$AE$3),2,0),1),"") | Q40: =IFERROR(LEFT(VLOOKUP("○",INDIRECT(別紙!$AE$4),2,0),1),"") | R40: =IFERROR(LEFT(VLOOKUP("○",INDIRECT(別紙!$AE$5),2,0),1),"") | S40: =IFERROR(LEFT(VLOOKUP("○",INDIRECT(別紙!$AE$7),2,0),1),"") | T40: =CONCATENATE(P40,Q40,R40,S40,"-") -> - | AS40: ては、上記の車種区分によらず、中型車の区分を適用する。
M41: 申請書表紙運賃内容表示用 | W41: 車種区分 | X41: 車種区分３
A42: 6 | B42: 各種割引を設定しますか ※身体障害者割引、知的障害者割引、深夜及び早朝割増は 基本設定となります。 | I42: =IF(COUNTA(B43:B45)=3,"入力完了","入力内容を確認してください") -> 入力内容を確認してください | M42: 短縮あり | N42: 短縮なし | X42: =VLOOKUP($X41,名前2!$A$5:$B$8,2,0) -> 車種区分③
D43: 精神障害者割引(1割引) ※身体障害者、知的障害者割引等とは重複しません。 | K43: ※他の障害者同様、適用対象とするようご理解ご協力をお願いします。 | M43: =IF(#REF!="短縮する",IF(COUNT(#REF!)=1,"○","☓"),"") -> #REF! | N43: =IF(#REF!="短縮する","",IF(#REF!="短縮しない","","☓")) -> #REF! | P43: 迎有 | Q43: =IF(C34="○",P43,"") | Z43: 初乗距離 | AF43: 初乗時間 | AH43: 加算時間
D44: 高齢者割引(65歳以上)(1割引) ※身体障害者、知的障害者割引等とは重複しません。 | M44: 初乗運賃 | N44: 1 | P44: 迎有（定額制） | Q44: =IF(C35="○",P44,"") | X44: 距離制運賃 | Z44: 1.3 | AC44: 時間制運賃 | AF44: 30 | AH44: 30 | AJ44: =AF44-AH44 -> 0
D45: 運転免許証返納者割引(1割引) ※身体障害者、知的障害者割引等とは重複しません。 | M45: 加算倍率 | N45: 1 | V45: 奈良 | W45: 設定範囲 | X45: 特定大型車 | Y45: 奈良!$A$8 | Z45: 奈良!$A$9:$Z$14 | AB45: 設定範囲 | AC45: 特定大型車 | AD45: 奈良!$O$8 | AE45: 奈良!$O$9:$Z$14
M46: =IF(COUNTA(F36:F39)-T38=0,0,-1) -> 0 | W46: 設定範囲 | X46: 大型車 | Y46: 奈良!$A$18 | Z46: 奈良!$A$19:$Z$24 | AB46: 設定範囲 | AC46: 大型車 | AD46: 奈良!$O$18 | AE46: 奈良!$O$19:$Z$24
M47: =IF(VLOOKUP($C$35,$C$27:$N$37,12,0)="普通車",2,3) -> #N/A | W47: 設定範囲 | X47: 普通車 | Y47: 奈良!$A$28 | Z47: 奈良!$A$29:$Z$34 | AB47: 設定範囲 | AC47: 普通車 | AD47: 奈良!$O$28 | AE47: 奈良!$O$29:$Z$34
B48: エラーチェック | C48: =IF(N2=0,"入力完了→運輸支局へ提出してください","未入力等がありますので、再度確認してください") -> 未入力等がありますので、再度確認してください
P49: 迎無 | Q49: =IF(C40="○",P49,"") | W49: 車種区分 | X49: 車種区分３
B50: 申請書表紙と、申請書別紙を印刷して、内容を確認のうえ営業所を管轄する運輸支局へ３部（うち控え１部）提出してください | X50: =VLOOKUP($X49,名前2!$A$5:$B$8,2,0) -> 車種区分③
C51: → | D51: =HYPERLINK("#"&"申請書表紙!A1","申請書表紙") -> 申請書表紙 | Z51: 初乗距離 | AF51: 初乗時間 | AH51: 加算時間
C52: → | D52: =HYPERLINK("#"&"別紙!A1","申請書別紙") -> 申請書別紙 | E52: ※申請内容に間違いが無いか、必ず確認してください。 | P52: S | Q52: =IF(B43="設定する",P52,"") | X52: 距離制運賃 | Z52: 0.9 | AC52: 時間制運賃 | AD52: 到着時算定開始 | AF52: 60 | AH52: 30 | AJ52: =AF52-AH52 -> 30
P53: 高 | Q53: =IF(B44="設定する",P53,"") | V53: 滋賀 | W53: 設定範囲 | X53: 特定大型車 | Y53: 滋賀!$A$8 | Z53: 滋賀!$A$9:$Z$15 | AB53: 設定範囲 | AC53: 特定大型車 | AD53: 滋賀!$O$8 | AE53: 滋賀!$O$9:$Z$15
B54: この様式にかかる相談先 | P54: 免許返納 | Q54: =IF(B45="設定する",P54,"") | W54: 設定範囲 | X54: 大型車 | Y54: 滋賀!$A$19 | Z54: 滋賀!$A$20:$Z$26 | AB54: 設定範囲 | AC54: 大型車 | AD54: 滋賀!$O$19 | AE54: 滋賀!$O$20:$Z$26
D55: 近畿運輸局自動車交通部 | E55: 旅客第二課 | G55: TEL | H55: 06-6949-6446 | W55: 設定範囲 | X55: 普通車 | Y55: 滋賀!$A$30 | Z55: 滋賀!$A$31:$Z$37 | AB55: 設定範囲 | AC55: 普通車 | AD55: 滋賀!$O$30 | AE55: 滋賀!$O$31:$Z$37
D56: kkt-taxi-shinsei@ | E56: ki.mlit.go.jp | G56: FAX | H56: 06-6949-6531 | Q56: =IF(C46="○",P56,"") | W56: 設定範囲 | AB56: 設定範囲
B57: 提出先運輸支局 | I57: TEL | K57: FAX | W57: 車種区分 | X57: 車種区分２
B58: 大阪運輸支局 | D58: 輸送部門 | E58: 572-0846 | F58: 寝屋川市高宮栄町１２－１ | I58: 072-822-6733 | K58: 072-822-3317 | X58: =VLOOKUP($X57,名前2!$A$5:$B$8,2,0) -> 車種区分②
W59: 設定範囲
W60: 車種区分 | X60: 車種区分３
X61: =VLOOKUP($X60,名前2!$A$5:$B$8,2,0) -> 車種区分③
V136: =IF($X136<>"",MAX(V$127:V135)+1,"") -> #REF! | X136: =IF(手引き!#REF!="○","時から運送を終わるまでの時間による。","") -> #REF!
V137: =IF($X137<>"",MAX(V$127:V136)+1,"") -> #REF! | W137: =IF(X137="","","・") -> #REF! | X137: =IF(手引き!#REF!="○","時間制運賃は"&手引き!#REF!&"分単位とし、"&手引き!#REF!&"分未満の端数が生じた場合は、切り上げるものとする。","") -> #REF!
V138: =IF($X138<>"",MAX(V$127:V137)+1,"") -> #REF! | W138: =IF(X138="","","・") -> #REF! | X138: =IF(手引き!#REF!="○","時間制による契約の場合は、メーター器にカバーを用い前面に「貸切」の表示をする。",IF(手引き!#REF!="○","定額運賃による契約の場合は、メーター器にカバーを用い前面に「定額」の表示をする。","")) -> #REF!
V139: =IF($X139<>"",MAX(V$127:V138)+1,"")
V140: =IF($X140<>"",MAX(V$127:V139)+1,"")

Sheet 申請書表紙
G1: =IF(手引き!D9="","令和 年 月 日",手引き!D9) -> 令和 年 月 日
A3: 近畿運輸局長 殿
E5: 住所 | F5: =IF(手引き!D10="","",手引き!D10)
E6: 名称 | F6: =IF(手引き!D11="","",手引き!D11)
E7: 代表者名 | F7: =IF(手引き!D12="","",手引き!D12)
E9: 担当者氏名 | F9: =IF(手引き!D13="","",手引き!D13)
E10: 担当者電話番号 | F10: =IF(手引き!D14="","",手引き!D14)
E11: 担当者メールアドレス | F11: =IF(手引き!D15="","",手引き!D15)
E12: （代理人が担当する場合は委任状の添付が必要となります）
F13: =IF(手引き!D17="","",手引き!D17)
E15: 一般乗用旅客自動車運送事業（１人１車制個人タクシーを除く。）の
E16: =IF(手引き!$C$18="○","運賃及び料金設定認可申請書","運賃及び料金変更認可申請書") -> 運賃及び料金変更認可申請書
A19: =IF(手引き!$C$18="○","今般、一般乗用旅客自動車運送事業の運賃及び料金の設定をしたいので、","今般、一般乗用旅客自動車運送事業の運賃及び料金の変更をしたいので、") -> 今般、一般乗用旅客自動車運送事業の運賃及び料金の変更をしたいので、
A20: 道路運送法第９条の３及び同法施行規則第１０条の３の規定により、下記のとおり申請致します。
E23: 記
A24: １．氏名又は名称及び住所並びに法人にあっては、その代表者の氏名
B27: 住所： | C27: =F5
B28: 名称： | C28: =F6
B29: 代表者名： | C29: =F7
A32: ２．設定（変更）しようとする運賃及び料金を適用する営業区域
B34: =IFERROR(手引き!$J$30,"") -> 大阪府
A36: ３．設定（変更）しようとする運賃及び料金の種類、額及び適用方法
B38: 別紙のとおり
A41: =IF(手引き!C18="○",""," ４．変更を必要とする理由") -> ４．変更を必要とする理由
B43: =IF(手引き!C18="○","",IF(手引き!E20="","",手引き!E20))
A45: 添付資料
B46: =IF(手引き!C19="○","現行の認可書の写し",IF(B47="","無","")) -> 無
E48: （運輸局整理用）
E49: =IFERROR(CONCATENATE(手引き!$M$26,手引き!$Q$24,手引き!$T$39,手引き!$T$40,手引き!$Q$43,手引き!$Q$44,手引き!$Q$49,手引き!$Q$51,手引き!$Q$52,手引き!$Q$53,手引き!$Q$54,手引き!$Q$55,手引き!$Q$58,手引き!#REF!,手引き!$Q$64,手引き!$Q$69),"")
E50: =手引き!I2 -> ※令和8年9月更新様式

Sheet 別紙
A1: 別 紙 | Z1: =INDEX(手引き!Z:Z,MATCH($V$3,手引き!$V:$V,0)-2) -> 初乗距離
X2: =INDEX(手引き!X:X,MATCH($V$3,手引き!$V:$V,0)-1) -> 距離制運賃 | Z2: =INDEX(手引き!Z:Z,MATCH($V$3,手引き!$V:$V,0)-1) -> 1.2 | AC2: =INDEX(手引き!AC:AC,MATCH($V$3,手引き!$V:$V,0)-1) -> 時間制運賃 | AD2: =INDEX(手引き!AD:AD,MATCH($V$3,手引き!$V:$V,0)-1) -> 0 | AF2: =INDEX(手引き!AF:AF,MATCH($V$3,手引き!$V:$V,0)-1) -> 30 | AH2: =INDEX(手引き!AH:AH,MATCH($V$3,手引き!$V:$V,0)-1) -> 30 | AJ2: =INDEX(手引き!AJ:AJ,MATCH($V$3,手引き!$V:$V,0)-1) -> 0
V3: =手引き!M26 -> 大阪 | W3: =INDEX(手引き!W:W,MATCH($V$3,手引き!$V:$V,0)) -> 設定範囲 | X3: =INDEX(手引き!X:X,MATCH($V$3,手引き!$V:$V,0)) -> 特定大型車 | Y3: =INDEX(手引き!Y:Y,MATCH($V$3,手引き!$V:$V,0)) -> 大阪!$A$8 | Z3: =INDEX(手引き!Z:Z,MATCH($V$3,手引き!$V:$V,0)) -> 大阪!$A$9:$Z$14 | AB3: =INDEX(手引き!AB:AB,MATCH($V$3,手引き!$V:$V,0)) -> 設定範囲 | AC3: =INDEX(手引き!AC:AC,MATCH($V$3,手引き!$V:$V,0)) -> 特定大型車 | AD3: =INDEX(手引き!AD:AD,MATCH($V$3,手引き!$V:$V,0)) -> 大阪!$O$8 | AE3: =INDEX(手引き!AE:AE,MATCH($V$3,手引き!$V:$V,0)) -> 大阪!$O$9:$Z$14
A4: １．適用する営業区域 | W4: =INDEX(手引き!W:W,MATCH($V$3,手引き!$V:$V,0)+1) -> 設定範囲 | X4: =INDEX(手引き!X:X,MATCH($V$3,手引き!$V:$V,0)+1) -> 大型車 | Y4: =INDEX(手引き!Y:Y,MATCH($V$3,手引き!$V:$V,0)+1) -> 大阪!$A$18 | Z4: =INDEX(手引き!Z:Z,MATCH($V$3,手引き!$V:$V,0)+1) -> 大阪!$A$19:$Z$23 | AB4: =INDEX(手引き!AB:AB,MATCH($V$3,手引き!$V:$V,0)+1) -> 設定範囲 | AC4: =INDEX(手引き!AC:AC,MATCH($V$3,手引き!$V:$V,0)+1) -> 大型車 | AD4: =INDEX(手引き!AD:AD,MATCH($V$3,手引き!$V:$V,0)+1) -> 大阪!$O$18 | AE4: =INDEX(手引き!AE:AE,MATCH($V$3,手引き!$V:$V,0)+1) -> 大阪!$O$19:$Z$23
B5: =手引き!$J$30 -> 大阪府 | W5: =INDEX(手引き!W:W,MATCH($V$3,手引き!$V:$V,0)+2) -> 設定範囲 | X5: =INDEX(手引き!X:X,MATCH($V$3,手引き!$V:$V,0)+2) -> 普通車 | Y5: =INDEX(手引き!Y:Y,MATCH($V$3,手引き!$V:$V,0)+2) -> 大阪!$A$27 | Z5: =INDEX(手引き!Z:Z,MATCH($V$3,手引き!$V:$V,0)+2) -> 大阪!$A$28:$Z$32 | AB5: =INDEX(手引き!AB:AB,MATCH($V$3,手引き!$V:$V,0)+2) -> 設定範囲 | AC5: =INDEX(手引き!AC:AC,MATCH($V$3,手引き!$V:$V,0)+2) -> 普通車 | AD5: =INDEX(手引き!AD:AD,MATCH($V$3,手引き!$V:$V,0)+2) -> 大阪!$O$27 | AE5: =INDEX(手引き!AE:AE,MATCH($V$3,手引き!$V:$V,0)+2) -> 大阪!$O$28:$Z$32
B6: （ただし、上記のうち現に許可を受けている区域に限る。） | W6: =IF(INDEX(手引き!W:W,MATCH($V$3,手引き!$V:$V,0)+3)=0,"",INDEX(手引き!W:W,MATCH($V$3,手引き!$V:$V,0)+3)) -> 設定範囲 | X6: =IF(INDEX(手引き!X:X,MATCH($V$3,手引き!$V:$V,0)+3)=0,"",INDEX(手引き!X:X,MATCH($V$3,手引き!$V:$V,0)+3)) | Y6: =IF(INDEX(手引き!Y:Y,MATCH($V$3,手引き!$V:$V,0)+3)=0,"",INDEX(手引き!Y:Y,MATCH($V$3,手引き!$V:$V,0)+3)) | Z6: =IF(INDEX(手引き!Z:Z,MATCH($V$3,手引き!$V:$V,0)+3)=0,"",INDEX(手引き!Z:Z,MATCH($V$3,手引き!$V:$V,0)+3)) | AB6: =IF(INDEX(手引き!AB:AB,MATCH($V$3,手引き!$V:$V,0)+3)=0,"",INDEX(手引き!AB:AB,MATCH($V$3,手引き!$V:$V,0)+3)) -> 設定範囲
W7: =INDEX(手引き!W:W,MATCH($V$3,手引き!$V:$V,0)+4) -> 車種区分 | X7: =INDEX(手引き!X:X,MATCH($V$3,手引き!$V:$V,0)+4) -> 車種区分１ | AC7: =IF(INDEX(手引き!AC:AC,MATCH($V$3,手引き!$V:$V,0)+3)=0,"",INDEX(手引き!AC:AC,MATCH($V$3,手引き!$V:$V,0)+3)) | AD7: =IF(INDEX(手引き!AD:AD,MATCH($V$3,手引き!$V:$V,0)+3)=0,"",INDEX(手引き!AD:AD,MATCH($V$3,手引き!$V:$V,0)+3)) | AE7: =IF(INDEX(手引き!AE:AE,MATCH($V$3,手引き!$V:$V,0)+3)=0,"",INDEX(手引き!AE:AE,MATCH($V$3,手引き!$V:$V,0)+3))
A8: ２．距離制運賃 | X8: =INDEX(手引き!X:X,MATCH($V$3,手引き!$V:$V,0)+5) -> 車種区分①
B9: =IF(OR(U9=0,U9=""),"",VLOOKUP(COUNTIF($U$9:$U$9,"・"),名前2!B50:B99,1,0)) -> 1 | C9: =IF($R$9="設定しない","","特定地域及び準特定地域における一般乗用旅客自動車運送事業の適性化及び") -> 特定地域及び準特定地域における一般乗用旅客自動車運送事業の適性化及び | R9: =IF(手引き!$C$24="○","設定しない","") | U9: =IF(C9="","","・") -> ・
C10: =IF($R$9="設定しない","","活性化に関する特別措置法（平成21年法律第64号。以下「法」という。）に") -> 活性化に関する特別措置法（平成21年法律第64号。以下「法」という。）に
C11: =IF($R$9="設定しない","","よる特定地域及び準特定地域（福祉輸送サービスを行う場合を除く。）") -> よる特定地域及び準特定地域（福祉輸送サービスを行う場合を除く。） | W11: =IF(手引き!$C$23="設定する","特定地域及び") -> FALSE
B14: =IF($R$9="設定しない","","(1)") -> (1) | C14: =IF($R$9="設定しない","","初乗運賃") -> 初乗運賃
C15: =IF($R$9="設定しない","","法第16条の4条1項に基づき近畿運輸局長に届け出たもの。") -> 法第16条の4条1項に基づき近畿運輸局長に届け出たもの。
B17: =IF($R$9="設定しない","","(2)") -> (2) | C17: =IF($R$9="設定しない","","加算運賃") -> 加算運賃
C18: =IF($R$9="設定しない","","法第16条の4条1項に基づき近畿運輸局長に届け出たもの。") -> 法第16条の4条1項に基づき近畿運輸局長に届け出たもの。 | AL18: =IF(手引き!$C$24="○","設定しない","")
AL19: =IF(手引き!$C$24="○","設定しない","")
B20: =IF($R$9="設定しない","","(3)") -> (3) | C20: =IF($R$9="設定しない","","時間距離併用運賃") -> 時間距離併用運賃 | AL20: =IF(手引き!$C$24="○","設定しない","")
C21: =IF($R$9="設定しない","","法第16条の4条1項に基づき近畿運輸局長に届け出たもの。") -> 法第16条の4条1項に基づき近畿運輸局長に届け出たもの。
B23: =IF($R$9="設定しない","","(4)") -> (4) | C23: =IF($R$9="設定しない","","運賃の割増及び割引") -> 運賃の割増及び割引 | AL23: =IF(手引き!$C$24="○","設定しない","")
C24: =IF($R$9="設定しない","","２．距離制運賃②(4)に同じ。") -> ２．距離制運賃②(4)に同じ。 | AL24: =IF(手引き!$C$24="○","設定しない","")
B26: =IF(OR(U9=0,U9=""),"",VLOOKUP(COUNTIF($U$9:$U$26,"・"),名前2!B50:B99,1,0)) -> 2 | C26: =IF($R$9="設定しない","","①を除く営業区域又は福祉輸送サービスを行う場合") -> ①を除く営業区域又は福祉輸送サービスを行う場合 | U26: =IF(C26="","","・") -> ・ | AL26: =IF(手引き!$C$24="○","設定しない","")
AL27: =IF(手引き!$C$24="○","設定しない","")
B28: =IF($R$9="設定しない","","(1)") -> (1) | C28: =IF($R$9="設定しない","","初乗運賃") -> 初乗運賃
D29: =IF($R$9="設定しない","",IF(INDIRECT($Y$3)="無","",$X$3)) | H29: =IF($R$9="設定しない","",IF(INDIRECT($Y$3)="無","",$Z$2)) | I29: =IF($R$9="設定しない","",IF(INDIRECT($Y$3)="無","","キロメートルまで")) | S29: =IF($R$9="設定しない","",IF(INDIRECT($Y$3)="無","",VLOOKUP("○",INDIRECT($Z$3),3,0))) | T29: =IF($R$9="設定しない","",IF(INDIRECT($Y$3)="無","","円")) | AL29: =IF(手引き!$C$24="○","設定しない","")
D30: =IF($R$9="設定しない","",IF(INDIRECT($Y$4)="無","",$X$4)) | H30: =IF($R$9="設定しない","",IF(INDIRECT($Y$4)="無","",$Z$2)) | I30: =IF($R$9="設定しない","",IF(INDIRECT($Y$4)="無","","キロメートルまで")) | S30: =IF($R$9="設定しない","",IF(INDIRECT($Y$4)="無","",VLOOKUP("○",INDIRECT($Z$4),3,0))) | T30: =IF($R$9="設定しない","",IF(INDIRECT($Y$4)="無","","円")) | AL30: =IF(手引き!$C$24="○","設定しない","")
D31: =IF($R$9="設定しない","",IF(INDIRECT($Y$5)="無","",$X$5)) | H31: =IF($R$9="設定しない","",IF(INDIRECT($Y$5)="無","",$Z$2)) | I31: =IF($R$9="設定しない","",IF(INDIRECT($Y$5)="無","","キロメートルまで")) | S31: =IF($R$9="設定しない","",IF(INDIRECT($Y$5)="無","",VLOOKUP("○",INDIRECT($Z$5),3,0))) | T31: =IF($R$9="設定しない","",IF(INDIRECT($Y$5)="無","","円"))
D32: =IF($R$9="設定しない","",IF($X$6="","",IF(INDIRECT($Y$6)="無","",$X$6))) | H32: =IF($R$9="設定しない","",IF($X$6="","",IF(INDIRECT($Y$6)="無","",$Z$2))) | I32: =IF($R$9="設定しない","",IF($X$6="","",IF(INDIRECT($Y$6)="無","","キロメートルまで"))) | S32: =IF($R$9="設定しない","",IF($X$6="","",IF(INDIRECT($Y$6)="無","",VLOOKUP("○",INDIRECT($Z$6),3,0)))) | T32: =IF($R$9="設定しない","",IF($X$6="","",IF(INDIRECT($Y$6)="無","","円"))) | AL32: =IF(手引き!$C$24="○","設定しない","")
AL33: =IF(手引き!$C$24="○","設定しない","")
B34: =IF($R$9="設定しない","","(2)") -> (2) | C34: =IF(R9="設定しない","","加算運賃") -> 加算運賃
D35: =IF($R$9="設定しない","",IF(INDIRECT($Y$3)="無","",$X$3)) | H35: =IF($R$9="設定しない","",IF(INDIRECT($Y$3)="無","",VLOOKUP("○",INDIRECT($Z$3),5,0))) | I35: =IF($R$9="設定しない","",IF(INDIRECT($Y$3)="無","","メートルまでごとに")) | S35: =IF($R$9="設定しない","",IF(INDIRECT($Y$3)="無","",VLOOKUP("○",INDIRECT($Z$3),7,0))) | T35: =IF($R$9="設定しない","",IF(INDIRECT($Y$3)="無","","円"))
D36: =IF($R$9="設定しない","",IF(INDIRECT($Y$4)="無","",$X$4)) | H36: =IF($R$9="設定しない","",IF(INDIRECT($Y$4)="無","",VLOOKUP("○",INDIRECT($Z$4),5,0))) | I36: =IF($R$9="設定しない","",IF(INDIRECT($Y$4)="無","","メートルまでごとに")) | S36: =IF($R$9="設定しない","",IF(INDIRECT($Y$4)="無","",VLOOKUP("○",INDIRECT($Z$4),7,0))) | T36: =IF($R$9="設定しない","",IF(INDIRECT($Y$4)="無","","円"))
D37: =IF($R$9="設定しない","",IF(INDIRECT($Y$5)="無","",$X$5)) | H37: =IF($R$9="設定しない","",IF(INDIRECT($Y$5)="無","",VLOOKUP("○",INDIRECT($Z$5),5,0))) | I37: =IF($R$9="設定しない","",IF(INDIRECT($Y$5)="無","","メートルまでごとに")) | S37: =IF($R$9="設定しない","",IF(INDIRECT($Y$5)="無","",VLOOKUP("○",INDIRECT($Z$5),7,0))) | T37: =IF($R$9="設定しない","",IF(INDIRECT($Y$5)="無","","円"))
D38: =IF($R$9="設定しない","",IF($X$6="","",IF(INDIRECT($Y$6)="無","",$X$6))) | H38: =IF($R$9="設定しない","",IF($X$6="","",IF(INDIRECT($Y$6)="無","",VLOOKUP("○",INDIRECT($Z$6),5,0)))) | I38: =IF($R$9="設定しない","",IF($X$6="","",IF(INDIRECT($Y$6)="無","","メートルまで"))) | S38: =IF($R$9="設定しない","",IF($X$6="","",IF(INDIRECT($Y$6)="無","",VLOOKUP("○",INDIRECT($Z$6),7,0)))) | T38: =IF($R$9="設定しない","",IF($X$6="","",IF(INDIRECT($Y$6)="無","","円")))
B40: =IF($R$9="設定しない","","(3)") -> (3) | C40: =IF(R9="設定しない","","時間距離併用運賃") -> 時間距離併用運賃
D41: =IF($R$9="設定しない","",IF(INDIRECT($Y$3)="無","",$X$3)) | H41: =IF($R$9="設定しない","",IF(INDIRECT($Y$3)="無","","時速10キロメートル以下の運行時間について"))
K42: =IF($R$9="設定しない","",IF(INDIRECT($Y$3)="無","",VLOOKUP("○",INDIRECT($Z$3),9,0))) | L42: =IF($R$9="設定しない","",IF(INDIRECT($Y$3)="無","","分")) | M42: =IF($R$9="設定しない","",IF(INDIRECT($Y$3)="無","",VLOOKUP("○",INDIRECT($Z$3),11,0))) | N42: =IF($R$9="設定しない","",IF(INDIRECT($Y$3)="無","","秒間までごとに")) | S42: =IF($R$9="設定しない","",IF(INDIRECT($Y$3)="無","",VLOOKUP("○",INDIRECT($Z$3),13,0))) | T42: =IF($R$9="設定しない","",IF(INDIRECT($Y$3)="無","","円"))
D43: =IF($R$9="設定しない","",IF(INDIRECT($Y$4)="無","",$X$4)) | H43: =IF($R$9="設定しない","",IF(INDIRECT($Y$4)="無","","時速10キロメートル以下の運行時間について"))
K44: =IF($R$9="設定しない","",IF(INDIRECT($Y$4)="無","",VLOOKUP("○",INDIRECT($Z$4),9,0))) | L44: =IF($R$9="設定しない","",IF(INDIRECT($Y$4)="無","","分")) | M44: =IF($R$9="設定しない","",IF(INDIRECT($Y$4)="無","",VLOOKUP("○",INDIRECT($Z$4),11,0))) | N44: =IF($R$9="設定しない","",IF(INDIRECT($Y$4)="無","","秒間までごとに")) | S44: =IF($R$9="設定しない","",IF(INDIRECT($Y$4)="無","",VLOOKUP("○",INDIRECT($Z$4),13,0))) | T44: =IF($R$9="設定しない","",IF(INDIRECT($Y$4)="無","","円"))
D45: =IF($R$9="設定しない","",IF(INDIRECT($Y$5)="無","",$X$5)) | H45: =IF($R$9="設定しない","",IF(INDIRECT($Y$5)="無","","時速10キロメートル以下の運行時間について"))
K46: =IF($R$9="設定しない","",IF(INDIRECT($Y$5)="無","",VLOOKUP("○",INDIRECT($Z$5),9,0))) | L46: =IF($R$9="設定しない","",IF(INDIRECT($Y$5)="無","","分")) | M46: =IF($R$9="設定しない","",IF(INDIRECT($Y$5)="無","",VLOOKUP("○",INDIRECT($Z$5),11,0))) | N46: =IF($R$9="設定しない","",IF(INDIRECT($Y$5)="無","","秒間までごとに")) | S46: =IF($R$9="設定しない","",IF(INDIRECT($Y$5)="無","",VLOOKUP("○",INDIRECT($Z$5),13,0))) | T46: =IF($R$9="設定しない","",IF(INDIRECT($Y$5)="無","","円"))
D47: =IF($R$9="設定しない","",IF($X$6="","",IF(INDIRECT($Y$6)="無","",$X$6))) | H47: =IF($R$9="設定しない","",IF($X$6="","",IF(INDIRECT($Y$6)="無","","時速10キロメートル以下の運行時間について")))
K48: =IF($R$9="設定しない","",IF($X$6="","",IF(INDIRECT($Y$6)="無","",VLOOKUP("○",INDIRECT($Z$6),9,0)))) | L48: =IF($R$9="設定しない","",IF($X$6="","",IF(INDIRECT($Y$6)="無","","分"))) | M48: =IF($R$9="設定しない","",IF($X$6="","",IF(INDIRECT($Y$6)="無","",VLOOKUP("○",INDIRECT($Z$6),11,0)))) | N48: =IF($R$9="設定しない","",IF($X$6="","",IF(INDIRECT($Y$6)="無","","秒間までごとに"))) | S48: =IF($R$9="設定しない","",IF($X$6="","",IF(INDIRECT($Y$6)="無","",VLOOKUP("○",INDIRECT($Z$6),13,0)))) | T48: =IF($R$9="設定しない","",IF($X$6="","",IF(INDIRECT($Y$6)="無","","円")))
B50: =IF($R$9="設定しない","","(4)") -> (4) | C50: =IF(R9="設定しない","","運賃の割増及び割引") -> 運賃の割増及び割引
D51: =IF($R$9="設定しない","","深夜及び早朝割増") -> 深夜及び早朝割増 | R51: =IF($R$9="設定しない","","２ 割 増") -> ２ 割 増
D52: =IF($R$9="設定しない","","身体障害者割引") -> 身体障害者割引 | R52: =IF($R$9="設定しない","","１ 割 引") -> １ 割 引
D53: =IF($R$9="設定しない","","知的障害者割引") -> 知的障害者割引 | R53: =IF($R$9="設定しない","","１ 割 引") -> １ 割 引
D54: =IF($R$9="設定しない","",IF(R54="","","精神障害者割引")) | R54: =IF($R$9="設定しない","",IF(手引き!B43="設定する","１ 割 引",""))
D55: =IF($R$9="設定しない","",IF(R55="","","高齢者割引(65歳以上)")) | R55: =IF($R$9="設定しない","",IF(手引き!B44="設定する","１ 割 引",""))
D56: =IF($R$9="設定しない","",IF(R56="","","運転免許証返納者割引")) | R56: =IF($R$9="設定しない","",IF(手引き!B45="設定する","１ 割 引",""))
A58: ３．迎車回送料金 | R58: =IF(手引き!C40="○","設定しない","")
C59: =IF($R$9="設定しない","",IF(手引き!F36="","",IF(手引き!$C$35="○","特定大型車 １回"))) | R59: =IF(手引き!F36="","",手引き!F36) | T59: =IF(R59="","","円")
C60: =IF($R$9="設定しない","",IF(手引き!C34="○","迎車のための回送距離について初乗距離を限度として実車扱いとし、",IF(手引き!F37="","","大型車 １回"))) | R60: =IF(手引き!F37="","",手引き!F37) | T60: =IF(R60="","","円")
C61: =IF($R$9="設定しない","",IF(手引き!C34="○","初乗運賃額を限度とする。",IF(手引き!F38="","","普通車 １回"))) | R61: =IF(手引き!F38="","",手引き!F38) | T61: =IF(R61="","","円")
C62: =IF($R$9="設定しない","",IF(手引き!F39="","",IF(手引き!$C$35="○","小型車 １回"))) | R62: =IF(手引き!F39="","",手引き!F39) | T62: =IF(R62="","","円")
A63: ４．時間制運賃
B64: =IF(OR(U64=0,U64=""),"",VLOOKUP(COUNTIF($U$64:$U$64,"・"),名前2!B50:B99,1,0)) -> 1 | C64: =IF($R$9="設定しない","特定地域及び準特定地域における一般乗用旅客自動車運送事業の適性化及び活性化に関する特別措置法（平成21年法律第64号。以下「法」という。）による特定地域及び準特定地域（福祉輸送サービスを行う場合を除く。）","法による特定地域及び準特定地域（福祉輸送サービスを行う場合を除く。)") -> 法による特定地域及び準特定地域（福祉輸送サービスを行う場合を除く。) | U64: =IF(C64="","","・") -> ・
B68: (1) | C68: 運 賃
C69: 法第16条の4第1項に基づき近畿運輸局長に届け出たもの。
B71: (2) | C71: 運賃の割引
C72: ４．時間制運賃②(2)に同じ。
B74: ② | C74: ①を除く営業区域又は福祉輸送サービスを行う場合
B75: (1) | C75: =IF(W79=0,"運 賃","初乗運賃") -> 運 賃
D76: =IF(INDIRECT($AD$3)="無","",$AC$3) | H76: =IF(INDIRECT($AD$3)="無","",$AF$2*手引き!$N$44) | I76: =IF(INDIRECT($AD$3)="無","",IF(V79=0,"分間までごとに","分間まで")) | R76: =IF(INDIRECT($AD$3)="無","",ROUNDDOWN(VLOOKUP("○",INDIRECT($AE$3),3,0)*手引き!$N$44,-1)) | T76: =IF(INDIRECT($AD$3)="無","","円")
D77: =IF(INDIRECT($AD$4)="無","",$AC$4) | H77: =IF(INDIRECT($AD$4)="無","",$AF$2*手引き!$N$44) | I77: =IF(INDIRECT($AD$4)="無","",IF(V79=0,"分間までごとに","分間まで")) | R77: =IF(INDIRECT($AD$4)="無","",ROUNDDOWN(VLOOKUP("○",INDIRECT($AE$4),3,0)*手引き!$N$44,-1)) | T77: =IF(INDIRECT($AD$4)="無","","円")
D78: =IF(INDIRECT($AD$5)="無","",$AC$5) | H78: =IF(INDIRECT($AD$5)="無","",$AF$2*手引き!$N$44) | I78: =IF(INDIRECT($AD$5)="無","",IF(V79=0,"分間までごとに","分間まで")) | R78: =IF(INDIRECT($AD$5)="無","",ROUNDDOWN(VLOOKUP("○",INDIRECT($AE$5),3,0)*手引き!$N$44,-1)) | T78: =IF(INDIRECT($AD$5)="無","","円")
D79: =IF(V79=0,"",IF(INDIRECT($AD$4)="無","",$AC$4)) | H79: =IF(V79=0,"",IF(INDIRECT($AD$4)="無","",$AH$2*手引き!$N$45)) | I79: =IF(V79=0,"",IF(INDIRECT($AD$4)="無","","分間までごとに")) | R79: =IF(V79=0,"",IF(INDIRECT($AD$4)="無","",IF($AJ$2=0,ROUNDDOWN(VLOOKUP("○",INDIRECT($AE$4),3,0)*手引き!$N$45,-1),ROUNDDOWN(VLOOKUP("○",INDIRECT($AE$4),5,0)*手引き!$N$45,-1)))) | T79: =IF(V79=0,"",IF(INDIRECT($AD$4)="無","","円")) | V79: =$AF$2*手引き!$N$44-$AH$2*手引き!$N$45 -> 0
B80: (2) | C80: 運賃の割引
D81: 身体障害者割引 | R81: １ 割 引
D82: 知的障害者割引 | R82: １ 割 引
D83: =IF(手引き!$Q$52="S","精神障害者割引","") | R83: =IF(D83="精神障害者割引","１ 割 引","")
D84: =IF(手引き!$Q$53="高","高齢者割引(65歳以上)","") | R84: =IF(D84="高齢者割引(65歳以上)","１ 割 引","")
D85: =IF(手引き!$Q$54="免許返納","運転免許証返納割引","") | R85: =IF(D85="運転免許証返納割引","１ 割 引","")
A87: ５．適用方法
B88: (1)車 両
D89: =IF(HLOOKUP($X$8,名前2!C:J,2,0)=0,"",HLOOKUP($X$8,名前2!C:J,2,0)) -> 特定大型車 | H89: =IF(INDEX(手引き!$AL:$AS,V101,MATCH($X$8,手引き!$AL$1:$AS$1,0)+1)=0,"",INDEX(手引き!$AL:$AS,V101,MATCH($X$8,手引き!$AL$1:$AS$1,0)+1)) -> 道路運送車両法施行規則第２条に定める普通自動車（以下
D90: =IF(HLOOKUP($X$8,名前2!C:J,3,0)=0,"",HLOOKUP($X$8,名前2!C:J,3,0)) | H90: =IF(INDEX(手引き!$AL:$AS,V102,MATCH($X$8,手引き!$AL$1:$AS$1,0)+1)=0,"",INDEX(手引き!$AL:$AS,V102,MATCH($X$8,手引き!$AL$1:$AS$1,0)+1)) -> 「普通自動車」という。）又は小型自動車（以下「小型
D91: =IF(HLOOKUP($X$8,名前2!C:J,4,0)=0,"",HLOOKUP($X$8,名前2!C:J,4,0)) | H91: =IF(INDEX(手引き!$AL:$AS,V103,MATCH($X$8,手引き!$AL$1:$AS$1,0)+1)=0,"",INDEX(手引き!$AL:$AS,V103,MATCH($X$8,手引き!$AL$1:$AS$1,0)+1)) -> 自動車」という。）のうち乗車定員が９名以上のもの。
D92: =IF(HLOOKUP($X$8,名前2!C:J,5,0)=0,"",HLOOKUP($X$8,名前2!C:J,5,0)) -> 大 型 車 | H92: =IF(INDEX(手引き!$AL:$AS,V104,MATCH($X$8,手引き!$AL$1:$AS$1,0)+1)=0,"",INDEX(手引き!$AL:$AS,V104,MATCH($X$8,手引き!$AL$1:$AS$1,0)+1)) -> 以下のいずれかに該当する自動車。
D93: =IF(HLOOKUP($X$8,名前2!C:J,6,0)=0,"",HLOOKUP($X$8,名前2!C:J,6,0)) | H93: =IF(INDEX(手引き!$AL:$AS,V105,MATCH($X$8,手引き!$AL$1:$AS$1,0)+1)=0,"",INDEX(手引き!$AL:$AS,V105,MATCH($X$8,手引き!$AL$1:$AS$1,0)+1)) -> 一 普通自動車のうち排気量が２リットルを超えるもので
D94: =IF(HLOOKUP($X$8,名前2!C:J,7,0)=0,"",HLOOKUP($X$8,名前2!C:J,7,0)) | H94: =IF(INDEX(手引き!$AL:$AS,V106,MATCH($X$8,手引き!$AL$1:$AS$1,0)+1)=0,"",INDEX(手引き!$AL:$AS,V106,MATCH($X$8,手引き!$AL$1:$AS$1,0)+1)) -> あって乗車定員が７名以上のもの（特定大型車を除く。）。
D95: =IF(HLOOKUP($X$8,名前2!C:J,8,0)=0,"",HLOOKUP($X$8,名前2!C:J,8,0)) | H95: =IF(INDEX(手引き!$AL:$AS,V107,MATCH($X$8,手引き!$AL$1:$AS$1,0)+1)=0,"",INDEX(手引き!$AL:$AS,V107,MATCH($X$8,手引き!$AL$1:$AS$1,0)+1)) -> 二 普通自動車のうち排気量が２リットル（ハイブリッド
D96: =IF(HLOOKUP($X$8,名前2!C:J,9,0)=0,"",HLOOKUP($X$8,名前2!C:J,9,0)) | H96: =IF(INDEX(手引き!$AL:$AS,V108,MATCH($X$8,手引き!$AL$1:$AS$1,0)+1)=0,"",INDEX(手引き!$AL:$AS,V108,MATCH($X$8,手引き!$AL$1:$AS$1,0)+1)) -> 自動車にあっては２．５リットル。）を超えるもので
D97: =IF(HLOOKUP($X$8,名前2!C:J,10,0)=0,"",HLOOKUP($X$8,名前2!C:J,10,0)) | H97: =IF(INDEX(手引き!$AL:$AS,V109,MATCH($X$8,手引き!$AL$1:$AS$1,0)+1)=0,"",INDEX(手引き!$AL:$AS,V109,MATCH($X$8,手引き!$AL$1:$AS$1,0)+1)) -> あって乗車定員が６名以下のもの。
D98: =IF(HLOOKUP($X$8,名前2!C:J,11,0)=0,"",HLOOKUP($X$8,名前2!C:J,11,0)) -> 普 通 車 | H98: =IF(INDEX(手引き!$AL:$AS,V110,MATCH($X$8,手引き!$AL$1:$AS$1,0)+1)=0,"",INDEX(手引き!$AL:$AS,V110,MATCH($X$8,手引き!$AL$1:$AS$1,0)+1)) -> 以下のいずれかに該当する自動車。
D99: =IF(HLOOKUP($X$8,名前2!C:J,12,0)=0,"",HLOOKUP($X$8,名前2!C:J,12,0)) | H99: =IF(INDEX(手引き!$AL:$AS,V111,MATCH($X$8,手引き!$AL$1:$AS$1,0)+1)=0,"",INDEX(手引き!$AL:$AS,V111,MATCH($X$8,手引き!$AL$1:$AS$1,0)+1)) -> 一 普通自動車又は小型自動車のうち特定大型車及び大型
D100: =IF(HLOOKUP($X$8,名前2!C:J,13,0)=0,"",HLOOKUP($X$8,名前2!C:J,13,0)) | H100: =IF(INDEX(手引き!$AL:$AS,V112,MATCH($X$8,手引き!$AL$1:$AS$1,0)+1)=0,"",INDEX(手引き!$AL:$AS,V112,MATCH($X$8,手引き!$AL$1:$AS$1,0)+1)) -> 車に該当する自動車以外のもの。
D101: =IF(HLOOKUP($X$8,名前2!C:J,14,0)=0,"",HLOOKUP($X$8,名前2!C:J,14,0)) | H101: =IF(INDEX(手引き!$AL:$AS,V113,MATCH($X$8,手引き!$AL$1:$AS$1,0)+1)=0,"",INDEX(手引き!$AL:$AS,V113,MATCH($X$8,手引き!$AL$1:$AS$1,0)+1)) -> 二 道路運送車両法施行規則第２条に定める軽自動車（ | V101: 2
D102: =IF(HLOOKUP($X$8,名前2!C:J,15,0)=0,"",HLOOKUP($X$8,名前2!C:J,15,0)) | H102: =IF(INDEX(手引き!$AL:$AS,V114,MATCH($X$8,手引き!$AL$1:$AS$1,0)+1)=0,"",INDEX(手引き!$AL:$AS,V114,MATCH($X$8,手引き!$AL$1:$AS$1,0)+1)) -> 以下「軽自動車」という。）のうち、内燃機関を搭載し | V102: 3
D103: =IF(HLOOKUP($X$8,名前2!C:J,16,0)=0,"",HLOOKUP($X$8,名前2!C:J,16,0)) | H103: =IF(INDEX(手引き!$AL:$AS,V115,MATCH($X$8,手引き!$AL$1:$AS$1,0)+1)=0,"",INDEX(手引き!$AL:$AS,V115,MATCH($X$8,手引き!$AL$1:$AS$1,0)+1)) -> ないもの又は福祉輸送サービスの用に供するものに限る。 | V103: 4
D104: =IF(HLOOKUP($X$8,名前2!C:J,17,0)=0,"",HLOOKUP($X$8,名前2!C:J,17,0)) | H104: =IF(INDEX(手引き!$AL:$AS,V116,MATCH($X$8,手引き!$AL$1:$AS$1,0)+1)=0,"",INDEX(手引き!$AL:$AS,V116,MATCH($X$8,手引き!$AL$1:$AS$1,0)+1)) -> ただし、「タクシー事業における軽自動車の活用について」 | V104: 5
D105: =IF(HLOOKUP($X$8,名前2!C:J,18,0)=0,"",HLOOKUP($X$8,名前2!C:J,18,0)) | H105: =IF(INDEX(手引き!$AL:$AS,V117,MATCH($X$8,手引き!$AL$1:$AS$1,0)+1)=0,"",INDEX(手引き!$AL:$AS,V117,MATCH($X$8,手引き!$AL$1:$AS$1,0)+1)) -> （令和８年６月１日付け国自旅第３７号）別紙１．に基 | V105: 6
D106: =IF(HLOOKUP($X$8,名前2!C:J,19,0)=0,"",HLOOKUP($X$8,名前2!C:J,19,0)) | H106: =IF(INDEX(手引き!$AL:$AS,V118,MATCH($X$8,手引き!$AL$1:$AS$1,0)+1)=0,"",INDEX(手引き!$AL:$AS,V118,MATCH($X$8,手引き!$AL$1:$AS$1,0)+1)) -> づき近畿運輸局長が公示する地域においては、軽自動車と | V106: 7
D107: =IF(HLOOKUP($X$8,名前2!C:J,20,0)=0,"",HLOOKUP($X$8,名前2!C:J,20,0)) | H107: =IF(INDEX(手引き!$AL:$AS,V119,MATCH($X$8,手引き!$AL$1:$AS$1,0)+1)=0,"",INDEX(手引き!$AL:$AS,V119,MATCH($X$8,手引き!$AL$1:$AS$1,0)+1)) -> する。 | V107: 8
D108: =IF(HLOOKUP($X$8,名前2!C:J,21,0)=0,"",HLOOKUP($X$8,名前2!C:J,21,0)) -> 備 考 | H108: =IF(INDEX(手引き!$AL:$AS,V120,MATCH($X$8,手引き!$AL$1:$AS$1,0)+1)=0,"",INDEX(手引き!$AL:$AS,V120,MATCH($X$8,手引き!$AL$1:$AS$1,0)+1)) -> １ 自動車検査証に記載されている諸元を基準とする。 | V108: 9
D109: =IF(HLOOKUP($X$8,名前2!C:J,22,0)=0,"",HLOOKUP($X$8,名前2!C:J,22,0)) | H109: =IF(INDEX(手引き!$AL:$AS,V121,MATCH($X$8,手引き!$AL$1:$AS$1,0)+1)=0,"",INDEX(手引き!$AL:$AS,V121,MATCH($X$8,手引き!$AL$1:$AS$1,0)+1)) -> ２ 車体の形状が患者輸送車、車いす移動車又は身体障害 | V109: 10
D110: =IF(HLOOKUP($X$8,名前2!C:J,23,0)=0,"",HLOOKUP($X$8,名前2!C:J,23,0)) | H110: =IF(INDEX(手引き!$AL:$AS,V122,MATCH($X$8,手引き!$AL$1:$AS$1,0)+1)=0,"",INDEX(手引き!$AL:$AS,V122,MATCH($X$8,手引き!$AL$1:$AS$1,0)+1)) -> 者輸送車である特種自動車については、上記の車種区分に | V110: 11
D111: =IF(HLOOKUP($X$8,名前2!C:J,24,0)=0,"",HLOOKUP($X$8,名前2!C:J,24,0)) | H111: =IF(INDEX(手引き!$AL:$AS,V123,MATCH($X$8,手引き!$AL$1:$AS$1,0)+1)=0,"",INDEX(手引き!$AL:$AS,V123,MATCH($X$8,手引き!$AL$1:$AS$1,0)+1)) -> よらず、以下の区分を適用する。 | V111: 12
D112: =IF(HLOOKUP($X$8,名前2!C:J,25,0)=0,"",HLOOKUP($X$8,名前2!C:J,25,0)) | H112: =IF(INDEX(手引き!$AL:$AS,V124,MATCH($X$8,手引き!$AL$1:$AS$1,0)+1)=0,"",INDEX(手引き!$AL:$AS,V124,MATCH($X$8,手引き!$AL$1:$AS$1,0)+1)) -> 一 次号に掲げる自動車以外の自動車 | V112: 13
D113: =IF(HLOOKUP($X$8,名前2!C:J,26,0)=0,"",HLOOKUP($X$8,名前2!C:J,26,0)) | H113: =IF(INDEX(手引き!$AL:$AS,V125,MATCH($X$8,手引き!$AL$1:$AS$1,0)+1)=0,"",INDEX(手引き!$AL:$AS,V125,MATCH($X$8,手引き!$AL$1:$AS$1,0)+1)) -> ア 乗車定員が７名以上のもの 大型車 | V113: 14
D114: =IF(HLOOKUP($X$8,名前2!C:J,27,0)=0,"",HLOOKUP($X$8,名前2!C:J,27,0)) | H114: =IF(INDEX(手引き!$AL:$AS,V126,MATCH($X$8,手引き!$AL$1:$AS$1,0)+1)=0,"",INDEX(手引き!$AL:$AS,V126,MATCH($X$8,手引き!$AL$1:$AS$1,0)+1)) -> イ 乗車定員が６名以下のもの 普通車 | V114: 15
...

Sheet 大阪
B2: 大 阪 地 区 運 賃 ・ 料 金
C3: 車種区分ごとに、希望する運賃を上限～下限のうち１つ、「○」で選択してください(A列・O列)
A4: 自動認可運賃 | C4: 車両入替に備えて、導入予定車両以外の車種区分も全て設定してください。 | AB4: （参考）
D5: 入力後→ | H5: =HYPERLINK("#手引き!$B$46","手引きへ戻る") -> 手引きへ戻る | AB5: 車種区分① | AC5: 車種区分１
A6: ①特定大型車 | AB6: =HLOOKUP($AB$5,名前2!$C:$J,2,0) -> 特定大型車 | AC6: =HLOOKUP($AC$5,名前2!$C:$J,2,0) -> 道路運送車両法施行規則第２条に定める普通自動車（以下
C7: 距離制運賃 | I7: 時間距離併用制 | Q7: 時間制運賃 | AC7: =HLOOKUP($AC$5,名前2!$C:$J,3,0) -> 「普通自動車」という。）又は小型自動車（以下「小型
A8: =IF(COUNTIF(A9:A14,"○")=0,"無","") -> 無 | C8: 初乗運賃 （1．2㎞） | E8: 加 算 運 賃 | O8: =IF(COUNTIF(O9:O14,"○")=0,"無","") -> 無 | Q8: 30 | AC8: =HLOOKUP($AC$5,名前2!$C:$J,4,0) -> 自動車」という。）のうち乗車定員が９名以上のもの。
B9: 上限運賃 | C9: 650 | D9: 円 | E9: 181 | F9: m | G9: 100 | H9: 円 | I9: =TRUNC(CEILING(ROUNDUP(E9*0.36,0),5)/60,0) -> 1 | J9: 分 | K9: =TRUNC(CEILING(ROUNDUP(E9*0.36,0),5)-I9*60,0) -> 10 | L9: 秒 | M9: 100 | N9: 円 | P9: 上限運賃 | Q9: 4300 | R9: 円 | AB9: =HLOOKUP($AB$5,名前2!$C:$J,5,0) -> 大 型 車 | AC9: =HLOOKUP($AC$5,名前2!$C:$J,5,0) -> 以下のいずれかに該当する自動車。
B10: Ｂ運賃 | C10: =C9-10 -> 640 | D10: 円 | E10: =ROUND(E$9/(C10/C$9),0) -> 184 | F10: m | G10: 100 | H10: 円 | I10: =TRUNC(CEILING(ROUNDUP(E10*0.36,0),5)/60,0) -> 1 | J10: 分 | K10: =TRUNC(CEILING(ROUNDUP(E10*0.36,0),5)-I10*60,0) -> 10 | L10: 秒 | M10: 100 | N10: 円 | P10: Ｂ運賃 | Q10: =ROUNDUP((C10/C$9)*Q$9,-1) -> 4240 | R10: 円 | AC10: =HLOOKUP($AC$5,名前2!$C:$J,6,0) -> 一 普通自動車のうち排気量が２リットルを超えるもので
B11: Ｃ運賃 | C11: =C10-10 -> 630 | D11: 円 | E11: =ROUND(E$9/(C11/C$9),0) -> 187 | F11: m | G11: 100 | H11: 円 | I11: =TRUNC(CEILING(ROUNDUP(E11*0.36,0),5)/60,0) -> 1 | J11: 分 | K11: =TRUNC(CEILING(ROUNDUP(E11*0.36,0),5)-I11*60,0) -> 10 | L11: 秒 | M11: 100 | N11: 円 | P11: Ｃ運賃 | Q11: =ROUNDUP((C11/C$9)*Q$9,-1) -> 4170 | R11: 円 | AC11: =HLOOKUP($AC$5,名前2!$C:$J,7,0) -> あって乗車定員が７名以上のもの（特定大型車を除く。）。
B12: Ｄ運賃 | C12: =C11-10 -> 620 | D12: 円 | E12: =E19 -> 200 | F12: m | G12: 100 | H12: 円 | I12: =TRUNC(CEILING(ROUNDUP(E12*0.36,0),5)/60,0) -> 1 | J12: 分 | K12: =TRUNC(CEILING(ROUNDUP(E12*0.36,0),5)-I12*60,0) -> 15 | L12: 秒 | M12: 100 | N12: 円 | P12: Ｄ運賃 | Q12: =Q19 -> 3900 | R12: 円 | AC12: =HLOOKUP($AC$5,名前2!$C:$J,8,0) -> 二 普通自動車のうち排気量が２リットル（ハイブリッド
B13: Ｅ運賃 | C13: =C12-10 -> 610 | D13: 円 | E13: =E20 -> 203 | F13: m | G13: 100 | H13: 円 | I13: =TRUNC(CEILING(ROUNDUP(E13*0.36,0),5)/60,0) -> 1 | J13: 分 | K13: =TRUNC(CEILING(ROUNDUP(E13*0.36,0),5)-I13*60,0) -> 15 | L13: 秒 | M13: 100 | N13: 円 | P13: Ｅ運賃 | Q13: =Q20 -> 3840 | R13: 円 | AC13: =HLOOKUP($AC$5,名前2!$C:$J,9,0) -> 自動車にあっては２．５リットル。）を超えるもので
B14: 下限運賃 | C14: =C13-10 -> 600 | D14: 円 | E14: =E21 -> 231 | F14: m | G14: 100 | H14: 円 | I14: =TRUNC(CEILING(ROUNDUP(E14*0.36,0),5)/60,0) -> 1 | J14: 分 | K14: =TRUNC(CEILING(ROUNDUP(E14*0.36,0),5)-I14*60,0) -> 25 | L14: 秒 | M14: 100 | N14: 円 | P14: 下限運賃 | Q14: =Q21 -> 3450 | R14: 円 | AC14: =HLOOKUP($AC$5,名前2!$C:$J,10,0) -> あって乗車定員が６名以下のもの。
AB15: =HLOOKUP($AB$5,名前2!$C:$J,11,0) -> 普 通 車 | AC15: =HLOOKUP($AC$5,名前2!$C:$J,11,0) -> 以下のいずれかに該当する自動車。
A16: ②大型車 | AC16: =HLOOKUP($AC$5,名前2!$C:$J,12,0) -> 一 普通自動車又は小型自動車のうち特定大型車及び大型
A17: 設定 | C17: 距離制運賃 | I17: 時間距離併用制 | O17: 設定 | Q17: 時間制運賃 | AC17: =HLOOKUP($AC$5,名前2!$C:$J,13,0) -> 車に該当する自動車以外のもの。
A18: =IF(COUNTIF(A19:A23,"○")=0,"無","") -> 無 | C18: 初乗運賃 （1．2㎞） | E18: 加 算 運 賃 | O18: =IF(COUNTIF(O19:O23,"○")=0,"無","") -> 無 | Q18: 30 | AC18: =HLOOKUP($AC$5,名前2!$C:$J,14,0) -> 二 道路運送車両法施行規則第２条に定める軽自動車（
B19: 上限運賃 | C19: 620 | D19: 円 | E19: 200 | F19: m | G19: 100 | H19: 円 | I19: =TRUNC(CEILING(ROUNDUP(E19*0.36,0),5)/60,0) -> 1 | J19: 分 | K19: =TRUNC(CEILING(ROUNDUP(E19*0.36,0),5)-I19*60,0) -> 15 | L19: 秒 | M19: 100 | N19: 円 | P19: 上限運賃 | Q19: 3900 | R19: 円 | AC19: =HLOOKUP($AC$5,名前2!$C:$J,15,0) -> 以下「軽自動車」という。）のうち、内燃機関を搭載し
B20: Ｂ運賃 | C20: =C19-10 -> 610 | D20: 円 | E20: =ROUND(E$19/(C20/C$19),0) -> 203 | F20: m | G20: 100 | H20: 円 | I20: =TRUNC(CEILING(ROUNDUP(E20*0.36,0),5)/60,0) -> 1 | J20: 分 | K20: =TRUNC(CEILING(ROUNDUP(E20*0.36,0),5)-I20*60,0) -> 15 | L20: 秒 | M20: 100 | N20: 円 | P20: Ｂ運賃 | Q20: =ROUNDUP((C20/C$19)*Q$19,-1) -> 3840 | R20: 円 | AC20: =HLOOKUP($AC$5,名前2!$C:$J,16,0) -> ないもの又は福祉輸送サービスの用に供するものに限る。
B21: Ｃ運賃 | C21: =C20-10 -> 600 | D21: 円 | E21: =E28 -> 231 | F21: m | G21: 100 | H21: 円 | I21: =TRUNC(CEILING(ROUNDUP(E21*0.36,0),5)/60,0) -> 1 | J21: 分 | K21: =TRUNC(CEILING(ROUNDUP(E21*0.36,0),5)-I21*60,0) -> 25 | L21: 秒 | M21: 100 | N21: 円 | P21: Ｃ運賃 | Q21: =Q28 -> 3450 | R21: 円 | AC21: =HLOOKUP($AC$5,名前2!$C:$J,17,0) -> ただし、「タクシー事業における軽自動車の活用について」
B22: Ｄ運賃 | C22: =C21-10 -> 590 | D22: 円 | E22: =E29 -> 235 | F22: m | G22: 100 | H22: 円 | I22: =TRUNC(CEILING(ROUNDUP(E22*0.36,0),5)/60,0) -> 1 | J22: 分 | K22: =TRUNC(CEILING(ROUNDUP(E22*0.36,0),5)-I22*60,0) -> 25 | L22: 秒 | M22: 100 | N22: 円 | P22: Ｄ運賃 | Q22: =Q29 -> 3400 | R22: 円 | AC22: =HLOOKUP($AC$5,名前2!$C:$J,18,0) -> （令和８年６月１日付け国自旅第３７号）別紙１．に基
B23: 下限運賃 | C23: =C22-10 -> 580 | D23: 円 | E23: =E30 -> 239 | F23: m | G23: 100 | H23: 円 | I23: =TRUNC(CEILING(ROUNDUP(E23*0.36,0),5)/60,0) -> 1 | J23: 分 | K23: =TRUNC(CEILING(ROUNDUP(E23*0.36,0),5)-I23*60,0) -> 30 | L23: 秒 | M23: 100 | N23: 円 | P23: 下限運賃 | Q23: =Q30 -> 3340 | R23: 円 | AC23: =HLOOKUP($AC$5,名前2!$C:$J,19,0) -> づき近畿運輸局長が公示する地域においては、軽自動車と
AC24: =HLOOKUP($AC$5,名前2!$C:$J,20,0) -> する。
A25: ③普通車 | AB25: =HLOOKUP($AB$5,名前2!$C:$J,21,0) -> 備 考 | AC25: =HLOOKUP($AC$5,名前2!$C:$J,21,0) -> １ 自動車検査証に記載されている諸元を基準とする。
A26: 設定 | C26: 距離制運賃 | I26: 時間距離併用制 | O26: 設定 | Q26: 時間制運賃 | AC26: =HLOOKUP($AC$5,名前2!$C:$J,22,0) -> ２ 車体の形状が患者輸送車、車いす移動車又は身体障害
A27: =IF(COUNTIF(A28:A32,"○")=0,"無","") -> 無 | C27: 初乗運賃 （1．2㎞） | E27: 加 算 運 賃 | O27: =IF(COUNTIF(O28:O32,"○")=0,"無","") -> 無 | Q27: 30 | AC27: =HLOOKUP($AC$5,名前2!$C:$J,23,0) -> 者輸送車である特種自動車については、上記の車種区分に
B28: 上限運賃 | C28: 600 | D28: 円 | E28: 231 | F28: m | G28: 100 | H28: 円 | I28: =TRUNC(CEILING(ROUNDUP(E28*0.36,0),5)/60,0) -> 1 | J28: 分 | K28: =TRUNC(CEILING(ROUNDUP(E28*0.36,0),5)-I28*60,0) -> 25 | L28: 秒 | M28: 100 | N28: 円 | P28: 上限運賃 | Q28: 3450 | R28: 円 | AC28: =HLOOKUP($AC$5,名前2!$C:$J,24,0) -> よらず、以下の区分を適用する。
B29: Ｂ運賃 | C29: =C28-10 -> 590 | D29: 円 | E29: =ROUND(E$28/(C29/C$28),0) -> 235 | F29: m | G29: 100 | H29: 円 | I29: =TRUNC(CEILING(ROUNDUP(E29*0.36,0),5)/60,0) -> 1 | J29: 分 | K29: =TRUNC(CEILING(ROUNDUP(E29*0.36,0),5)-I29*60,0) -> 25 | L29: 秒 | M29: 100 | N29: 円 | P29: Ｂ運賃 | Q29: =ROUNDUP((C29/C$28)*Q$28,-1) -> 3400 | R29: 円 | AC29: =HLOOKUP($AC$5,名前2!$C:$J,25,0) -> 一 次号に掲げる自動車以外の自動車
B30: Ｃ運賃 | C30: =C29-10 -> 580 | D30: 円 | E30: =ROUND(E$28/(C30/C$28),0) -> 239 | F30: m | G30: 100 | H30: 円 | I30: =TRUNC(CEILING(ROUNDUP(E30*0.36,0),5)/60,0) -> 1 | J30: 分 | K30: =TRUNC(CEILING(ROUNDUP(E30*0.36,0),5)-I30*60,0) -> 30 | L30: 秒 | M30: 100 | N30: 円 | P30: Ｃ運賃 | Q30: =ROUNDUP((C30/C$28)*Q$28,-1) -> 3340 | R30: 円 | AC30: =HLOOKUP($AC$5,名前2!$C:$J,26,0) -> ア 乗車定員が７名以上のもの 大型車
B31: Ｄ運賃 | C31: =C30-10 -> 570 | D31: 円 | E31: =ROUND(E$28/(C31/C$28),0) -> 243 | F31: m | G31: 100 | H31: 円 | I31: =TRUNC(CEILING(ROUNDUP(E31*0.36,0),5)/60,0) -> 1 | J31: 分 | K31: =TRUNC(CEILING(ROUNDUP(E31*0.36,0),5)-I31*60,0) -> 30 | L31: 秒 | M31: 100 | N31: 円 | P31: Ｄ運賃 | Q31: =ROUNDUP((C31/C$28)*Q$28,-1) -> 3280 | R31: 円 | AC31: =HLOOKUP($AC$5,名前2!$C:$J,27,0) -> イ 乗車定員が６名以下のもの 普通車
B32: 下限運賃 | C32: =C31-10 -> 560 | D32: 円 | E32: =ROUND(E$28/(C32/C$28),0) -> 248 | F32: m | G32: 100 | H32: 円 | I32: =TRUNC(CEILING(ROUNDUP(E32*0.36,0),5)/60,0) -> 1 | J32: 分 | K32: =TRUNC(CEILING(ROUNDUP(E32*0.36,0),5)-I32*60,0) -> 30 | L32: 秒 | M32: 100 | N32: 円 | P32: 下限運賃 | Q32: =ROUNDUP((C32/C$28)*Q$28,-1) -> 3220 | R32: 円 | AC32: =HLOOKUP($AC$5,名前2!$C:$J,28,0) -> 二 専ら旅客を寝台に乗せて運行することを目的とする
AC33: =HLOOKUP($AC$5,名前2!$C:$J,29,0) -> 自動車
AC34: =HLOOKUP($AC$5,名前2!$C:$J,30,0) -> ア 普通自動車 普通自動車
B35: 入力後→ | C35: =HYPERLINK("#手引き!B46","手引きへ戻る") -> 手引きへ戻る | AC35: =IF(HLOOKUP($AC$5,名前2!$C:$J,31,0)=0,"",HLOOKUP($AC$5,名前2!$C:$J,31,0)) -> イ 小型自動車 小型自動車
AC36: =IF(HLOOKUP($AC$5,名前2!$C:$J,32,0)=0,"",HLOOKUP($AC$5,名前2!$C:$J,32,0)) -> ３ 上記の車種区分において、ハイブリッド自動車とは、
AC37: =IF(HLOOKUP($AC$5,名前2!$C:$J,33,0)=0,"",HLOOKUP($AC$5,名前2!$C:$J,33,0)) -> 内燃機関を搭載し、併せて電気又は蓄圧器に蓄えられた
AC38: =IF(HLOOKUP($AC$5,名前2!$C:$J,34,0)=0,"",HLOOKUP($AC$5,名前2!$C:$J,34,0)) -> 圧力を動力源として用いる自動車をいう。
AC39: =IF(HLOOKUP($AC$5,名前2!$C:$J,35,0)=0,"",HLOOKUP($AC$5,名前2!$C:$J,35,0))
AC40: =IF(HLOOKUP($AC$5,名前2!$C:$J,36,0)=0,"",HLOOKUP($AC$5,名前2!$C:$J,36,0))
AC41: =IF(HLOOKUP($AC$5,名前2!$C:$J,37,0)=0,"",HLOOKUP($AC$5,名前2!$C:$J,37,0))
AC42: =IF(HLOOKUP($AC$5,名前2!$C:$J,38,0)=0,"",HLOOKUP($AC$5,名前2!$C:$J,38,0))
AC43: =IF(HLOOKUP($AC$5,名前2!$C:$J,39,0)=0,"",HLOOKUP($AC$5,名前2!$C:$J,39,0))
AC44: =IF(HLOOKUP($AC$5,名前2!$C:$J,40,0)=0,"",HLOOKUP($AC$5,名前2!$C:$J,40,0))

Sheet 名前2
A1: 設定する | B1: ○ | C1: 車種区分① | D1: 車種区分１ | E1: 車種区分② | F1: 車種区分２ | G1: 車種区分③ | H1: 車種区分３ | I1: 車種区分④ | J1: 車種区分４ | K1: 車種区分⑤ | L1: 車種区分５
A2: 設定しない | C2: 特定大型車 | D2: 道路運送車両法施行規則第２条に定める普通自動車（以下 | E2: 特定大型車 | F2: 道路運送車両法施行規則第２条に定める普通自動車（以下 | G2: 特定大型車 | H2: 道路運送車両法施行規則第２条に定める普通自動車（以下 | I2: 特定大型車 | J2: 道路運送車両法施行規則第２条に定める普通自動車（以下 | K2: 特定大型車 | L2: 道路運送車両法施行規則第２条に定める普通自動車（以下
A3: 短縮する | D3: 「普通自動車」という。）又は小型自動車（以下「小型 | F3: 「普通自動車」という。）又は小型自動車（以下「小型 | H3: 「普通自動車」という。）又は小型自動車（以下「小型 | J3: 「普通自動車」という。）又は小型自動車（以下「小型 | L3: 「普通自動車」という。）又は小型自動車（以下「小型
A4: 短縮しない | D4: 自動車」という。）のうち乗車定員が９名以上のもの。 | F4: 自動車」という。）のうち乗車定員が９名以上のもの。 | H4: 自動車」という。）のうち乗車定員が７名以上のもの。 | J4: 自動車」という。）のうち乗車定員が７名以上のもの。 | L4: 自動車」という。）のうち乗車定員が７名以上のもの。
A5: 車種区分１ | B5: 車種区分① | C5: 大 型 車 | D5: 以下のいずれかに該当する自動車。 | E5: 大 型 車 | F5: 普通自動車のうち排気量が２リットル（ハイブリッド自 | G5: 大 型 車 | H5: 普通自動車のうち排気量が２リットル（ハイブリッド自 | I5: 大 型 車 | J5: 普通自動車のうち排気量が２リットル（ハイブリッド自 | K5: 大 型 車 | L5: 普通自動車のうち排気量が２リットル（ハイブリッド自
A6: 車種区分２ | B6: 車種区分② | D6: 一 普通自動車のうち排気量が２リットルを超えるもので | F6: 動車にあっては２．５リットル。）を超えるもので | H6: 動車にあっては２．５リットル。）を超えるもので | J6: 動車にあっては２．５リットル。）を超えるもので | L6: 動車にあっては２．５リットル。）を超えるもので
A7: 車種区分３ | B7: 車種区分③ | D7: あって乗車定員が７名以上のもの（特定大型車を除く。）。 | F7: あって乗車定員が８名以下のもの。 | H7: あって乗車定員が６名以下のもの。 | J7: あって乗車定員が６名以下のもの。 | L7: あって乗車定員が６名以下のもの。
A8: 車種区分４ | B8: 車種区分④ | D8: 二 普通自動車のうち排気量が２リットル（ハイブリッド | E8: 普 通 車 | F8: 以下のいずれかに該当する自動車。 | G8: 普 通 車 | H8: 以下のいずれかに該当する自動車。 | I8: 中 型 車 | J8: 以下のいずれかに該当する自動車。 | K8: 中 型 車 | L8: 以下のいずれかに該当する自動車。
A9: 車種区分５ | B9: 車種区分⑤ | D9: 自動車にあっては２．５リットル。）を超えるもので | F9: 一 普通自動車又は小型自動車のうち特定大型車及び大型 | H9: 一 普通自動車又は小型自動車のうち特定大型車及び大型 | J9: 一 普通自動車のうち特定大型車及び大型車に該当する | L9: 一 普通自動車のうち特定大型車及び大型車に該当する
D10: あって乗車定員が６名以下のもの。 | F10: 車に該当する自動車以外のもの。 | H10: 車に該当する自動車以外のもの。 | J10: 自動車以外のもの。 | L10: 自動車以外のもの。
A11: =IF(別紙!AF2=60,60,"") | B11: 30 | C11: 普 通 車 | D11: 以下のいずれかに該当する自動車。 | F11: 二 道路運送車両法施行規則第２条に定める軽自動車（ | H11: 二 道路運送車両法施行規則第２条に定める軽自動車（ | J11: 二 小型自動車のうち乗車定員が６名以下のもの | L11: 二 小型自動車のうち乗車定員が６名以下のもの
A12: 30 | B12: 15 | D12: 一 普通自動車又は小型自動車のうち特定大型車及び大型 | F12: 以下「軽自動車」という。）のうち、内燃機関を搭載し | H12: 以下「軽自動車」という。）のうち、内燃機関を搭載し | J12: （小型自動車のうち長さが４．６メートル未満であって | L12: （小型自動車のうち長さが４．６メートル未満であって
A13: 15 | B13: 10 | D13: 車に該当する自動車以外のもの。 | F13: ないもの又は福祉輸送サービスの用に供するものに限る。 | H13: ないもの又は福祉輸送サービスの用に供するものに限る。 | J13: 乗車定員が５名以下のものを除く。）。 | L13: 乗車定員が５名以下のものを除く。）。
A14: 10 | D14: 二 道路運送車両法施行規則第２条に定める軽自動車（ | F14: ただし、「タクシー事業における軽自動車の活用について」 | H14: ただし、「タクシー事業における軽自動車の活用について」 | I14: 小 型 車 | J14: 以下のいずれかに該当する自動車。 | K14: 小 型 車 | L14: 以下のいずれかに該当する自動車。
D15: 以下「軽自動車」という。）のうち、内燃機関を搭載し | F15: （令和８年６月１日付け国自旅第３７号）別紙１．に基 | H15: （令和８年６月１日付け国自旅第３７号）別紙１．に基 | J15: 一 小型自動車のうち長さが４．６メートル未満であって | L15: 一 小型自動車のうち長さが４．６メートル未満であって
D16: ないもの又は福祉輸送サービスの用に供するものに限る。 | F16: づき近畿運輸局長が公示する地域においては、軽自動車と | H16: づき近畿運輸局長が公示する地域においては、軽自動車と | J16: 乗車定員が５名以下のもの。 | L16: 乗車定員が５名以下のもの。
D17: ただし、「タクシー事業における軽自動車の活用について」 | F17: する。 | H17: する。 | J17: 二 道路運送車両法施行規則第２条に定める軽自動車（ | L17: 二 道路運送車両法施行規則第２条に定める軽自動車（
A18: 1 | B18: イ | D18: （令和８年６月１日付け国自旅第３７号）別紙１．に基 | E18: 備 考 | F18: １ 自動車検査証に記載されている諸元を基準とする。 | G18: 備 考 | H18: １ 自動車検査証に記載されている諸元を基準とする。 | J18: 以下「軽自動車」という。）（内燃機関を搭載しない | L18: 以下「軽自動車」という。）（内燃機関を搭載しない
A19: 2 | B19: ロ | D19: づき近畿運輸局長が公示する地域においては、軽自動車と | F19: ２ 車体の形状が患者輸送車、車いす移動車又は身体障害 | H19: ２ 車体の形状が患者輸送車、車いす移動車又は身体障害 | J19: もの又は福祉輸送サービスの用に供するものに限る。）。 | L19: もの又は福祉輸送サービスの用に供するものに限る。）。
A20: 3 | B20: ハ | D20: する。 | F20: 者輸送車である特種自動車については、上記の車種区分に | H20: 者輸送車である特種自動車については、上記の車種区分に | I20: 備 考 | J20: １ 自動車の大きさ等については、自動車検査証に記載 | K20: 備 考 | L20: １ 自動車の大きさ等については、自動車検査証に記載
A21: 4 | B21: ニ | C21: 備 考 | D21: １ 自動車検査証に記載されている諸元を基準とする。 | F21: よらず、以下の区分を適用する。 | H21: よらず、以下の区分を適用する。 | J21: されている諸元を基準とする。 | L21: されている諸元を基準とする。
A22: 5 | B22: ホ | D22: ２ 車体の形状が患者輸送車、車いす移動車又は身体障害 | F22: 一 次号に掲げる自動車以外の自動車 | H22: 一 次号に掲げる自動車以外の自動車 | J22: ただし、特殊なバンパー等を装置した自動車は、標準バン | L22: ただし、特殊なバンパー等を装置した自動車は、標準バン
A23: 6 | B23: ヘ | D23: 者輸送車である特種自動車については、上記の車種区分に | F23: ア 乗車定員が７名以上のもの 大型車 | H23: ア 乗車定員が７名以上のもの 大型車 | J23: パーを装置した自動車の長さとする。 | L23: パーを装置した自動車の長さとする。
A24: 7 | B24: ト | D24: よらず、以下の区分を適用する。 | F24: イ 乗車定員が６名以下のもの 普通車 | H24: イ 乗車定員が６名以下のもの 普通車 | J24: ２ 車体の形状が患者輸送車、車いす移動車又は身体障害 | L24: ２ 車体の形状が患者輸送車、車いす移動車又は身体障害
A25: 8 | B25: チ | D25: 一 次号に掲げる自動車以外の自動車 | F25: 二 専ら旅客を寝台に乗せて運行することを目的とする | H25: 二 専ら旅客を寝台に乗せて運行することを目的とする | J25: 者輸送車である特種自動車（軽自動車を除く。）について | L25: 者輸送車である特種自動車（軽自動車を除く。）について
A26: 9 | B26: リ | D26: ア 乗車定員が７名以上のもの 大型車 | F26: 自動車 | H26: 自動車 | J26: は、上記の車種区分によらず、以下の区分を適用する。 | L26: は、上記の車種区分によらず、以下の区分を適用する。
A27: 10 | B27: ヌ | D27: イ 乗車定員が６名以下のもの 普通車 | F27: ア 普通自動車 普通自動車 | H27: ア 普通自動車 普通自動車 | J27: 一 次号に掲げる自動車以外の自動車 | L27: 一 次号に掲げる自動車以外の自動車
A28: 11 | B28: ル | D28: 二 専ら旅客を寝台に乗せて運行することを目的とする | F28: イ 小型自動車 小型自動車 | H28: イ 小型自動車 小型自動車 | J28: ア 乗車定員が７名以上のもの 大型車 | L28: ア 乗車定員が７名以上のもの 大型車
A29: 12 | B29: ヲ | D29: 自動車 | F29: ３ 上記の車種区分において、ハイブリッド自動車とは、 | H29: ３ 上記の車種区分において、ハイブリッド自動車とは、 | J29: イ 乗車定員が６名以下のもの 中型車 | L29: イ 乗車定員が６名以下のもの 中型車
A30: 13 | B30: ワ | D30: ア 普通自動車 普通自動車 | F30: 内燃機関を搭載し、併せて電気又は蓄圧器に蓄えられた | H30: 内燃機関を搭載し、併せて電気又は蓄圧器に蓄えられた | J30: 二 専ら旅客を寝台に乗せて運行することを目的とする | L30: 二 専ら旅客を寝台に乗せて運行することを目的とする
A31: 14 | B31: カ | D31: イ 小型自動車 小型自動車 | F31: 圧力を動力源として用いる自動車をいう。 | H31: 圧力を動力源として用いる自動車をいう。 | J31: 自動車 | L31: 自動車
A32: 15 | B32: ヨ | D32: ３ 上記の車種区分において、ハイブリッド自動車とは、 | J32: ア 普通自動車 普通自動車 | L32: ア 普通自動車 普通自動車
A33: 16 | B33: タ | D33: 内燃機関を搭載し、併せて電気又は蓄圧器に蓄えられた | J33: イ 小型自動車 小型自動車 | L33: イ 小型自動車 小型自動車
A34: 17 | B34: レ | D34: 圧力を動力源として用いる自動車をいう。 | J34: ３ 上記の車種区分において、ハイブリッド自動車とは、 | L34: ３ 上記の車種区分において、ハイブリッド自動車とは、
A35: 18 | B35: ソ | J35: 内燃機関を搭載し、併せて電気又は蓄圧器に蓄えられた | L35: 内燃機関を搭載し、併せて電気又は蓄圧器に蓄えられた
A36: 19 | B36: ツ | J36: 圧力を動力源として用いる自動車をいう。 | L36: 圧力を動力源として用いる自動車をいう。
A37: 20 | B37: ネ | J37: ４ 「標準仕様ユニバーサルデザインタクシー認定要領」
A38: 21 | B38: ナ | J38: （平成２４年３月２８日付け国自旅第１９２号」に基づき
A39: 22 | B39: ラ | J39: 認定された型式のうち通称名「ＪＰＮ ＴＡＸＩ」につい
A40: 23 | B40: ム | J40: ては、上記の車種区分によらず、中型車の区分を適用する。
A41: 24 | B41: ウ
A42: 25 | B42: ヰ
A43: 26 | B43: ノ
A44: 27 | B44: オ
A50: 1 | B50: 1 | C50: 2
A51: 1 | B51: 1 | C51: 2
B52: 2 | C52: 2
B53: 2 | C53: 2
