Workbook

Sheet 参加申込票１
A1: 参加申込票１ | N1: めざせ！海技者セミナー IN KOBE
A2: 事業所名
A3: 本社所在地 （都道府県名のみ）
A4: 加盟船主団体
A5: フリガナ
A6: 担当者氏名
A7: 担当者所属部課
A8: 担当者 メールアドレス
A9: 連絡先TEL
A10: 電子機器等持込の有無
A11: 持ち込む電子機器の 種類と消費電力（w） 合計150w以内 （厳守） | G11: ノートPC | K11: 台 | N11: W | O11: 他（ ） | U11: 台 | X11: W
G12: タブレット | K12: 台 | N12: W | O12: 他（ ） | U12: 台 | X12: W
G13: モニター | K13: 台 | N13: W | O13: 合計 | V13: =L11+L12+L13+V11+V12 -> 0 | X13: ｗ
A14: セミナー当日の 参加者氏名及び役職 最大２名まで 入場可（厳守） | G14: 氏名 | O14: 役職
A18: ご意見・ご要望 連絡事項等

Sheet 参加申込票２
A1: 参加申込票２
A2: 必ずはじめにお読みください！ ・水色セルにご記入ください ・緑色セルはプルダウンの中から選択してください ・行列の追加削除、セルの書式設定変更をしないでください ・この参加申込票２は、このまま求人案内資料として印刷し、セミナー参加者に配布しますので、記載内容・誤字脱字等のもれがないかしっかり確認して頂き、提出してください。参加申込票２の内容に 法令違反等がある場合や、求人内容の明示をしない場合はご参加いただけない場合がありますのでご注意ください。 ・ご不明の点等ございましたら、船員労政課℡078-321-3149 トイまたはクリヤマまでお問合せください
A11: フリガナ | H11: 採用担当 | K11: ブース番号
A12: 事業所の 名称 | H12: 部署
H13: 役職
A14: 所在地 | B14: 〒 | H14: 氏名
H15: 電話番号
A16: 資本金 | D16: 加盟船主団体 | H16: e-mail
A17: 労働協約 | C17: 就業規則 | E17: 給与規定 | G17: 厚生年金 | I17: 雇用船員数 | K17: うち女性 | N17: [保有船舶数]
A18: 労災保険 | C18: 雇用保険 | E18: 船員保険 | G18: 時間外労働協定 | J18: 保有 船舶数 | K18: 700t以上 | N18: 自社船および管理船舶の隻数をご記入ください
A19: 育児休業 取得実績 | D19: 看護休暇 取得実績 | G19: 船員派遣事業許可 | K19: 700t未満 | M19: ← | N19: 700t未満の欄は、労働環境改善船を含む
A21: 船内環境 | C21: 船内LAN | E21: Wi-Fi設備 | G21: STAR LINK | I21: 乗船中の食事 | K21: 自室 | N21: [女性船員登用]
N22: 受入体制＝配乗予定船舶に女性専用設備がある、女性が乗船した際の運用を定めている又は現に女性船員が雇用されている
A23: 女性船員 登用 | C23: 受入体制 | D23: 女性専用 ルーム | E23: 女性専用 バス | F23: 女性専用 トイレ | G23: 運用の 定め | H23: 現在、女性船員を 雇用している | J23: 採用 | K23: 継続雇用 | L23: 昇進 | N23: 採用 ＝過去３年以内に女性船員の採用実績がある
N24: 継続雇用＝３年以上継続雇用している女性船員がいる又は女性船員が育児休業を経て職務復帰した実績がある
N25: 昇進 ＝女性船員を一等航海士・一等機関士以上の役職に就かせている
A26: 船員未経験者 | C26: 採用の 有無 | D26: 年齢の 上限 | E26: 新人教育の内容 | K26: 新人教育 の期間
N27: [船員未経験者]
A28: （陸上職からの転職等) | N28: 船員未経験者とは、陸上職種･無職等の者が船員に転職を希望する者
A29: 新技術への対応 新燃料船・自動運航船等の導入や、これらに対応する知識・能力・技能を持つ人材の確保・養成 | I29: キャリア パス | N29: ”年齢の上限”欄は、船員未経験者を採用する場合のみ記入すること
N31: [新人教育の内容]
A32: 求人条件における 特記事項 | I32: 採用選考 | J32: 選考方法 | N32: 例） OJT・OFF-JTの内容、修了する基準など
J33: 日 時
J34: 携 行 品 | N34: [キャリアパス]
J35: 採否決定 | N35: 希望する役職・職務に就くために必要な業務経験、スキル、資格などの昇進・昇格ルート
A36: 企業PR欄 企業概要 事業内容 など | K36: ホームページQRコード
N37: [ホームページQRコード]
N38: 記入は任意です
N39: 企業ＰＲ欄にHPアドレスを記入されても結構です
A43: 求人職種 | M43: ← | N43: 左詰めでご記入ください（最大５件まで）
A45: 船種 | N45: [船種] | O45: 貨物船、RORO船、コンテナ船、自動車専用船、セメント専用船、石灰石専用船、砂利砕石専用船（ガット船）
O46: タンカー（白油・黒油）、ケミカル船、LPG船 等
A47: 航行区域 | O47: 旅客船、高速旅客船、フェリー、クルーズ客船、レストラン船、観光遊覧船 等
A48: 総トン数 | B48: 最小 | O48: 浚渫埋立用作業船、構造物築造船、運搬作業船、環境整備船、特殊船 等
B49: 最大 | O49: 漁業調査船、測量船、水路調査船、海洋学調査船、海洋観測艦、極地調査船 等
A50: 機関出力 (KW) | B50: 最小 | O50: オーシャンタグ、ハーバータグ、引船、押船
B51: 最大 | O51: 練習船、オフショア支援船 等
A52: 年齢 | B52: 上限
A53: 必要な 免状 | B53: 下限
B54: 上限
A55: その他必要資格
A56: 乗下船サイクル | C56: ○○日 乗船 | E56: ○○日 乗船 | G56: ○○日 乗船 | I56: ○○日 乗船 | K56: ○○日 乗船
C57: ○○日 休暇 | E57: ○○日 休暇 | G57: ○○日 休暇 | I57: ○○日 休暇 | K57: ○○日 休暇 | N57: [定額的に支払われる手当（月額）] 最低賃金額を下回らないようご注意ください
A58: 基本給月額（下限） | O58: 乗船手当 | P58: 時間外手当、深夜手当、補償休日手当や割増手当等、臨時の労働に対する報酬は含めないでください
A59: 定期的に 支払われる 手当（月額） | B59: ○○手当 | O59: 航海手当 | P59: 〃
B60: ○○手当 | O60: 役職手当 | P60: 〃
B61: ○○手当 | O61: その他 | P61: 〃
A62: 時間外労働手当 | N62: [時間外労働手当] | P62: 毎月、固定で支払っている場合は、この欄に記入してください
A63: 基本給+手当 | C63: =SUM(C58:D62) -> 0 | E63: =SUM(E58:F62) -> 0 | G63: =SUM(G58:H62) -> 0 | I63: =SUM(I58:J62) -> 0 | K63: =SUM(K58:L62) -> 0 | M63: ← | N63: 入力不要です
A64: 年間 手取賃金 | N64: [年間手取賃金] | P64: 賞与等も含めた１年間の総手取額

Sheet 参加申込票２記載例
A1: 参加申込票２ 記載例
A2: 必ずはじめにお読みください！ ・水色セルにご記入ください ・緑色セルはプルダウンの中から選択してください ・行列の追加削除、セルの書式設定変更をしないでください ・この参加申込票２は、このまま求人案内資料として印刷し、セミナー参加者に配布しますので、記載内容・誤字脱字等のもれがないかしっかり確認して頂き、提出してください 法令違反等の不備がある場合は落選となる場合がありますのでご注意ください。 ・ご不明の点等ございましたら、船員労政課℡078-321-3149 トイまたはクリヤマまでお問合せください
A11: フリガナ | B11: ハトバカイウン | H11: 採用担当 | K11: ブース番号
A12: 事業所の 名称 | B12: 波止場海運（株） | H12: 部署
H13: 役職
A14: 所在地 | B14: 〒 | C14: ***-**** | H14: 氏名
B15: *************** | H15: 電話番号
A16: 資本金 | B16: 1000 | D16: 加盟船主団体 | F16: ***** | H16: e-mail
A17: 労働協約 | B17: 無 | C17: 就業規則 | D17: 有 | E17: 給与規定 | F17: 有 | G17: 厚生年金 | H17: 〇 | I17: 雇用船員数 | J17: 24 | K17: うち女性 | L17: 3 | N17: [保有船舶数]
A18: 労災保険 | B18: 〇 | C18: 雇用保険 | D18: 〇 | E18: 船員保険 | F18: 〇 | G18: 時間外労働協定 | I18: 無 | J18: 保有 船舶数 | K18: 700t以上 | L18: 0 | N18: 自社船および管理船舶の隻数をご記入ください
A19: 育児休業 取得実績 | C19: 無 | D19: 看護休暇 取得実績 | F19: 無 | G19: 船員派遣事業許可 | I19: 無 | K19: 700t未満 | L19: 2 | M19: ← | N19: 700t未満の欄は、労働環境改善船を含む
A21: 船内環境 | C21: 船内LAN | E21: Wi-Fi設備 | G21: STAR LINK | I21: 乗船中の食事 | K21: 自室 | N21: [女性船員登用]
C22: 全船対応済 | E22: 一部対応済 | G22: 全船未対応 | I22: 船により違う | K22: 個室 | N22: 受入体制＝配乗予定船舶に女性専用設備がある、女性が乗船した際の運用を定めている又は現に女性船員が雇用されている
A23: 女性船員 登用 | C23: 受入体制 | D23: 女性専用 ルーム | E23: 女性専用 バス | F23: 女性専用 トイレ | G23: 運用の 定め | H23: 現在、女性船員を 雇用している | J23: 採用 | K23: 継続雇用 | L23: 昇進 | N23: 採用 ＝過去３年以内に女性船員の採用実績がある
N24: 継続雇用＝３年以上継続雇用している女性船員がいる又は女性船員が育児休業を経て職務復帰した実績がある
C25: 〇 | D25: あり | E25: あり | F25: あり | G25: あり | H25: 雇用している | J25: 〇 | K25: 〇 | L25: 〇 | N25: 昇進 ＝女性船員を一等航海士・一等機関士以上の役職に就かせている
A26: 船員未経験者 | C26: 採用の 有無 | D26: 年齢の 上限 | E26: 新人教育の内容 | F26: ******************* | K26: 新人教育 の期間 | L26: 6ヶ月
N27: [船員未経験者]
A28: （陸上職からの転職等) | C28: 〇 | D28: 40 | N28: 船員未経験者とは、陸上職種･無職等の者が船員に転職を希望する者
A29: 新技術への対応 新燃料船・自動運航船等の導入や、これらに対応する知識・能力・技能を持つ人材の確保・養成 | D29: ****************** | I29: キャリア パス | J29: ************* | N29: ”年齢の上限”欄は、船員未経験者を採用する場合のみ記入すること
N31: [新人教育の内容]
A32: 求人条件における 特記事項 | C32: ****************** | I32: 採用選考 | J32: 選考方法 | K32: 書類選考、面接 | N32: 例） OJT・OFF-JTの内容、修了する基準など
J33: 日 時 | K33: 随時
J34: 携 行 品 | K34: 履歴書 | N34: [キャリアパス]
J35: 採否決定 | K35: 当社面接２週間後 | N35: 希望する役職・職務に就くために必要な業務経験、スキル、資格などの昇進・昇格ルート
A36: 企業PR欄 企業概要 事業内容 など | B36: ************************ | K36: ホームページQRコード
N37: [ホームページQRコード]
N38: 記入は任意です
N39: 企業ＰＲ欄にHPアドレスを記入されても結構です
A43: 求人職種 | C43: 航海士 | E43: 機関士 | G43: 甲板部員 | M43: ← | N43: 左詰めでご記入ください（最大５件まで）
A45: 船種 | C45: 貨物船 | E45: 貨物船 | G45: 貨物船 | N45: [船種] | O45: 貨物船、RORO船、コンテナ船、自動車専用船、セメント専用船、石灰石専用船、砂利砕石専用船（ガット船）
O46: タンカー（白油・黒油）、ケミカル船、LPG船 等
A47: 航行区域 | C47: 沿海 | E47: 沿海 | G47: 沿海 | O47: 旅客船、高速旅客船、フェリー、クルーズ客船、レストラン船、観光遊覧船 等
A48: 総トン数 | B48: 最小 | O48: 浚渫埋立用作業船、構造物築造船、運搬作業船、環境整備船、特殊船 等
B49: 最大 | C49: 508 | E49: 499 | G49: 745 | O49: 漁業調査船、測量船、水路調査船、海洋学調査船、海洋観測艦、極地調査船 等
A50: 機関出力 (KW) | B50: 最小 | O50: オーシャンタグ、ハーバータグ、引船、押船
B51: 最大 | C51: 735 | E51: 735 | G51: 1470 | O51: 練習船、オフショア支援船 等
A52: 年齢 | B52: 上限 | C52: 35 | E52: 35 | G52: 25
A53: 必要な 免状 | B53: 下限 | C53: 航海５級 | E53: 機関５級 | G53: 不問
B54: 上限 | C54: 航海３級 | E54: 機関３級
A55: その他必要資格 | C55: ２海特 | E55: ２海特
A56: 乗下船サイクル | C56: ○○日 乗船 | E56: ○○日 乗船 | G56: ○○日 乗船 | I56: ○○日 乗船 | K56: ○○日 乗船
C57: ○○日 休暇 | E57: ○○日 休暇 | G57: ○○日 休暇 | I57: ○○日 休暇 | K57: ○○日 休暇 | N57: [定額的に支払われる手当（月額）] 最低賃金額を下回らないようご注意ください
A58: 基本給月額（下限） | C58: 300000 | E58: 300000 | G58: 250000 | O58: 乗船手当 | P58: 時間外手当、深夜手当、補償休日手当や割増手当等、臨時の労働に対する報酬は含めないでください
A59: 定期的に 支払われる 手当（月額） | B59: ○○手当 | C59: 50000 | E59: 50000 | G59: 0 | O59: 航海手当 | P59: 〃
B60: ○○手当 | C60: 30000 | E60: 30000 | G60: 20000 | O60: 役職手当 | P60: 〃
B61: ○○手当 | C61: 20000 | E61: 20000 | G61: 10000 | O61: その他 | P61: 〃
A62: 時間外労働手当 | C62: 70000 | E62: 70000 | G62: 50000 | N62: [時間外労働手当] | P62: 毎月、固定で支払っている場合は、この欄に記入してください
A63: 基本給+手当 | C63: =SUM(C58:D62) -> 470000 | E63: =SUM(E58:F62) -> 470000 | G63: =SUM(G58:H62) -> 330000 | I63: =SUM(I58:J62) -> 0 | K63: =SUM(K58:L62) -> 0 | M63: ← | N63: 入力不要です
A64: 年間 手取賃金 | C64: 6000000 | E64: 6000000 | G64: 4300000 | N64: [年間手取賃金] | P64: 賞与等も含めた１年間の総手取額

Sheet 処理欄(入力不要)
C1: 申込票１ | D1: 事業所名 | E1: 本社所在地 | F1: 加盟船 主団体 | G1: フリガナ | H1: 担当者氏名 | I1: 担当部課 | J1: 担当者メールアドレス | K1: TEL | L1: 電子機器等持込の有無 | M1: ノートPC(W) | N1: タブレット(W) | O1: モニター(W) | P1: 他(W) | Q1: 他(W) | R1: 合計(W) | S1: 氏名 | T1: 役職 | U1: 氏名 | V1: 役職
C3: 申込票２ | D3: 事業所名 | E3: ﾌﾘｶﾞﾅ | F3: 〒 | G3: 住所 | H3: 資本金 | I3: 船主団体 | J3: 採用部署 | K3: 氏名 | L3: 役職 | M3: 電話 | N3: e-mail | O3: 労働協約 | P3: 就業規則 | Q3: 給与規定 | R3: 厚生年金 | S3: 労災保険 | T3: 雇用保険 | U3: 船員保険 | V3: 時間外 | W3: 育児 | X3: 看護 | Y3: 派遣許可 | Z3: 雇用船員 | AA3: 女性船員 | AB3: 700t～ | AC3: ～699t | AD3: 船内LAN | AE3: wifi | AF3: starlink | AG3: 食事 | AH3: 自室 | AI3: 受入体制 | AJ3: 女性専用 ルーム | AK3: 女性専用 バス | AL3: 女性専用 トイレ | AM3: 運用の 定め | AN3: 雇用中 | AO3: 採用 | AP3: 継続雇用 | AQ3: 昇進 | AR3: 採用の 有無 | AS3: 年齢の 上限 | AT3: 新人教育 内容 | AU3: 新人教育 期間 | AV3: 新技術 | AW3: キャリア パス | AX3: 求人 特記事項 | AY3: 選考方法 | AZ3: 日時 | BA3: 携行品 | BB3: 採否決定 | BC3: 企業PR
C5: 求人1-5 | D5: 事業所名 | E5: 求人職種 | F5: 船種 | G5: 航行区域 | H5: トン数/小 | I5: トン数/大 | J5: kw/小 | K5: kw/大 | L5: 年齢/上 | M5: 免状/下 | N5: 免状/上 | O5: その他 資格 | P5: サイクル 乗船日数 | Q5: サイクル 休暇日数 | R5: 月額 基本給 | S5: 手当 | T5: 手当 | U5: 手当 | V5: 時間外 | W5: 手取 月額 | X5: 手取 年収
C7: 申込票1 | D7: =参加申込票１!G2 -> 0 | E7: =参加申込票１!G3 -> 0 | F7: =参加申込票１!G4 -> 0 | G7: =参加申込票１!G5 -> 0 | H7: =参加申込票１!G6 -> 0 | I7: =参加申込票１!G7 -> 0 | J7: =参加申込票１!G8 -> 0 | K7: =参加申込票１!G9 -> 0 | L7: =参加申込票１!G10 -> 0 | M7: =参加申込票１!L11 -> 0 | N7: =参加申込票１!L12 -> 0 | O7: =参加申込票１!L13 -> 0 | P7: =参加申込票１!V11 -> 0 | Q7: =参加申込票１!V12 -> 0 | R7: =参加申込票１!V13 -> 0 | S7: =参加申込票１!G15 -> 0 | T7: =参加申込票１!O15 -> 0 | U7: =参加申込票１!G16 -> 0 | V7: =参加申込票１!O16 -> 0
C8: 申込票2 | D8: =参加申込票２!B12 -> 0 | E8: =参加申込票２!B11 -> 0 | F8: =参加申込票２!C14 -> 0 | G8: =参加申込票２!B15 -> 0 | H8: =参加申込票２!B16 -> 0 | I8: =参加申込票２!F16 -> 0 | J8: =参加申込票２!I12 -> 0 | K8: =参加申込票２!I13 -> 0 | L8: =参加申込票２!I14 -> 0 | M8: =参加申込票２!I15 -> 0 | N8: =参加申込票２!I16 -> 0 | O8: =参加申込票２!B17 -> 0 | P8: =参加申込票２!D17 -> 0 | Q8: =参加申込票２!F17 -> 0 | R8: =参加申込票２!H17 -> 0 | S8: =参加申込票２!B18 -> 0 | T8: =参加申込票２!D18 -> 0 | U8: =参加申込票２!F18 -> 0 | V8: =参加申込票２!I18 -> 0 | W8: =参加申込票２!C19 -> 0 | X8: =参加申込票２!F19 -> 0 | Y8: =参加申込票２!I19 -> 0 | Z8: =参加申込票２!J17 -> 0 | AA8: =参加申込票２!L17 -> 0 | AB8: =参加申込票２!L18 -> 0 | AC8: =参加申込票２!L19 -> 0 | AD8: =参加申込票２!C22 -> 0 | AE8: =参加申込票２!E22 -> 0 | AF8: =参加申込票２!G22 -> 0 | AG8: =参加申込票２!I22 -> 0 | AH8: =参加申込票２!K22 -> 0 | AI8: =参加申込票２!C25 -> 0 | AJ8: =参加申込票２!D25 -> 0 | AK8: =参加申込票２!E25 -> 0 | AL8: =参加申込票２!F25 -> 0 | AM8: =参加申込票２!G25 -> 0 | AN8: =参加申込票２!H25 -> 0 | AO8: =参加申込票２!J25 -> 0 | AP8: =参加申込票２!K25 -> 0 | AQ8: =参加申込票２!L25 -> 0 | AR8: =参加申込票２!C28 -> 0 | AS8: =参加申込票２!D28 -> 0 | AT8: =参加申込票２!F26 -> 0 | AU8: =参加申込票２!L26 -> 0 | AV8: =参加申込票２!D29 -> 0 | AW8: =参加申込票２!J29 -> 0 | AX8: =参加申込票２!C32 -> 0 | AY8: =参加申込票２!K32 -> 0 | AZ8: =参加申込票２!K33 -> 0 | BA8: =参加申込票２!K34 -> 0 | BB8: =参加申込票２!K35 -> 0 | BC8: =参加申込票２!B36 -> 0
C9: 求人1 | D9: =参加申込票２!$B$12 -> 0 | E9: =参加申込票２!$C43 -> 0 | F9: =参加申込票２!$C45 -> 0 | G9: =参加申込票２!$C47 -> 0 | H9: =参加申込票２!$C48 -> 0 | I9: =参加申込票２!$C49 -> 0 | J9: =参加申込票２!$C50 -> 0 | K9: =参加申込票２!$C51 -> 0 | L9: =参加申込票２!C$52 -> 0 | M9: =参加申込票２!$C53 -> 0 | N9: =参加申込票２!$C54 -> 0 | O9: =参加申込票２!$C55 -> 0 | P9: =参加申込票２!$C56 -> ○○日 乗船 | Q9: =参加申込票２!$C57 -> ○○日 休暇 | R9: =参加申込票２!$C58 -> 0 | S9: =参加申込票２!$C59 -> 0 | T9: =参加申込票２!$C60 -> 0 | U9: =参加申込票２!$C61 -> 0 | V9: =参加申込票２!$C62 -> 0 | W9: =参加申込票２!$C63 -> 0 | X9: =参加申込票２!$C64 -> 0
C10: 求人2 | D10: =参加申込票２!$B$12 -> 0 | E10: =参加申込票２!$E43 -> 0 | F10: =参加申込票２!$E45 -> 0 | G10: =参加申込票２!$E47 -> 0 | H10: =参加申込票２!$E48 -> 0 | I10: =参加申込票２!$E49 -> 0 | J10: =参加申込票２!$E50 -> 0 | K10: =参加申込票２!$E51 -> 0 | L10: =参加申込票２!E52 -> 0 | M10: =参加申込票２!$E53 -> 0 | N10: =参加申込票２!$E54 -> 0 | O10: =参加申込票２!$E55 -> 0 | P10: =参加申込票２!$E56 -> ○○日 乗船 | Q10: =参加申込票２!$E57 -> ○○日 休暇 | R10: =参加申込票２!$E58 -> 0 | S10: =参加申込票２!$E59 -> 0 | T10: =参加申込票２!$E60 -> 0 | U10: =参加申込票２!$E61 -> 0 | V10: =参加申込票２!$E62 -> 0 | W10: =参加申込票２!$E63 -> 0 | X10: =参加申込票２!$E64 -> 0
C11: 求人3 | D11: =参加申込票２!$B$12 -> 0 | E11: =参加申込票２!$G43 -> 0 | F11: =参加申込票２!$G45 -> 0 | G11: =参加申込票２!$G47 -> 0 | H11: =参加申込票２!$G48 -> 0 | I11: =参加申込票２!$G49 -> 0 | J11: =参加申込票２!$G50 -> 0 | K11: =参加申込票２!$G51 -> 0 | L11: =参加申込票２!G52 -> 0 | M11: =参加申込票２!$G53 -> 0 | N11: =参加申込票２!$G54 -> 0 | O11: =参加申込票２!$G55 -> 0 | P11: =参加申込票２!$G56 -> ○○日 乗船 | Q11: =参加申込票２!$G57 -> ○○日 休暇 | R11: =参加申込票２!$G58 -> 0 | S11: =参加申込票２!$G59 -> 0 | T11: =参加申込票２!$G60 -> 0 | U11: =参加申込票２!$G61 -> 0 | V11: =参加申込票２!$G62 -> 0 | W11: =参加申込票２!$G63 -> 0 | X11: =参加申込票２!$G64 -> 0
C12: 求人4 | D12: =参加申込票２!$B$12 -> 0 | E12: =参加申込票２!$I43 -> 0 | F12: =参加申込票２!$I45 -> 0 | G12: =参加申込票２!$I47 -> 0 | H12: =参加申込票２!$I48 -> 0 | I12: =参加申込票２!$I49 -> 0 | J12: =参加申込票２!$I50 -> 0 | K12: =参加申込票２!$I51 -> 0 | L12: =参加申込票２!I52 -> 0 | M12: =参加申込票２!$I53 -> 0 | N12: =参加申込票２!$I54 -> 0 | O12: =参加申込票２!$I55 -> 0 | P12: =参加申込票２!$I56 -> ○○日 乗船 | Q12: =参加申込票２!$I57 -> ○○日 休暇 | R12: =参加申込票２!$I58 -> 0 | S12: =参加申込票２!$I59 -> 0 | T12: =参加申込票２!$I60 -> 0 | U12: =参加申込票２!$I61 -> 0 | V12: =参加申込票２!$I62 -> 0 | W12: =参加申込票２!$I63 -> 0 | X12: =参加申込票２!$I64 -> 0
C13: 求人5 | D13: =参加申込票２!$B$12 -> 0 | E13: =参加申込票２!$K43 -> 0 | F13: =参加申込票２!$K45 -> 0 | G13: =参加申込票２!$K47 -> 0 | H13: =参加申込票２!$K48 -> 0 | I13: =参加申込票２!$K49 -> 0 | J13: =参加申込票２!$K50 -> 0 | K13: =参加申込票２!$K51 -> 0 | L13: =参加申込票２!K52 -> 0 | M13: =参加申込票２!$K53 -> 0 | N13: =参加申込票２!$K54 -> 0 | O13: =参加申込票２!$K55 -> 0 | P13: =参加申込票２!$K56 -> ○○日 乗船 | Q13: =参加申込票２!$K57 -> ○○日 休暇 | R13: =参加申込票２!$K58 -> 0 | S13: =参加申込票２!$K59 -> 0 | T13: =参加申込票２!$K60 -> 0 | U13: =参加申込票２!$K61 -> 0 | V13: =参加申込票２!$K62 -> 0 | W13: =参加申込票２!$K63 -> 0 | X13: =参加申込票２!$K64 -> 0

Sheet Sheet1
C1: B | D1: A
A2: 全国 | B2: 内航船職員 | C2: 251500 | D2: 267950
B3: 内航船部員 | C3: 200050 | D3: 209350
B4: 旅客船職員 | C4: - | D4: 264750
B5: 旅客船事務部職員 | C5: - | D5: 209750
B6: 旅客船部員 | C6: - | D6: 201900
A8: 北海道 | B8: =A8&$B$2 -> 北海道内航船職員 | C8: 251500 | D8: 267950
B9: =A8&$B$3 -> 北海道内航船部員 | C9: 200200 | D9: 209400
B10: =A8&$B$4 -> 北海道旅客船職員 | C10: - | D10: 263800
B11: =A8&$B$6 -> 北海道旅客船部員 | C11: - | D11: 202950
A12: 東北 | B12: =A12&$B$2 -> 東北内航船職員 | C12: 252200 | D12: 268650
B13: =A12&$B$3 -> 東北内航船部員 | C13: 200400 | D13: 209550
B14: =A12&$B$4 -> 東北旅客船職員 | C14: - | D14: 263300
B15: =A12&$B$6 -> 東北旅客船部員 | C15: - | D15: 201400
A16: 関東 | B16: =A16&$B$2 -> 関東内航船職員 | C16: 253650 | D16: 270400
B17: =A16&$B$3 -> 関東内航船部員 | C17: 202200 | D17: 211800
B18: =A16&$B$4 -> 関東旅客船職員 | C18: - | D18: 264800
B19: =A16&$B$6 -> 関東旅客船部員 | C19: - | D19: 203400
A20: 北陸信越 | B20: =A20&$B$2 -> 北陸信越内航船職員 | C20: 253900 | D20: 270350
B21: =A20&$B$3 -> 北陸信越内航船部員 | C21: 202350 | D21: 211650
B22: =A20&$B$4 -> 北陸信越旅客船職員 | C22: - | D22: 263550
B23: =A20&$B$6 -> 北陸信越旅客船部員 | C23: - | D23: 201400
A24: 中部 | B24: =A24&$B$2 -> 中部内航船職員 | C24: 255000 | D24: 271450
B25: =A24&$B$3 -> 中部内航船部員 | C25: 203750 | D25: 213050
B26: =A24&$B$4 -> 中部旅客船職員 | C26: - | D26: 264700
B27: =A24&$B$6 -> 中部旅客船部員 | C27: - | D27: 202450
A28: 近畿 | B28: =A28&$B$2 -> 近畿内航船職員 | C28: 255050 | D28: 271500
B29: =A28&$B$3 -> 近畿内航船部員 | C29: 203450 | D29: 212750
B30: =A28&$B$4 -> 近畿旅客船職員 | C30: - | D30: 264800
B31: =A28&$B$6 -> 近畿旅客船部員 | C31: - | D31: 203400
A32: 神戸 | B32: =A32&$B$2 -> 神戸内航船職員 | C32: 253200 | D32: 269650
B33: =A32&$B$3 -> 神戸内航船部員 | C33: 201800 | D33: 211100
B34: =A32&$B$4 -> 神戸旅客船職員 | C34: - | D34: 264800
B35: =A32&$B$6 -> 神戸旅客船部員 | C35: - | D35: 203400
A36: 中国 | B36: =A36&$B$2 -> 中国内航船職員 | C36: 253150 | D36: 269700
B37: =A36&$B$3 -> 中国内航船部員 | C37: 201700 | D37: 211100
B38: =A36&$B$4 -> 中国旅客船職員 | C38: - | D38: 263450
B39: =A36&$B$6 -> 中国旅客船部員 | C39: - | D39: 196800
A40: 四国 | B40: =A40&$B$2 -> 四国内航船職員 | C40: 253450 | D40: 270000
B41: =A40&$B$3 -> 四国内航船部員 | C41: 202000 | D41: 211400
B42: =A40&$B$4 -> 四国旅客船職員 | C42: - | D42: 263450
B43: =A40&$B$6 -> 四国旅客船部員 | C43: - | D43: 197000
A44: 九州 | B44: =A44&$B$2 -> 九州内航船職員 | C44: 252250 | D44: 268700
B45: =A44&$B$3 -> 九州内航船部員 | C45: 200800 | D45: 210100
B46: =A44&$B$4 -> 九州旅客船職員 | C46: - | D46: 263400
B47: =A44&$B$6 -> 九州旅客船部員 | C47: - | D47: 197000
A48: 沖縄 | B48: =A48&$B$2 -> 沖縄内航船職員 | C48: 251500 | D48: 267950
B49: =A48&$B$3 -> 沖縄内航船部員 | C49: 200050 | D49: 209350
B50: =A48&$B$4 -> 沖縄旅客船職員 | C50: - | D50: 264750
B51: =A48&$B$6 -> 沖縄旅客船部員 | C51: - | D51: 201900
B52: 近畿はしけ長 | C52: - | D52: 271500
B53: 神戸はしけ長 | C53: - | D53: 269650
B54: 中国はしけ長 | C54: - | D54: 269700
B55: 四国はしけ長 | C55: - | D55: 270000
B56: 九州はしけ長 | C56: - | D56: 268700
