Workbook

Sheet 更新申請書
BL1: 令和 | BV1: 年 | CB1: 月 | CH1: 日
AR6: 住 所
AR10: 氏名または名称
AR14: 代表者氏名
AR18: 連絡先（電話）
AR22: 連絡先（メール）
S28: 運輸局長 殿
A35: 一般貸切旅客自動車運送事業 更新許可申請書
A40: この度、下記のとおり一般貸切旅客自動車運送事業許可の更新を受けたいので、道路運送法第８条の規定により、関係書類を添えて申請致します。
A48: 記
A53: １．氏名又は名称及び住所並びに法人にあっては、その代表者の氏名
F57: 住 所 | X57: =IF(更新申請書!BH6="","",更新申請書!BH6)
F61: 氏名又は名称 | X61: =IF(更新申請書!BH10="","",更新申請書!BH10)
F65: 代 表 者 氏 名 | X65: =IF(更新申請書!BH14="","",更新申請書!BH14)
A71: ２．経営しようとする一般旅客自動車運送事業の種別
F75: 一般貸切旅客自動車運送事業
A81: ３．事業計画
D85: 別紙のとおり

Sheet 事業計画
CD1: 別紙
A7: 事 業 計 画
A11: １．営業区域
A20: ２．主たる事務所の名称及び位置
D24: 名 称
D28: 位 置
A33: ３．営業所の名称及び位置
D37: 名 称 | Q37: 位 置
A48: ４．営業所ごとに配置する事業用自動車の数
D52: 営業所の名称 | Q52: コミューター車 | AD52: 小型車 | AQ52: 中型車 | BD52: 大型車 | BQ52: 合計
AA55: 両 | AN55: 両 | BA55: 両 | BN55: 両 | BQ55: =IF(SUM(Q55:BM55)=0, "", SUM(Q55:BM55)) | CA55: 両
AA58: 両 | AN58: 両 | BA58: 両 | BN58: 両 | BQ58: =IF(SUM(Q58:BM58)=0, "", SUM(Q58:BM58)) | CA58: 両
A63: ５．自動車車庫の位置及び収容能力
D67: 営業所の名称 | Q67: 位 置 | BL67: 収容能力
BT70: ㎡
BT73: ㎡

Sheet 管理体制組織図
A2: 一般貸切旅客自動車運送事業の管理運営体制組織図（ 営業所）
A4: １．指揮命令系統図
S6: 運行管理者 | Y6: 補助者 | AE6: 運転者
S7: （氏名） | Y7: （氏名） | AE7: 名
AE9: (別添名簿
AE10: を参照)
B11: 社長 | G11: 担当役員 | L11: 安全統括管理者
B12: （氏名） | G12: （氏名） | L12: （氏名）
S14: 整備管理者 | Y14: 補助者
S15: （氏名） | Y15: （氏名）
A22: ２．安全管理規定の有無 | N22: 有 | O22: ・ | P22: 無
A24: ３．安全統括管理者選任の有無 | N24: 有 | O24: ・ | P24: 無
A26: ４．運行管理規定の有無 | N26: 有 | O26: ・ | P26: 無
A28: ５．運行管理者確保状況
B30: ○ | C30: 確保人数 | O30: 名 | R30: ○ | S30: 確保予定人数 | AE30: 名
B32: ○ | C32: 配車車両数 | O32: 両
A34: ６．点呼実施体制
B36: ○ | C36: 点呼担当者 | J36: （役職） | T36: （氏名）
B38: ○ | C38: 点呼実施場所
B40: ○ | C40: 営業所と車庫の連絡方法
A42: ７．事故防止についての教育指導体制
B44: ○ | C44: 教育担当者 | J44: （役職） | T44: （氏名）
B46: ○ | C46: 教育指導内容 | J46: 道路運送法、道路交通法、道路運送車両法、労働基準法
J47: 平成１３年１２月３日付け国土交通省告示第１６７６号
J48: その他関係法令等
A50: ８．事故処理連絡体制
B52: 運転者 | I52: 事故処理担当者 | P52: 事故処理責任者 | W52: 社 長
I53: （氏名） | P53: （氏名）
B57: 警察署 | I57: 運輸支局
A60: ９．整備管理者確保状況
B62: ○ | C62: 確保人数 | O62: 名 | R62: ○ | S62: 確保予定人数 | AE62: 名
A64: １０．運行管理者・整備管理者名簿
B66: 氏 名 | J66: 役 職 | P66: 資格要件（資格証番号等）
A72: １１．苦情処理
B74: ○ | C74: 苦情処理責任者 | K74: （氏名）
B76: ○ | C76: 苦情処理担当者 | K76: （氏名）
A78: ※営業所が複数の場合は、営業所ごとに作成してください。

Sheet 運転者名簿
A2: 運転者名簿（ 営業所）
A4: 運 転 者 氏 名 | M4: 運 転 者 住 所
A41: ※営業所が複数の場合は、営業所ごとに作成してください。

Sheet 休憩仮眠施設
A2: 事業用自動車の乗務員の休憩、仮眠又は睡眠のための
A3: 施設の概要を記載した書面
A7: 営業所名 | C7: 位 置 | H7: 収容能力 | I7: 自己所有・ 借入の別
B8: （営） 休憩仮眠施設 | H8: ㎡ | I8: 所有 ・ 借入
B9: （営） 休憩仮眠施設 | H9: ㎡ | I9: 所有 ・ 借入

Sheet 保険(共済)加入宣誓書
A4: 九 州 運 輸 局 長 殿
A8: 宣 誓 書
A12: 道路運送法に基づく本申請にかかる自動車については、旅客自動車運送事業者が事業
A13: 用自動車の運行により生じた旅客その他の者の生命、身体又は財産の損害を賠償するた
A14: めに講じておくべき措置の基準を定める告示（国土交通省告示第５０３号（平成２５年国土
A15: 交通省告示第１０７１号改正））で定める基準に適合する任意保険又は共済に加入するこ
A16: とを宣誓します。
A20: 令和 年 月 日
D23: 住 所
D25: 氏名又は名称
D27: 代 表 者 名

Sheet 欠格事由宣誓書（法人用）
I1: 法人用
A4: 九 州 運 輸 局 長 殿
A8: 宣 誓 書
A12: 道路運送法第７条（欠格事由）各号に該当しておりません。
A18: 上記に相違ないことを宣誓いたします。
A22: 令和 年 月 日
D25: 住 所
D27: 氏名又は名称
D29: 代 表 者 名

Sheet 欠格事由宣誓書（個人又は法人の役員用）
G1: 個人又は法人の役員用
A4: 九 州 運 輸 局 長 殿
A8: 宣 誓 書
A12: 道路運送法第７条（欠格事由）各号に該当しておりません。
A18: 上記に相違ないことを宣誓いたします。
A22: 令和 年 月 日
E25: 住 所
E27: 氏 名

Sheet 添付書類一覧
A1: 添付書類一覧
A3: ●安全投資計画
A4: 添付資料名 | J4: チェック欄
A5: 貸切バス予防整備ガイドラインに基づく整備サイクル表
A7: ●事業収支見積書
A8: 添付資料名 | J8: チェック欄
A9: ・更新許可申請の場合 実績実働日車営収及び実績実働率がわかる書面（直近事業年度の輸送実績報告書等） 実績実働日車営収及び実績実働率としない場合は、その根拠となる書面
A10: ・新規許可申請の場合 「（健康保険・厚生年金保険）新規適用届（写）」及び「労働保険／保健関係成立届（写）」等の確認書類、宣誓書など
A11: ・更新許可申請の場合 「社会保険料納入証明（申請）書」、「社会保険料納入確認（申請）書」又は「（健康保険・厚生年金保険）納入告知書（事業主控）」及び「労働保険概算・増加概算・確定保険料申告書（事業主控）」（申請日の直近一年間）
A12: 健康診断に要する費用の見積額がわかる書面 例：費用が確認できる病院のHP、直近の健康診断の請求書 など ※過去の健康診断の費用と比較して、今後も同じ医療機関を受診し、受診費用単価が同額である場合は添付不要
A13: ・メンテナンスリースの場合 リースにより取得した（取得する予定の）車両のリース料がわかる書面に加えて、貸切バス予防整備ガイドラインに基づく整備サイクル表の内容を実施するために必要な経費の見積書（整備サイクル表の整備予定項目がわかるもの。）
A14: ・自社整備の場合 保有又は取得する車両の整備に係る見積書（貸切バス整備ガイドラインに基づく整備サイクル表の整備予定項目がわかるもの。また、整備工場の認証・指定番号の記載のあるもの。） ※別途定める額以上が修繕費に計上されている場合は添付不要
A17: その他の安全確保のために必要な事項のドライブレコーダー及びデジタルタコグラフの導入費用について、実施するために必要な費用がわかる書面（見積書等） ※過去のドライブレコーダー導入費用と比較して、今後も同じ機器を導入し、機器単価が同額である場合は添付不要
A18: 貸借対照表（直近１事業年度分、新たに法人等を設立する場合を除く）
A19: 損益計算書（直近1事業年度分、新たに法人等を設立する場合を除く）
A21: ●安全投資実績
A22: 添付資料名 | J22: チェック欄
A23: 貸切バス予防整備ガイドラインに基づく整備実施記録簿
A25: ●事業収支実績報告書
A26: 添付資料名 | J26: チェック欄
A27: 事業者の中で給与が最も低い運転者の支払賃金の内訳がわかる書面（直近１年分の賃金台帳等）
A28: 税理士又は公認会計士が確認を行った手続実施結果報告書
A30: 貸借対照表（申請日時点における直近１事業年度分）
A31: 損益計算書（前回許可時から更新申請時までの間の各事業年度分。初回更新時は申請日時点における直近１事業年度を含む過去５事業年度分。）
A34: ●「一般貸切旅客自動車運送事業の許可及び事業計画変更認可申請等の審査基準について」２．（３）（ニ）
A35: 添付資料名 | J35: チェック欄
A36: 行政処分を受けている場合は、認定された事業者による運輸安全マネジメント評価を受けたことがわかる書面

Sheet 安全投資計画
A2: 一般貸切旅客自動車運送事業 安全投資計画
A6: １．計画期間
C10: 令和 | M10: 年 | S10: 月 | Y10: 日 | AB10: ～ | AE10: 令和 | AO10: 年 | AU10: 月 | BA10: 日
C13: （許可を受けようとする日を含む事業者の事業年度の開始日） | AE13: （当該許可の有効期間満了日を含む事業者の事業年度の終了日）
C17: 許可を受けようとする日： | AE17: 当該許可の有効期間満了日：
C20: 令和 | M20: 年 | S20: 月 | Y20: 日 | AE20: 令和 | AO20: 年 | AU20: 月 | BA20: 日
A25: ２．計画期間における事業の展望及び安全投資の概要
A39: ３．運転者、運行管理者、整備管理者の確保予定全人数
N43: 令和 | U43: 年度 | Y43: 令和 | AF43: 年度 | AJ43: 令和 | AQ43: 年度 | AU43: 令和 | BB43: 年度 | BF43: 令和 | BM43: 年度 | BQ43: 令和 | BX43: 年度
C46: 運転者 | V46: 人 | AG46: 人 | AR46: 人 | BC46: 人 | BN46: 人 | BY46: 人
C49: 運行管理者 | V49: 人 | AG49: 人 | AR49: 人 | BC49: 人 | BN49: 人 | BY49: 人
C52: 整備管理者 | V52: 人 | AG52: 人 | AR52: 人 | BC52: 人 | BN52: 人 | BY52: 人
N56: ※他の自動車運送事業の用に供する車両の運転者と兼務する者も含む。
N58: ※非正規雇用の者（「期間を定めずに雇われている者」以外の者）も含む。
N60: ※事業者の各事業年度末時点の見込みを記載すること。
A64: ４．車両取得予定台数及び保有車両台数（車両確保計画）
D68: 別紙１のとおり
A73: ５．計画期間に実施する事業及びその他の安全確保のための投資に必要な事項
D77: 別紙２のとおり
A81: ６．車両の点検及び整備に関する計画及び費用
D85: 別紙１及び貸切バス予防整備ガイドラインの整備サイクル表のとおり

Sheet （別紙1）事業用自動車一覧表
EE1: 別紙１
A5: 事業用自動車一覧表（見積）
BO8: （令和 | BW8: =IF(安全投資計画!$R$43="","",安全投資計画!$R$43) | BZ8: 年度）
CY10: ※各年度に存在する車両の状況を記載すること。 ※導入予定車両については見込みを記入すること。
F16: 営業所名 | P16: 車両登録番号 | AD16: 車両 増減 | AI16: 車種 区分 | AN16: 初度登録 年月 | AX16: 車齢 | BC16: 取得年月 | BL16: 購入又は リースの別 | BV16: 購入費 （千円） | CF16: リース費 （千円） | CP16: 減価償却費 （千円） | DA16: 修繕費 （千円） | DL16: 整備サイクル表No. | DR16: 車両整備の 自社・他社の別 | EC16: 年間走行距離 （ｋｍ）
B27: 1
B30: 2
B33: 3
B36: 4
B39: 5
B42: 6
B45: 7
B48: 8
B51: 9
B54: 10
B57: 11
B60: 12
... B84: 20
B87: 合計 | CF87: =IF(SUM(CF27:CO86)=0,"",SUM(CF27:CO86)) | CP87: =IF(SUM(CP27:CZ86)=0,"",SUM(CP27:CZ86)) | DA87: =IF(SUM(DA27:DK86)=0,"",SUM(DA27:DK86))
B90: 平均 | AX90: =IF(AX27="","",AVERAGE(AX27:BB86)) | EC90: =IF(EC27="","",AVERAGE(EC27:EM86))
C94: ※「整備サイクル表」を複数作成する場合は、当該車両の「整備サイクル表」の「整備サイクル表No.」を記載すること。 ※車両増減には、「増車・減車・維持」のいずれかを記載すること。 ※「車齢」には、各事業年度末時点の当該車両の初度登録からの年数を記載すること。
EE103: 別紙１
A107: 事業用自動車一覧表（見積）
BO110: （令和 | BW110: =IF(安全投資計画!$AC$43="","",安全投資計画!$AC$43) | BZ110: 年度）
CY112: ※各年度に存在する車両の状況を記載すること。 ※導入予定車両については見込みを記入すること。
F118: 営業所名 | P118: 車両登録番号 | AD118: 車両 増減 | AI118: 車種 区分 | AN118: 初度登録 年月 | AX118: 車齢 | BC118: 取得年月 | BL118: 購入又は リースの別 | BV118: 購入費 （千円） | CF118: リース費 （千円） | CP118: 減価償却費 （千円） | DA118: 修繕費 （千円） | DL118: 整備サイクル表No. | DR118: 車両整備の 自社・他社の別 | EC118: 年間走行距離 （ｋｍ）
B129: 1
B132: 2
B135: 3
B138: 4
B141: 5
B144: 6
B147: 7
B150: 8
B153: 9
B156: 10
B159: 11
B162: 12
... B186: 20
B189: 合計 | CF189: =IF(SUM(CF129:CO188)=0,"",SUM(CF129:CO188)) | CP189: =IF(SUM(CP129:CZ188)=0,"",SUM(CP129:CZ188)) | DA189: =IF(SUM(DA129:DK188)=0,"",SUM(DA129:DK188))
...

Sheet （別紙2）その他
CL1: 別紙２
B7: ○その他の安全確保のための投資に必要な事項に関する計画
D11: ①ドライブレコーダーの購入計画及び費用
R15: 令和 | W15: =IF(安全投資計画!$R$43="","",安全投資計画!$R$43) | Z15: 年度 | AE15: 令和 | AJ15: =IF(安全投資計画!$AC$43="","",安全投資計画!$AC$43) | AM15: 年度 | AR15: 令和 | AW15: =IF(安全投資計画!$AN$43="","",安全投資計画!$AN$43) | AZ15: 年度 | BE15: 令和 | BJ15: =IF(安全投資計画!$AY$43="","",安全投資計画!$AY$43) | BM15: 年度 | BR15: 令和 | BW15: =IF(安全投資計画!$BJ$43="","",安全投資計画!$BJ$43) | BZ15: 年度 | CE15: 令和 | CJ15: =IF(安全投資計画!$BU$43="","",安全投資計画!$BU$43) | CM15: 年度
G18: 合計 | AB18: 両 | AO18: 両 | BB18: 両 | BO18: 両 | CB18: 両 | CO18: 両
G21: 費用 | AB21: 千円 | AO21: 千円 | BB21: 千円 | BO21: 千円 | CB21: 千円 | CO21: 千円
D26: ②デジタルタコグラフの購入計画及び費用
R30: 令和 | W30: =IF(安全投資計画!$R$43="","",安全投資計画!$R$43) | Z30: 年度 | AE30: 令和 | AJ30: =IF(安全投資計画!$AC$43="","",安全投資計画!$AC$43) | AM30: 年度 | AR30: 令和 | AW30: =IF(安全投資計画!$AN$43="","",安全投資計画!$AN$43) | AZ30: 年度 | BE30: 令和 | BJ30: =IF(安全投資計画!$AY$43="","",安全投資計画!$AY$43) | BM30: 年度 | BR30: 令和 | BW30: =IF(安全投資計画!$BJ$43="","",安全投資計画!$BJ$43) | BZ30: 年度 | CE30: 令和 | CJ30: =IF(安全投資計画!$BU$43="","",安全投資計画!$BU$43) | CM30: 年度
G33: 合計 | AB33: 両 | AO33: 両 | BB33: 両 | BO33: 両 | CB33: 両 | CO33: 両
G36: 費用 | AB36: 千円 | AO36: 千円 | BB36: 千円 | BO36: 千円 | CB36: 千円 | CO36: 千円
D40: ③適性診断の受診計画及び費用
F44: ・初任運転者受診計画及び費用
R48: 令和 | W48: =IF(安全投資計画!$R$43="","",安全投資計画!$R$43) | Z48: 年度 | AE48: 令和 | AJ48: =IF(安全投資計画!$AC$43="","",安全投資計画!$AC$43) | AM48: 年度 | AR48: 令和 | AW48: =IF(安全投資計画!$AN$43="","",安全投資計画!$AN$43) | AZ48: 年度 | BE48: 令和 | BJ48: =IF(安全投資計画!$AY$43="","",安全投資計画!$AY$43) | BM48: 年度 | BR48: 令和 | BW48: =IF(安全投資計画!$BJ$43="","",安全投資計画!$BJ$43) | BZ48: 年度 | CE48: 令和 | CJ48: =IF(安全投資計画!$BU$43="","",安全投資計画!$BU$43) | CM48: 年度
G51: 受診人数 | AB51: 人 | AO51: 人 | BB51: 人 | BO51: 人 | CB51: 人 | CO51: 人
G54: 費用 | AB54: 千円 | AO54: 千円 | BB54: 千円 | BO54: 千円 | CB54: 千円 | CO54: 千円
F59: ・適齢運転者受診計画及び費用
R63: 令和 | W63: =IF(安全投資計画!$R$43="","",安全投資計画!$R$43) | Z63: 年度 | AE63: 令和 | AJ63: =IF(安全投資計画!$AC$43="","",安全投資計画!$AC$43) | AM63: 年度 | AR63: 令和 | AW63: =IF(安全投資計画!$AN$43="","",安全投資計画!$AN$43) | AZ63: 年度 | BE63: 令和 | BJ63: =IF(安全投資計画!$AY$43="","",安全投資計画!$AY$43) | BM63: 年度 | BR63: 令和 | BW63: =IF(安全投資計画!$BJ$43="","",安全投資計画!$BJ$43) | BZ63: 年度 | CE63: 令和 | CJ63: =IF(安全投資計画!$BU$43="","",安全投資計画!$BU$43) | CM63: 年度
G66: 受診人数 | AB66: 人 | AO66: 人 | BB66: 人 | BO66: 人 | CB66: 人 | CO66: 人
G69: 費用 | AB69: 千円 | AO69: 千円 | BB69: 千円 | BO69: 千円 | CB69: 千円 | CO69: 千円
D73: ④その他安全の確保に対する投資計画及び費用 | BB73: ※安全性評価認定申請や運輸安全マネジメント評価を除く、高度な運行管理システムやドライバーモニタリングシステムの導入等、安全にかかる設備投資の計画を記載
F78: 安全確保策の名称：
R82: 令和 | W82: =IF(安全投資計画!$R$43="","",安全投資計画!$R$43) | Z82: 年度 | AE82: 令和 | AJ82: =IF(安全投資計画!$AC$43="","",安全投資計画!$AC$43) | AM82: 年度 | AR82: 令和 | AW82: =IF(安全投資計画!$AN$43="","",安全投資計画!$AN$43) | AZ82: 年度 | BE82: 令和 | BJ82: =IF(安全投資計画!$AY$43="","",安全投資計画!$AY$43) | BM82: 年度 | BR82: 令和 | BW82: =IF(安全投資計画!$BJ$43="","",安全投資計画!$BJ$43) | BZ82: 年度 | CE82: 令和 | CJ82: =IF(安全投資計画!$BU$43="","",安全投資計画!$BU$43) | CM82: 年度
G85: 費用 | AB85: 千円 | AO85: 千円 | BB85: 千円 | BO85: 千円 | CB85: 千円 | CO85: 千円
D90: 費用の合計（①～④の合計）
R94: 令和 | W94: =IF(安全投資計画!$R$43="","",安全投資計画!$R$43) | Z94: 年度 | AE94: 令和 | AJ94: =IF(安全投資計画!$AC$43="","",安全投資計画!$AC$43) | AM94: 年度 | AR94: 令和 | AW94: =IF(安全投資計画!$AN$43="","",安全投資計画!$AN$43) | AZ94: 年度 | BE94: 令和 | BJ94: =IF(安全投資計画!$AY$43="","",安全投資計画!$AY$43) | BM94: 年度 | BR94: 令和 | BW94: =IF(安全投資計画!$BJ$43="","",安全投資計画!$BJ$43) | BZ94: 年度 | CE94: 令和 | CJ94: =IF(安全投資計画!$BU$43="","",安全投資計画!$BU$43) | CM94: 年度
G97: 費用合計 | R97: =IF(SUM(R21,R36,R54,R69,R85)=0,"",SUM(SUM(R21,R36,R54,R69,R85))) | AB97: 千円 | AE97: =IF(SUM(AE21,AE36,AE54,AE69,AE85)=0,"",SUM(SUM(AE21,AE36,AE54,AE69,AE85))) | AO97: 千円 | AR97: =IF(SUM(AR21,AR36,AR54,AR69,AR85)=0,"",SUM(SUM(AR21,AR36,AR54,AR69,AR85))) | BB97: 千円 | BE97: =IF(SUM(BE21,BE36,BE54,BE69,BE85)=0,"",SUM(SUM(BE21,BE36,BE54,BE69,BE85))) | BO97: 千円 | BR97: =IF(SUM(BR21,BR36,BR54,BR69,BR85)=0,"",SUM(SUM(BR21,BR36,BR54,BR69,BR85))) | CB97: 千円 | CE97: =IF(SUM(CE21,CE36,CE54,CE69,CE85)=0,"",SUM(SUM(CE21,CE36,CE54,CE69,CE85))) | CO97: 千円
F102: ※計画については事業者の各事業年度末時点の見込みを記載すること。 ※費用については各年度末時点の見込みを記載すること。 ※所要の単価を下回る単価に基づく見込み額となっていないこと

Sheet 事業収支見積書
A3: 一般貸切旅客自動車運送事業 事業収支見積書
A10: １．一般貸切旅客自動車運送事業に係る事業収支見積り
CI14: （単位：千円）
R17: 令和 | W17: =IF(安全投資計画!$R$43="","",安全投資計画!$R$43) | Z17: 年度 | AE17: 令和 | AJ17: =IF(安全投資計画!$AC$43="","",安全投資計画!$AC$43) | AM17: 年度 | AR17: 令和 | AW17: =IF(安全投資計画!$AN$43="","",安全投資計画!$AN$43) | AZ17: 年度 | BE17: 令和 | BJ17: =IF(安全投資計画!$AY$43="","",安全投資計画!$AY$43) | BM17: 年度 | BR17: 令和 | BW17: =IF(安全投資計画!$BJ$43="","",安全投資計画!$BJ$43) | BZ17: 年度 | CE17: 令和 | CJ17: =IF(安全投資計画!$BU$43="","",安全投資計画!$BU$43) | CM17: 年度
C20: 営業収益 | F20: 運送収入 | R20: =IF(SUM(R23:AD28)=0, "", SUM(R23:AD28)) | AE20: =IF(SUM(AE23:AQ28)=0, "", SUM(AE23:AQ28)) | AR20: =IF(SUM(AR23:BD28)=0, "", SUM(AR23:BD28)) | BE20: =IF(SUM(BE23:BQ28)=0, "", SUM(BE23:BQ28)) | BR20: =IF(SUM(BR23:CD28)=0, "", SUM(BR23:CD28)) | CE20: =IF(SUM(CE23:CQ28)=0, "", SUM(CE23:CQ28))
H23: 旅客運賃
H26: その他
F29: 運送雑収
F32: 合計 | R32: =IF(SUM(R20,R29)=0, "", SUM(R20,R29)) | AE32: =IF(SUM(AE20,AE29)=0, "", SUM(AE20,AE29)) | AR32: =IF(SUM(AR20,AR29)=0, "", SUM(AR20,AR29)) | BE32: =IF(SUM(BE20,BE29)=0, "", SUM(BE20,BE29)) | BR32: =IF(SUM(BR20,BR29)=0, "", SUM(BR20,BR29)) | CE32: =IF(SUM(CE20,CE29)=0, "", SUM(CE20,CE29))
C35: 営業費用 | F35: 運転者 | I35: 給与
I38: 手当
I41: 賞与
I44: 法定福利費
I47: 厚生福利費
K50: うち健康診断に係る費用
F53: その他人件費
F56: その他運送費 （事業用自動車等）
F59: 適正化機関負担金
F62: 合計 | R62: =IF(SUM(R35,R38,R41,R44,R47,R53,R56,R59)=0, "", SUM(R35,R38,R41,R44,R47,R53,R56,R59)) | AE62: =IF(SUM(AE35,AE38,AE41,AE44,AE47,AE53,AE56,AE59)=0, "", SUM(AE35,AE38,AE41,AE44,AE47,AE53,AE56,AE59)) | AR62: =IF(SUM(AR35,AR38,AR41,AR44,AR47,AR53,AR56,AR59)=0, "", SUM(AR35,AR38,AR41,AR44,AR47,AR53,AR56,AR59)) | BE62: =IF(SUM(BE35,BE38,BE41,BE44,BE47,BE53,BE56,BE59)=0, "", SUM(BE35,BE38,BE41,BE44,BE47,BE53,BE56,BE59)) | BR62: =IF(SUM(BR35,BR38,BR41,BR44,BR47,BR53,BR56,BR59)=0, "", SUM(BR35,BR38,BR41,BR44,BR47,BR53,BR56,BR59)) | CE62: =IF(SUM(CE35,CE38,CE41,CE44,CE47,CE53,CE56,CE59)=0, "", SUM(CE35,CE38,CE41,CE44,CE47,CE53,CE56,CE59))
C65: 営業損益 | R65: =IF(OR(R32="",R62=""),"",R32-R62) | AE65: =IF(OR(AE32="",AE62=""),"",AE32-AE62) | AR65: =IF(OR(AR32="",AR62=""),"",AR32-AR62) | BE65: =IF(OR(BE32="",BE62=""),"",BE32-BE62) | BR65: =IF(OR(BR32="",BR62=""),"",BR32-BR62) | CE65: =IF(OR(CE32="",CE62=""),"",CE32-CE62)
C68: 営業外収益
C71: 営業外費用
C74: 営業外損益 | R74: =IF(AND(R68="",R71=""),"", R68-R71) | AE74: =IF(AND(AE68="",AE71=""),"", AE68-AE71) | AR74: =IF(AND(AR68="",AR71=""),"", AR68-AR71) | BE74: =IF(AND(BE68="",BE71=""),"", BE68-BE71) | BR74: =IF(AND(BR68="",BR71=""),"", BR68-BR71) | CE74: =IF(AND(CE68="",CE71=""),"", CE68-CE71)
C77: 経常損益 | R77: =IF(OR(R65=""),"", SUM(R65,R74)) | AE77: =IF(OR(AE65=""),"", SUM(AE65,AE74)) | AR77: =IF(OR(AR65=""),"", SUM(AR65,AR74)) | BE77: =IF(OR(BE65=""),"", SUM(BE65,BE74)) | BR77: =IF(OR(BR65=""),"", SUM(BR65,BR74)) | CE77: =IF(OR(CE65=""),"", SUM(CE65,CE74))
C81: ※その他運送費（事業用自動車等）には、別紙１の事業用自動車一覧表の減価償却費、リース費、修繕費の合計、 別紙2のドライブレコーダーの購入費、デジタルタコグラフの購入費、適性診断（初任・適齢）の受診費、 その他安全の確保に対する費用を含む
A85: ２．一般貸切旅客自動車運送事業以外の事業の経営状況
C89: ※貸切事業の経常損益が毎年連続で赤字となっていない場合は記載不要
C92: 令和 | J92: =IF(安全投資計画!$R$43="","",安全投資計画!$R$43) | M92: 年度 | AS92: （単位：千円）
O95: 一般貸切旅客自動車運送事業 | AB95: 他事業 | AO95: 合 計
C98: 営業収益 | O98: =IF($R$32="","",$R$32) | AO98: =IF(SUM(O98:AN100)=0, "", SUM(O98:AN100))
C101: 営業費用 | O101: =IF($R$62="","",$R$62) | AO101: =IF(SUM(O101:AN103)=0, "", SUM(O101:AN103))
C104: 営業損益 | O104: =IF($R$65="","",$R$65) | AB104: =IF(AND(AB98="",AB101=""), "", AB98-AB101) | AO104: =IF(AND(O104="",AB104=""), "", SUM(O104:AN106))
C107: 営業外収益 | O107: =IF($R$68="","",$R$68) | AO107: =IF(SUM(O107:AN109)=0, "", SUM(O107:AN109))
C110: 営業外費用 | O110: =IF($R$71="","",$R$71) | AO110: =IF(SUM(O110:AN112)=0, "", SUM(O110:AN112))
C113: 営業外損益 | O113: =IF($R$74="","",$R$74) | AB113: =IF(AND(AB107="",AB110=""), "", AB107-AB110) | AO113: =IF(AND(O113="",AB113=""), "", SUM(O113:AN115))
C116: 経常損益 | O116: =IF($R$77="","",$R$77) | AB116: =IF(AND(AB104="",AB113=""), "", SUM(AB104,AB113)) | AO116: =IF(AND(O116="",AB116=""), "", SUM(O116:AN118))
C119: 特別損益
C122: 当期純利益
C127: 令和 | J127: =IF(安全投資計画!$AC$43="","",安全投資計画!$AC$43) | M127: 年度 | AS127: （単位：千円）
O130: 一般貸切旅客自動車運送事業 | AB130: 他事業 | AO130: 合 計
...

Sheet （別紙3）営業収益
CJ1: 別紙３
B5: ○営業収益の算出根拠
E10: ・実働日車営収及び期中平均実働率の算出方法例
E14: 輸送実績報告書の延実働車両数（日車）、延実在車両数（日車）、営業収入の数値を使用
D18: ・実働日車営収 | T18: 営業収入（※） | AJ18: 延実働車両数 | BP18: 実働日車営収
AB21: 円 | AF21: ÷ | AR21: 日車 | BL21: ＝ | BP21: =IF(T21="","",T21/ AJ21) | CE21: 円
U24: ※実績報告書は千円単位のため、円単位にして計算してください
D27: ・期中平均実働率 | T27: 延実働車両数 | AJ27: 延実在車両数 | BP27: 期中平均実働率
AB30: 日車 | AF30: ÷ | AR30: 日車 | AV30: × | AZ30: 100 | BL30: ＝ | BP30: =IF(T30="","",T30/AJ30*AZ30) | CE30: ％
C35: 令和 | H35: =IF(安全投資計画!$R$43="","",安全投資計画!$R$43) | K35: 年度
D39: 実働日車営収（※１） | T39: 期中平均車両数 | AJ39: 期中平均実働率（※２） | BP39: 営業収益
L42: 円 | P42: × | AB42: 台 | AF42: × | AR42: ％ | AV42: × | AZ42: 365 | BH42: 日 | BL42: ＝ | BP42: =IF(D42*T42*AJ42*AZ42/100=0,"",D42*T42*AJ42*AZ42/100) | CE42: 円
C47: 令和 | H47: =IF(安全投資計画!$AC$43="","",安全投資計画!$AC$43) | K47: 年度
D51: 実働日車営収（※１） | T51: 期中平均車両数 | AJ51: 期中平均実働率（※２） | BP51: 営業収益
L54: 円 | P54: × | AB54: 台 | AF54: × | AR54: ％ | AV54: × | AZ54: 365 | BH54: 日 | BL54: ＝ | BP54: =IF(D54*T54*AJ54*AZ54/100=0,"",D54*T54*AJ54*AZ54/100) | CE54: 円
C59: 令和 | H59: =IF(安全投資計画!$AN$43="","",安全投資計画!$AN$43) | K59: 年度
D63: 実働日車営収（※１） | T63: 期中平均車両数 | AJ63: 期中平均実働率（※２） | BP63: 営業収益
L66: 円 | P66: × | AB66: 台 | AF66: × | AR66: ％ | AV66: × | AZ66: 365 | BH66: 日 | BL66: ＝ | BP66: =IF(D66*T66*AJ66*AZ66/100=0,"",D66*T66*AJ66*AZ66/100) | CE66: 円
C71: 令和 | H71: =IF(安全投資計画!$AY$43="","",安全投資計画!$AY$43) | K71: 年度
D75: 実働日車営収（※１） | T75: 期中平均車両数 | AJ75: 期中平均実働率（※２） | BP75: 営業収益
L78: 円 | P78: × | AB78: 台 | AF78: × | AR78: ％ | AV78: × | AZ78: 365 | BH78: 日 | BL78: ＝ | BP78: =IF(D78*T78*AJ78*AZ78/100=0,"",D78*T78*AJ78*AZ78/100) | CE78: 円
C83: 令和 | H83: =IF(安全投資計画!$BJ$43="","",安全投資計画!$BJ$43) | K83: 年度
D87: 実働日車営収（※１） | T87: 期中平均車両数 | AJ87: 期中平均実働率（※２） | BP87: 営業収益
L90: 円 | P90: × | AB90: 台 | AF90: × | AR90: ％ | AV90: × | AZ90: 365 | BH90: 日 | BL90: ＝ | BP90: =IF(D90*T90*AJ90*AZ90/100=0,"",D90*T90*AJ90*AZ90/100) | CE90: 円
C95: 令和 | H95: =IF(安全投資計画!$BU$43="","",安全投資計画!$BU$43) | K95: 年度
D99: 実働日車営収（※１） | T99: 期中平均車両数 | AJ99: 期中平均実働率（※２） | BP99: 営業収益
L102: 円 | P102: × | AB102: 台 | AF102: × | AR102: ％ | AV102: × | AZ102: 365 | BH102: 日 | BL102: ＝ | BP102: =IF(D102*T102*AJ102*AZ102/100=0,"",D102*T102*AJ102*AZ102/100) | CE102: 円
B108: ※１ 新規許可申請時においては、運輸局管轄ブロックにおける平均実働日車営収とする。 更新許可申請時においては、事業者の実績実働日車営収とする。なお、実績実働日車営収としない場合は、その根拠となる書面を添付すること。
B115: ※２ 新規許可申請時においては、運輸局管轄ブロックにおける平均実働率とする。 更新許可申請時においては、事業者の実績実働率とする。なお、実績実働率としない場合は、その根拠となる書面を添付すること。

Sheet 安全投資実績報告書
A1: 一般貸切旅客自動車運送事業 安全投資実績
A5: １．前回許可時の計画に対する実績の評価
O9: 計画 | AZ9: 実績 | CL9: 未達成の場合の理由
A11: 令和 | K11: 年度
A17: ～
A20: 令和 | K20: 年度
A27: ２．運転者、運行管理者、整備管理者の確保実績
O31: 令和 | W31: 年度 | AB31: 令和 | AJ31: 年度 | AO31: 令和 | AW31: 年度 | BB31: 令和 | BJ31: 年度 | BO31: 令和 | BW31: 年度
B34: 運転者 | Y34: 人 | AL34: 人 | AY34: 人 | BL34: 人 | BY34: 人
B37: 運行管理者 | Y37: 人 | AL37: 人 | AY37: 人 | BL37: 人 | BY37: 人
B40: 整備管理者 | Y40: 人 | AL40: 人 | AY40: 人 | BL40: 人 | BY40: 人
M44: ※他の自動車運送事業の用に供する車両の運転者と兼務する者も含む。
M46: ※非正規雇用の者（「期間を定めずに雇われている者」以外の者）も含む。
M48: ※各年度末時点の実績を記入すること。
A51: ３．車両の新規取得・代替の実績 | BZ51: 別紙４のとおり
A55: ４．その他の安全確保のための投資に必要な事項に関する実績 | BZ55: 別紙５のとおり
A59: ５．車両の点検及び整備に関する実績及び費用 | BZ59: 別紙４及び 貸切バス予防整備ガイドラインの整備実施記録簿のとおり

Sheet （別紙4）事業用自動車一覧表
EC1: 別紙４
A5: 事業用自動車一覧表（実績）
BO8: （令和 | BW8: =IF(安全投資実績報告書!T31="","",安全投資実績報告書!T31) | BZ8: 年度）
CN10: ※各年度末時点で存在する車両の状況を記載すること。
F16: 営業所名 | P16: 車両登録番号 | AD16: 車両増減 | AI16: 車種 区分 | AN16: 初度登録 年月 | AX16: 車齢 | BC16: 取得年月 | BL16: 購入又は リースの別 | BV16: 購入費 （千円） | CF16: リース費 （千円） | CP16: 減価償却費 （千円） | DA16: 修繕費 （千円） | DL16: 整備サイクル表No. | DR16: 車両整備の 自社・他社の別 | EC16: 年間走行距離 （ｋｍ）
B27: 1
B30: 2
B33: 3
B36: 4
B39: 5
B42: 6
B45: 7
B48: 8
B51: 9
B54: 10
B57: 11
B60: 12
... B84: 20
B87: 合計 | CF87: =IF(SUM(CF27:CO86)=0,"",SUM(CF27:CO86)) | CP87: =IF(SUM(CP27:CZ86)=0,"",SUM(CP27:CZ86)) | DA87: =IF(SUM(DA27:DK86)=0,"",SUM(DA27:DK86))
B90: 平均 | AX90: =IF(AX27="","",AVERAGE(AX27:BB86)) | EC90: =IF(EC27="","",AVERAGE(EC27:EM86))
C94: ※「整備サイクル表」を複数作成する場合は、当該車両の「整備サイクル表」の「整備サイクル表No.」を記載すること。 ※車両増減には、「増車・減車・維持」のいずれかを記載すること。
EC101: 別紙４
A105: 事業用自動車一覧表（実績）
BO108: （令和 | BW108: =IF(安全投資実績報告書!AG31="","",安全投資実績報告書!AG31) | BZ108: 年度）
CN110: ※各年度末時点で存在する車両の状況を記載すること。
F116: 営業所名 | P116: 車両登録番号 | AD116: 車両増減 | AI116: 車種 区分 | AN116: 初度登録 年月 | AX116: 車齢 | BC116: 取得年月 | BL116: 購入又は リースの別 | BV116: 購入費 （千円） | CF116: リース費 （千円） | CP116: 減価償却費 （千円） | DA116: 修繕費 （千円） | DL116: 整備サイクル表No. | DR116: 車両整備の 自社・他社の別 | EC116: 年間走行距離 （ｋｍ）
B127: 1
B130: 2
B133: 3
B136: 4
B139: 5
B142: 6
B145: 7
B148: 8
B151: 9
B154: 10
B157: 11
B160: 12
... B184: 20
B187: 合計 | CF187: =IF(SUM(CF127:CO186)=0,"",SUM(CF127:CO186)) | CP187: =IF(SUM(CP127:CZ186)=0,"",SUM(CP127:CZ186)) | DA187: =IF(SUM(DA127:DK186)=0,"",SUM(DA127:DK186))
...

Sheet （別紙５）その他
CE1: 別紙５
B7: ○その他の安全確保のための投資に必要な事項について
D11: ①ドライブレコーダーの導入実績
R15: 令和 | W15: =IF(安全投資実績報告書!$T$31="","",安全投資実績報告書!$T$31) | Z15: 年度 | AE15: 令和 | AJ15: =IF(安全投資実績報告書!$AG$31="","",安全投資実績報告書!$AG$31) | AM15: 年度 | AR15: 令和 | AW15: =IF(安全投資実績報告書!$AT$31="","",安全投資実績報告書!$AT$31) | AZ15: 年度 | BE15: 令和 | BJ15: =IF(安全投資実績報告書!$BG$31="","",安全投資実績報告書!$BG$31) | BM15: 年度 | BR15: 令和 | BW15: =IF(安全投資実績報告書!$BT$31="","",安全投資実績報告書!$BT$31) | BZ15: 年度
G18: 合計 | AB18: 両 | AO18: 両 | BB18: 両 | BO18: 両 | CB18: 両
G21: 費用 | AB21: 千円 | AO21: 千円 | BB21: 千円 | BO21: 千円 | CB21: 千円
D26: ②デジタルタコグラフの導入実績
R30: 令和 | W30: =IF(安全投資実績報告書!$T$31="","",安全投資実績報告書!$T$31) | Z30: 年度 | AE30: 令和 | AJ30: =IF(安全投資実績報告書!$AG$31="","",安全投資実績報告書!$AG$31) | AM30: 年度 | AR30: 令和 | AW30: =IF(安全投資実績報告書!$AT$31="","",安全投資実績報告書!$AT$31) | AZ30: 年度 | BE30: 令和 | BJ30: =IF(安全投資実績報告書!$BG$31="","",安全投資実績報告書!$BG$31) | BM30: 年度 | BR30: 令和 | BW30: =IF(安全投資実績報告書!$BT$31="","",安全投資実績報告書!$BT$31) | BZ30: 年度
G33: 合計 | AB33: 両 | AO33: 両 | BB33: 両 | BO33: 両 | CB33: 両
G36: 費用 | AB36: 千円 | AO36: 千円 | BB36: 千円 | BO36: 千円 | CB36: 千円
D40: ③適性診断の受診実績
F44: ・初任運転者受診実績
R48: 令和 | W48: =IF(安全投資実績報告書!$T$31="","",安全投資実績報告書!$T$31) | Z48: 年度 | AE48: 令和 | AJ48: =IF(安全投資実績報告書!$AG$31="","",安全投資実績報告書!$AG$31) | AM48: 年度 | AR48: 令和 | AW48: =IF(安全投資実績報告書!$AT$31="","",安全投資実績報告書!$AT$31) | AZ48: 年度 | BE48: 令和 | BJ48: =IF(安全投資実績報告書!$BG$31="","",安全投資実績報告書!$BG$31) | BM48: 年度 | BR48: 令和 | BW48: =IF(安全投資実績報告書!$BT$31="","",安全投資実績報告書!$BT$31) | BZ48: 年度
G51: 受診人数 | AB51: 人 | AO51: 人 | BB51: 人 | BO51: 人 | CB51: 人
G54: 費用 | AB54: 千円 | AO54: 千円 | BB54: 千円 | BO54: 千円 | CB54: 千円
F58: ・適齢運転者受診実績
R62: 令和 | W62: =IF(安全投資実績報告書!$T$31="","",安全投資実績報告書!$T$31) | Z62: 年度 | AE62: 令和 | AJ62: =IF(安全投資実績報告書!$AG$31="","",安全投資実績報告書!$AG$31) | AM62: 年度 | AR62: 令和 | AW62: =IF(安全投資実績報告書!$AT$31="","",安全投資実績報告書!$AT$31) | AZ62: 年度 | BE62: 令和 | BJ62: =IF(安全投資実績報告書!$BG$31="","",安全投資実績報告書!$BG$31) | BM62: 年度 | BR62: 令和 | BW62: =IF(安全投資実績報告書!$BT$31="","",安全投資実績報告書!$BT$31) | BZ62: 年度
G65: 受診人数 | AB65: 人 | AO65: 人 | BB65: 人 | BO65: 人 | CB65: 人
G68: 費用 | AB68: 千円 | AO68: 千円 | BB68: 千円 | BO68: 千円 | CB68: 千円
D73: ④その他安全の確保に対する投資実績 | AY73: ※安全性評価認定申請や運輸安全マネジメント評価を除く、高度な運行管理システムやドライバーモニタリングシステムの導入等、安全にかかる設備投資の計画を記載
F78: 安全確保策の名称：
R82: 令和 | W82: =IF(安全投資実績報告書!$T$31="","",安全投資実績報告書!$T$31) | Z82: 年度 | AE82: 令和 | AJ82: =IF(安全投資実績報告書!$AG$31="","",安全投資実績報告書!$AG$31) | AM82: 年度 | AR82: 令和 | AW82: =IF(安全投資実績報告書!$AT$31="","",安全投資実績報告書!$AT$31) | AZ82: 年度 | BE82: 令和 | BJ82: =IF(安全投資実績報告書!$BG$31="","",安全投資実績報告書!$BG$31) | BM82: 年度 | BR82: 令和 | BW82: =IF(安全投資実績報告書!$BT$31="","",安全投資実績報告書!$BT$31) | BZ82: 年度
G85: 費用 | AB85: 千円 | AO85: 千円 | BB85: 千円 | BO85: 千円 | CB85: 千円
D90: 費用の合計（①～④の合計）
R94: 令和 | W94: =IF(安全投資実績報告書!$T$31="","",安全投資実績報告書!$T$31) | Z94: 年度 | AE94: 令和 | AJ94: =IF(安全投資実績報告書!$AG$31="","",安全投資実績報告書!$AG$31) | AM94: 年度 | AR94: 令和 | AW94: =IF(安全投資実績報告書!$AT$31="","",安全投資実績報告書!$AT$31) | AZ94: 年度 | BE94: 令和 | BJ94: =IF(安全投資実績報告書!$BG$31="","",安全投資実績報告書!$BG$31) | BM94: 年度 | BR94: 令和 | BW94: =IF(安全投資実績報告書!$BT$31="","",安全投資実績報告書!$BT$31) | BZ94: 年度
G97: 費用合計 | R97: =IF(SUM(R21,R36,R54,R68,R85)=0,"",SUM(SUM(R21,R36,R54,R68,R85))) | AB97: 千円 | AE97: =IF(SUM(AE21,AE36,AE54,AE68,AE85)=0,"",SUM(SUM(AE21,AE36,AE54,AE68,AE85))) | AO97: 千円 | AR97: =IF(SUM(AR21,AR36,AR54,AR68,AR85)=0,"",SUM(SUM(AR21,AR36,AR54,AR68,AR85))) | BB97: 千円 | BE97: =IF(SUM(BE21,BE36,BE54,BE68,BE85)=0,"",SUM(SUM(BE21,BE36,BE54,BE68,BE85))) | BO97: 千円 | BR97: =IF(SUM(BR21,BR36,BR54,BR68,BR85)=0,"",SUM(SUM(BR21,BR36,BR54,BR68,BR85))) | CB97: 千円

Sheet 収支実績報告書
A4: 一般貸切旅客自動車運送事業 事業収支実績報告書
A11: １．一般貸切旅客自動車運送事業に係る事業収支実績
BV15: （単位：千円）
R18: 令和 | W18: =IF(安全投資実績報告書!$T$31="","",安全投資実績報告書!$T$31) | Z18: 年度 | AE18: 令和 | AJ18: =IF(安全投資実績報告書!$AG$31="","",安全投資実績報告書!$AG$31) | AM18: 年度 | AR18: 令和 | AW18: =IF(安全投資実績報告書!$AT$31="","",安全投資実績報告書!$AT$31) | AZ18: 年度 | BE18: 令和 | BJ18: =IF(安全投資実績報告書!$BG$31="","",安全投資実績報告書!$BG$31) | BM18: 年度 | BR18: 令和 | BW18: =IF(安全投資実績報告書!$BT$31="","",安全投資実績報告書!$BT$31) | BZ18: 年度
C21: 営業収益 | F21: 運送収入 | R21: =IF(SUM(R24:AD29)=0, "", SUM(R24:AD29)) | AE21: =IF(SUM(AE24:AQ29)=0, "", SUM(AE24:AQ29)) | AR21: =IF(SUM(AR24:BD29)=0, "", SUM(AR24:BD29)) | BE21: =IF(SUM(BE24:BQ29)=0, "", SUM(BE24:BQ29)) | BR21: =IF(SUM(BR24:CD29)=0, "", SUM(BR24:CD29))
H24: 旅客運賃
H27: その他
F30: 運送雑収
F33: 合計 | R33: =IF(SUM(R21,R30)=0, "", SUM(R21,R30)) | AE33: =IF(SUM(AE21,AE30)=0, "", SUM(AE21,AE30)) | AR33: =IF(SUM(AR21,AR30)=0, "", SUM(AR21,AR30)) | BE33: =IF(SUM(BE21,BE30)=0, "", SUM(BE21,BE30)) | BR33: =IF(SUM(BR21,BR30)=0, "", SUM(BR21,BR30))
C36: 営業費用 | F36: 運転者 | I36: 給与
I39: 手当
I42: 賞与
I45: 法定福利費
I48: 厚生福利費
K51: うち健康診断に係る費用
F54: その他人件費
F57: その他運送費 （事業用自動車等）
F60: 適正化機関負担金
F63: 合計 | R63: =IF(SUM(R36,R39,R42,R45,R48,R54,R57,R60)=0, "", SUM(R36,R39,R42,R45,R48,R54,R57,R60)) | AE63: =IF(SUM(AE36,AE39,AE42,AE45,AE48,AE54,AE57,AE60)=0, "", SUM(AE36,AE39,AE42,AE45,AE48,AE54,AE57,AE60)) | AR63: =IF(SUM(AR36,AR39,AR42,AR45,AR48,AR54,AR57,AR60)=0, "", SUM(AR36,AR39,AR42,AR45,AR48,AR54,AR57,AR60)) | BE63: =IF(SUM(BE36,BE39,BE42,BE45,BE48,BE54,BE57,BE60)=0, "", SUM(BE36,BE39,BE42,BE45,BE48,BE54,BE57,BE60)) | BR63: =IF(SUM(BR36,BR39,BR42,BR45,BR48,BR54,BR57,BR60)=0, "", SUM(BR36,BR39,BR42,BR45,BR48,BR54,BR57,BR60))
C66: 営業損益 | R66: =IF(OR(R33="",R63=""),"",R33-R63) | AE66: =IF(OR(AE33="",AE63=""),"",AE33-AE63) | AR66: =IF(OR(AR33="",AR63=""),"",AR33-AR63) | BE66: =IF(OR(BE33="",BE63=""),"",BE33-BE63) | BR66: =IF(OR(BR33="",BR63=""),"",BR33-BR63)
C69: 営業外収益
C72: 営業外費用
C75: 営業外損益 | R75: =IF(AND(R69="",R72=""),"", R69-R72) | AE75: =IF(AND(AE69="",AE72=""),"", AE69-AE72) | AR75: =IF(AND(AR69="",AR72=""),"", AR69-AR72) | BE75: =IF(AND(BE69="",BE72=""),"", BE69-BE72) | BR75: =IF(AND(BR69="",BR72=""),"", BR69-BR72)
C78: 経常損益 | R78: =IF(OR(R66=""),"", SUM(R66,R75)) | AE78: =IF(OR(AE66=""),"", SUM(AE66,AE75)) | AR78: =IF(OR(AR66=""),"", SUM(AR66,AR75)) | BE78: =IF(OR(BE66=""),"", SUM(BE66,BE75)) | BR78: =IF(OR(BR66=""),"", SUM(BR66,BR75))
C82: ※その他運送費（事業用自動車等）には、別紙4の事業用自動車一覧表の減価償却費、リース費、修繕費の合計、 別紙5のドライブレコーダーの購入費、デジタルタコグラフの購入費、適性診断（初任・適齢）の受診費、 その他安全の確保に対する投資に要した費用を含む
A86: ２．一般貸切旅客自動車運送事業以外の事業の経営状況
C90: ※貸切事業の直近３事業年度の経常損益が連続で赤字ではない場合は記載不要
C93: 令和 | H93: =IF(安全投資実績報告書!$T$31="","",安全投資実績報告書!$T$31) | K93: 年度 | AS93: （単位：千円）
O96: 一般貸切旅客自動車運送事業 | AB96: 他事業 | AO96: 合 計
C99: 営業収益 | O99: =IF($R$33="","",$R$33) | AO99: =IF(SUM(O99:AN101)=0, "", SUM(O99:AN101))
C102: 営業費用 | O102: =IF($R$63="","",$R$63) | AO102: =IF(SUM(O102:AN104)=0, "", SUM(O102:AN104))
C105: 営業損益 | O105: =IF($R$66="","",$R$66) | AB105: =IF(AND(AB99="",AB102=""), "", AB99-AB102) | AO105: =IF(AND(O105="",AB105=""), "", SUM(O105:AN107))
C108: 営業外収益 | O108: =IF($R$69="","",$R$69) | AO108: =IF(SUM(O108:AN110)=0, "", SUM(O108:AN110))
C111: 営業外費用 | O111: =IF($R$72="","",$R$72) | AO111: =IF(SUM(O111:AN113)=0, "", SUM(O111:AN113))
C114: 営業外損益 | O114: =IF($R$75="","",$R$75) | AB114: =IF(AND(AB108="",AB111=""), "", AB108-AB111) | AO114: =IF(AND(O114="",AB114=""), "", SUM(O114:AN116))
C117: 経常損益 | O117: =IF($R$78="","",$R$78) | AB117: =IF(AND(AB105="",AB114=""), "", SUM(AB105,AB114)) | AO117: =IF(AND(O117="",AB117=""), "", SUM(O117:AN119))
C120: 特別損益
C123: 当期純利益
C128: 令和 | H128: =IF(安全投資実績報告書!$AG$31="","",安全投資実績報告書!$AG$31) | K128: 年度 | AS128: （単位：千円）
O131: 一般貸切旅客自動車運送事業 | AB131: 他事業 | AO131: 合 計
...

Sheet 【事業収支実績報告書】貸借対照表
A1: 貸 借 対 照 表
A3: （令和 年度）
I5: (単位：千円)
C6: 科 目 | E6: 金額 | G6: 科 目 | I6: 金額
C7: (資産の部) | G7: (負債の部)
B8: Ⅰ．流動資産 | F8: Ⅰ．流動負債
C9: 現金預金 | G9: 支払手形
C10: 受取手形 | G10: 買掛金
C11: 未収運賃 | G11: 短期借入金
C12: 有価証券 | G12: 1年以内返済予定の長期借入金
C13: 商品 | G13: 1年以内償還予定社債
C14: 貯蔵品 | G14: 未払金
C15: 前払費用 | G15: 未払費用
C16: 前払金 | G16: 未払法人税等
C17: 未収消費税等 | G17: 未払消費税等
C18: 未収収益 | G18: 前受金
C19: 短期貸付金 | G19: 預り金
C20: 立替金 | G20: 預り連絡運賃
... C22: 未収金 | G22: 前受収益
G23: 賞与引当金
G24: 繰延税金負債
G25: 買換資産特別勘定
C26: 繰延税金資産 | G26: その他流動負債
C27: その他流動資産 | G27: 《流動負債合計》
C28: 貸倒引当金 | F28: Ⅱ．固定負債
C29: 《流動資産合計》 | G29: 社債
B30: Ⅱ・固定資産 | G30: 長期借入金
B31: １．有形固定資産 | G31: 退職給付引当金
C32: 車両運搬具 | G32: 役員退職慰労引当金
C33: 建物 | G33: 預かり保証金
C34: 構築物 | G34: 繰延税金負債
C35: 機械装置 | G35: その他固定負債
C36: 工具器具備品 | G36: 《固定負債合計》
G37: 負債の部合計 | I37: =+I27+I36+1 -> #VALUE!
C38: 土地 | G38: (純資産の部)
C39: 建設仮勘定 | F39: Ⅰ．株主資本
C40: （有形固定資産合計） | G40: 資本金
B41: ２．無形固定資産 | G41: 新株申込証拠金
C42: のれん | G42: 資本剰余金
C43: ソフトウェア | G43: 資本準備金
...

Sheet 【事業収支実績報告書】損益計算書
A1: 損益計算書
A3: 年 月 日 から 年 月 日まで
G5: （単位：千円）
A6: 科目 | E6: 収益 | F6: 費用 | G6: 損益
A7: 経常損益 | B7: 営業損益 | C7: 旅客自動車運送事業 | D7: 乗合
D8: 貸切
D9: 乗用
D10: みなし４条
D11: 特定
C15: その他事業
D18: その他事業
C19: 計
B20: 営業外損益 | C20: 金融損益
C21: 流動資産等売却損益
C22: その他損益
C23: 計
B24: 合計
A25: 特別損益 | B25: 固定資産売却損益
B26: 前期損益修正損益
B27: 補助金に係る損益
B28: その他特別損益
B29: 合計
A30: 税引前当期純利益
A31: 法人税等
A32: 法人税等調整額
A33: 当期純利益（当期純損失）
A35: 損益計算書
A37: 年 月 日 から 年 月 日まで
G39: （単位：千円）
A40: 科目 | E40: 収益 | F40: 費用 | G40: 損益
A41: 経常損益 | B41: 営業損益 | C41: 旅客自動車運送事業 | D41: 乗合
D42: 貸切
D43: 乗用
D44: みなし４条
D45: 特定
C49: その他事業
D52: その他事業
C53: 計
B54: 営業外損益 | C54: 金融損益
C55: 流動資産等売却損益
...

Sheet 予防整備ガイドライン・整備サイクル表
A1: 貸切バス予防整備ガイドライン 整備サイクル表参考様式
B3: 運送事業者名 | G3: サイクル表No
B4: 整備管理者名 | G4: No.
B5: 対象とする車種
B6: 作成年月日
A10: 装置名 | B10: 項目 | D10: 交換基準
D11: 期間 | E11: 距離 | F11: 備考
A12: 交換必須 項目 | B12: エアードライヤー※
B13: ブレーキチャンバー※ （エアーチャンバー）
B14: エアスプリングダイヤフラム※
B15: トランスミッションオイル※
B16: デファレンシャルオイル※
B17: クラッチブースター※
B18: エンジンオイル※
B19: 燃料フィルター※
B20: セルモータ※
B21: 尿素水フィルター※
A22: 装置名 | B22: 項目 | C22: 点検時確認 | D22: 交換基準
D23: 期間 | E23: 距離 | F23: 備考
A24: かじ取装置 | B24: パワステオイル
B25: パワステホース
B26: パワステオイルフィルター
B27: センターロッド ドラックリンク
B28: パワステ内部のゴム部品 （オイルポンプ、ステアリングギヤー）
B29: ステアリングベベルギヤーのオイル
A30: 制動装置 | B30: ブレーキバルブ
B31: ブレーキホース
B32: エキスパンダー
B33: スプリングブレーキチャンバー （ピギーバッグ）（ホイールパークチャンバー）
B34: ブレーキブースター （エアーブースター）（エアーマスター）
B35: ホイールパーク用エアーホース
B36: ホイールパークコントロールバルブ
B37: ＥHＳスタートバルブ （ＥＳスタートバルブ）
B38: ブレーキライニング
B39: リレーバルブ （クイックリリースバルブ）
A40: 制動装置 | B40: ブレーキフルード
B41: セーフティバルブ
B42: ＡＢＳコントロールバルブ
B43: ストップランプスイッチ
B44: ダブルチェックバルブ
...

Sheet 予防整備ガイドライン・整備サイクル表（記載例）
A1: 貸切バス予防整備ガイドライン 整備サイクル表参考様式
B3: 運送事業者名 | G3: サイクル表No
B4: 整備管理者名 | G4: No.
B5: 対象とする車種
B6: 作成年月日
A10: 装置名 | B10: 項目 | D10: 交換基準
D11: 期間 | E11: 距離 | F11: 備考
A12: 交換必須 項目 | B12: エアードライヤー※ | E12: 10万km
B13: ブレーキチャンバー※ （エアーチャンバー） | D13: 4年
B14: エアスプリングダイヤフラム※ | D14: 1年 | E14: 10万km
B15: トランスミッションオイル※ | D15: 6年 | F15: O/H
B16: デファレンシャルオイル※ | E16: 10万km
B17: クラッチブースター※ | D17: 4年
B18: エンジンオイル※ | D18: 1年 | E18: 10万km
B19: 燃料フィルター※ | D19: 6年 | F19: O/H
B20: セルモータ※ | D20: 3年
B21: 尿素水フィルター※ | D21: 3年
A22: 装置名 | B22: 項目 | C22: 点検時確認 | D22: 交換基準
D23: 期間 | E23: 距離 | F23: 備考
A24: かじ取装置 | B24: パワステオイル | D24: 1年
B25: パワステホース
B26: パワステオイルフィルター
B27: センターロッド ドラックリンク | D27: 3年
B28: パワステ内部のゴム部品 （オイルポンプ、ステアリングギヤー） | D28: 4年
B29: ステアリングベベルギヤーのオイル | D29: 4年
A30: 制動装置 | B30: ブレーキバルブ | D30: 2年 | E30: 10万km
B31: ブレーキホース | D31: 6年
B32: エキスパンダー | D32: 6年 | E32: 10万km
B33: スプリングブレーキチャンバー （ピギーバッグ）（ホイールパークチャンバー） | C33: 12ヶ月
B34: ブレーキブースター （エアーブースター）（エアーマスター） | D34: 3年 | E34: 10万km
B35: ホイールパーク用エアーホース | C35: 12ヶ月
B36: ホイールパークコントロールバルブ | C36: 12ヶ月
B37: ＥHＳスタートバルブ （ＥＳスタートバルブ） | C37: 12ヶ月
B38: ブレーキライニング | C38: 12ヶ月
B39: リレーバルブ （クイックリリースバルブ） | C39: 12ヶ月
A40: 制動装置 | B40: ブレーキフルード | C40: 12ヶ月
B41: セーフティバルブ | C41: 12ヶ月
B42: ＡＢＳコントロールバルブ | C42: 12ヶ月
B43: ストップランプスイッチ | C43: 12ヶ月
B44: ダブルチェックバルブ
...

Sheet 予防整備ガイドライン整備実施記録簿
A1: 貸切バス予防整備ガイドライン 整備実施記録簿参考様式
B3: 運送事業者名
B4: 整備管理者名
B5: 登録番号
A10: 装置名 | B10: 項目 | D10: 交換基準 | G10: 令和 ●年度 | H10: 令和 ●年度 | I10: 令和 ●年度 | J10: 令和 ●年度 | K10: 令和 ●年度
D11: 期間 | E11: 距離 | F11: 備考
A12: 交換必須 項目 | B12: エアードライヤー※
B13: ブレーキチャンバー※ （エアーチャンバー）
B14: エアスプリングダイヤフラム※
B15: トランスミッションオイル※
B16: デファレンシャルオイル※
B17: クラッチブースター※
B18: エンジンオイル※
B19: 燃料フィルター※
B20: セルモータ※
B21: 尿素水フィルター※
A22: 装置名 | B22: 項目 | C22: 点検時確認 | D22: 交換基準 | G22: 令和 ●年度 | H22: =H10 -> 令和 ●年度 | I22: =I10 -> 令和 ●年度 | J22: =J10 -> 令和 ●年度 | K22: =K10 -> 令和 ●年度
D23: 期間 | E23: 距離 | F23: 備考
A24: かじ取装置 | B24: パワステオイル
B25: パワステホース
B26: パワステオイルフィルター
B27: センターロッド ドラックリンク
B28: パワステ内部のゴム部品 （オイルポンプ、ステアリングギヤー）
B29: ステアリングベベルギヤーのオイル
A30: 制動装置 | B30: ブレーキバルブ
B31: ブレーキホース
B32: エキスパンダー
B33: スプリングブレーキチャンバー （ピギーバッグ）（ホイールパークチャンバー）
B34: ブレーキブースター （エアーブースター）（エアーマスター）
B35: ホイールパーク用エアーホース
B36: ホイールパークコントロールバルブ
B37: ＥHＳスタートバルブ （ＥＳスタートバルブ）
B38: ブレーキライニング
B39: リレーバルブ （クイックリリースバルブ）
A40: 制動装置 | B40: ブレーキフルード
B41: セーフティバルブ
B42: ＡＢＳコントロールバルブ
B43: ストップランプスイッチ
B44: ダブルチェックバルブ
B45: リターダーオイル
...

Sheet 予防整備ガイドライン整備実施記録簿（記載例）
A1: 貸切バス予防整備ガイドライン 整備実施記録簿参考様式
B3: 運送事業者名
B4: 整備管理者名
B5: 登録番号
A10: 装置名 | B10: 項目 | D10: 交換基準 | G10: 令和 ●年度 | H10: 令和 ●年度 | I10: 令和 ●年度 | J10: 令和 ●年度 | K10: 令和 ●年度
D11: 期間 | E11: 距離 | F11: 備考
A12: 交換必須 項目 | B12: エアードライヤー※ | E12: 10万km | H12: R●.8.23 99,432km | J12: R●.9.4 206,789km
B13: ブレーキチャンバー※ （エアーチャンバー） | D13: 4年 | J13: R●.9.4 206,789km
B14: エアスプリングダイヤフラム※ | D14: 1年 | E14: 10万km | G14: R●.9.4 22,401km | H14: R●.8.23 99,432km | I14: R●.9.4 150,789km | J14: R●.9.4 206,789km | K14: R●.9.4 350,789km
B15: トランスミッションオイル※ | D15: 6年 | F15: O/H
B16: デファレンシャルオイル※ | E16: 10万km | H16: R●.8.23 99,432km | J16: R●.9.4 206,789km
B17: クラッチブースター※ | D17: 4年 | J17: R●.9.4 206,789km
B18: エンジンオイル※ | D18: 1年 | E18: 10万km | G18: R●.9.4 22,401km | H18: R●.8.23 99,432km | I18: R●.9.4 150,789km | J18: R●.9.4 206,789km | K18: R●.9.4 350,789km
B19: 燃料フィルター※ | D19: 6年 | F19: O/H
B20: セルモータ※ | D20: 3年 | I20: R●.9.4 206,789km
B21: 尿素水フィルター※ | D21: 3年 | I21: R●.9.4 206,789km
A22: 装置名 | B22: 項目 | C22: 点検時確認 | D22: 交換基準 | G22: 令和 ●年度 | H22: =H10 -> 令和 ●年度 | I22: =I10 -> 令和 ●年度 | J22: =J10 -> 令和 ●年度 | K22: =K10 -> 令和 ●年度
D23: 期間 | E23: 距離 | F23: 備考
A24: かじ取装置 | B24: パワステオイル | D24: 1年 | E24: 10万km | G24: R●.9.4 22,401km | H24: R●.8.23 99,432km | I24: R●.9.4 150,789km | J24: R●.9.4 206,789km | K24: R●.9.4 350,789km
B25: パワステホース | C25: 12ヶ月 | G25: R●.9.4 22,401km | H25: R●.8.23 99,432km | I25: R●.9.4 150,789km | J25: R●.9.4 206,789km | K25: R●.9.4 350,789km
B26: パワステオイルフィルター | C26: 12ヶ月 | G26: R●.9.4 22,401km | H26: R●.8.23 99,432km | I26: R●.9.4 150,789km | J26: R●.9.4 206,789km | K26: R●.9.4 350,789km
B27: センターロッド ドラックリンク | D27: 3年 | I27: R●.9.4 206,789km
B28: パワステ内部のゴム部品 （オイルポンプ、ステアリングギヤー） | D28: 4年 | J28: R●.9.4 206,789km
B29: ステアリングベベルギヤーのオイル | D29: 4年 | J29: R●.9.4 206,789km
A30: 制動装置 | B30: ブレーキバルブ | D30: 2年 | H30: R●.8.23 99,432km
B31: ブレーキホース | D31: 6年
B32: エキスパンダー | D32: 6年
B33: スプリングブレーキチャンバー （ピギーバッグ）（ホイールパークチャンバー） | C33: 12ヶ月 | G33: R●.9.4 22,401km | H33: R●.8.23 99,432km | I33: R●.9.4 150,789km | J33: R●.9.4 206,789km | K33: R●.9.4 350,789km
B34: ブレーキブースター （エアーブースター）（エアーマスター） | D34: 3年 | I34: R●.9.4 206,789km
B35: ホイールパーク用エアーホース
B36: ホイールパークコントロールバルブ
B37: ＥHＳスタートバルブ （ＥＳスタートバルブ）
B38: ブレーキライニング
B39: リレーバルブ （クイックリリースバルブ）
A40: 制動装置 | B40: ブレーキフルード
B41: セーフティバルブ
B42: ＡＢＳコントロールバルブ
B43: ストップランプスイッチ
B44: ダブルチェックバルブ
B45: リターダーオイル
...

Sheet 賃金支払明細
BD1: 別添様式３
A5: 事業者の中で給与が最も低い運転者の賃金支払の内容
A9: 運転者氏名： | AD9: 所属営業所所在地：
A13: １ 賃金について ※最も低い賃金支払月のみを記載ください。
A17: 抽出年月
A21: ○賃金の種類及びその金額を記載ください。
B25: ①時間給の場合 | AI25: 円
B29: ②日給の場合 | AI29: 円 | AQ29: （基本給を記載ください）
B33: ③月給の場合 | AI33: 円
B37: ④その他の手当を支給している場合は記載ください。
B41: a 家族手当 | AI41: 円
B45: b 通勤手当 | AI45: 円
B49: c 別居手当 | AI49: 円
B53: d 子女教育手当 | AI53: 円
B57: e 住宅手当 | AI57: 円
B61: f 精皆勤手当 | AI61: 円
B65: g その他の手当 | AI65: 円
A69: ※注 １ aの手当は、扶養家族の人数またはこれを基礎とする家族手当額を基準として算出されるものです。 ２ bの手当は、通勤距離または通勤に要する実際費用に応じて算定されるものです。 ３ eの手当は、住宅に要する費用に応じて算出されるものです。 ４ gの手当からは、以下の手当は除外します。 ①臨時に支払われる賃金（結婚手当、私傷病手当、加療見舞金、退職金等） ②１箇月を超える期間ごとに支払われる賃金(賞与など) ③所定労働時間を超える時間の労働に対して支払われる賃金(時間外割増賃金など) ④所定労働日以外の日の労働に対して支払われる賃金(休日割増賃金など) ⑤午後１０時から午前５時までの間の労働に対して支払われる賃金のうち、通常の労働時間の賃金の計算額を超える部分(深夜割増賃金など)
A96: ２ 労働時間・労働日について ※上記１の抽出年月の労働時間・日数を記載ください。
B100: ①１日の所定労働時間 | AI100: 時間 | AO100: （７時間３０分であれば、７．５時間と記載）
B104: ②１ヶ月の労働日数 | AI104: 日
B108: ③１ヶ月の総労働時間 | AI108: 時間
A112: ※注 １ 所定労働時間とは、就業規則等で定められた始業時刻から終業時刻までの時間から、休憩時間を差し引いた労働時間をいいます。 ２ １ヶ月の労働日数とは、１ヶ月間で勤務した日数 ３ １ヶ月の総労働時間とは、所定労働時間の中で勤務した時間をいいます。また、超過勤務時間等は含まれません（所定労働時間が８時間であるが、３時間しか勤務していない場合、総労働時間は３時間となります。）。
