Workbook

Sheet 全体
A1: 宿泊旅行統計調査
A2: １．都道府県別延べ宿泊者数
A3: 県別 | B3: 年別 | C3: 1月 | D3: 2月 | E3: 3月 | F3: 4月 | G3: 5月 | H3: 6月 | I3: 7月 | J3: 8月 | K3: 9月 | L3: 10月 | M3: 11月 | N3: 12月 | O3: 計
A4: 徳島県 | B4: 2025年（人泊） | C4: 170870 | D4: 180530 | E4: 242740 | F4: 236510 | G4: 239540 | H4: 178740 | I4: 231180 | J4: 285230 | K4: 211960 | L4: 235120 | M4: 243480 | N4: 207300 | O4: 2663200
B5: 2026年（人泊） | C5: 158490 | D5: 161460 | E5: 233740 | F5: 209100 | G5: 240090 | H5: 171760 | I5: 205880 | J5: 277170
B6: 対2025年比（％） | C6: =C5/C4*100-100 -> -7.2452742 | D6: =D5/D4*100-100 -> -10.563341 | E6: =E5/E4*100-100 -> -3.7076708 | F6: =F5/F4*100-100 -> -11.589362 | G6: =G5/G4*100-100 -> 0.22960675 | H6: =H5/H4*100-100 -> -3.9051136 | I6: =I5/I4*100-100 -> -10.943853 | J6: =J5/J4*100-100 -> -2.8257897
A7: 香川県 | B7: 2025年（人泊） | C7: 319460 | D7: 311350 | E7: 452850 | F7: 392290 | G7: 431350 | H7: 351240 | I7: 366110 | J7: 588670 | K7: 391050 | L7: 471780 | M7: 466520 | N7: 389030 | O7: 4931700
B8: 2026年（人泊） | C8: 326510 | D8: 336620 | E8: 468550 | F8: 404080 | G8: 453410 | H8: 329890 | I8: 418320 | J8: 567820
B9: 対2025年比（％） | C9: =C8/C7*100-100 -> 2.2068491 | D9: =D8/D7*100-100 -> 8.1162679 | E9: =E8/E7*100-100 -> 3.4669317 | F9: =F8/F7*100-100 -> 3.0054297 | G9: =G8/G7*100-100 -> 5.1141764 | H9: =H8/H7*100-100 -> -6.0784649 | I9: =I8/I7*100-100 -> 14.260741 | J9: =J8/J7*100-100 -> -3.5418825
A10: 愛媛県 | B10: 2025年（人泊） | C10: 327190 | D10: 319640 | E10: 394350 | F10: 358150 | G10: 371920 | H10: 289930 | I10: 328010 | J10: 424110 | K10: 349390 | L10: 410570 | M10: 420500 | N10: 369540 | O10: 4363300
B11: 2026年（人泊） | C11: 356080 | D11: 383970 | E11: 486660 | F11: 455580 | G11: 499690 | H11: 336060 | I11: 447960 | J11: 540660
B12: 対2025年比（％） | C12: =C11/C10*100-100 -> 8.829732 | D12: =D11/D10*100-100 -> 20.125766 | E12: =E11/E10*100-100 -> 23.40814 | F12: =F11/F10*100-100 -> 27.203686 | G12: =G11/G10*100-100 -> 34.354162 | H12: =H11/H10*100-100 -> 15.910737 | I12: =I11/I10*100-100 -> 36.569007 | J12: =J11/J10*100-100 -> 27.481078
A13: 高知県 | B13: 2025年（人泊） | C13: 171990 | D13: 178430 | E13: 232060 | F13: 227010 | G13: 252890 | H13: 184400 | I13: 238000 | J13: 348170 | K13: 258150 | L13: 260460 | M13: 260380 | N13: 201300 | O13: 2813230
B14: 2026年（人泊） | C14: 213900 | D14: 216070 | E14: 304360 | F14: 259990 | G14: 317200 | H14: 240690 | I14: 304580 | J14: 450140
B15: 対2025年比（％） | C15: =C14/C13*100-100 -> 24.367696 | D15: =D14/D13*100-100 -> 21.095107 | E15: =E14/E13*100-100 -> 31.155736 | F15: =F14/F13*100-100 -> 14.527994 | G15: =G14/G13*100-100 -> 25.430029 | H15: =H14/H13*100-100 -> 30.52603 | I15: =I14/I13*100-100 -> 27.97479 | J15: =J14/J13*100-100 -> 29.287417
A16: 四国 | B16: 2025年（人泊） | C16: 989510 | D16: 989940 | E16: 1321990 | F16: 1213960 | G16: 1295700 | H16: 1004310 | I16: 1163300 | J16: 1646180 | K16: 1210560 | L16: 1377930 | M16: 1390880 | N16: 1167180 | O16: 14771430
B17: 2026年（人泊） | C17: 1054990 | D17: 1098120 | E17: =E5+E8+E11+E14 -> 1493310 | F17: 1328760 | G17: 1510380 | H17: 1078410 | I17: 1376740 | J17: 1835800
B18: 対2025年比（％） | C18: =C17/C16*100-100 -> 6.6174167 | D18: =D17/D16*100-100 -> 10.927935 | E18: =E17/E16*100-100 -> 12.959251 | F18: =F17/F16*100-100 -> 9.4566543 | G18: =G17/G16*100-100 -> 16.56865 | H18: =H17/H16*100-100 -> 7.3782 | I18: =I17/I16*100-100 -> 18.347804 | J18: =J17/J16*100-100 -> 11.518789
A19: 全国 | B19: 2025年（人泊） | C19: 48637800 | D19: 47966040 | E19: 55619590 | F19: 52918030 | G19: 56072590 | H19: 50043220 | I19: 56650380 | J19: 67204490 | K19: 54238770 | L19: 59728380 | M19: 57039500 | N19: 54986680 | O19: 661105480
B20: 2026年（人泊） | C20: 45462800 | D20: 47653070 | E20: 54414700 | F20: 49105170 | G20: 54291520 | H20: 45815140 | I20: 53974770 | J20: 62399240
B21: 対2025年比（％） | C21: =C20/C19*100-100 -> -6.5278446 | D21: =D20/D19*100-100 -> -0.65248246 | E21: =E20/E19*100-100 -> -2.1663051 | F21: =F20/F19*100-100 -> -7.2052191 | G21: =G20/G19*100-100 -> -3.1763648 | H21: =H20/H19*100-100 -> -8.4488568 | I21: =I20/I19*100-100 -> -4.7230222 | J21: =J20/J19*100-100 -> -7.1501919
O22: 観光庁「宿泊旅行統計調査」（2025年確定値･2026年第2次速報値）による。

Sheet 外国人
A1: =全体!A1 -> 宿泊旅行統計調査
A2: ２．都道府県別外国人延べ宿泊者数
A3: 県別 | B3: 年別 | C3: 1月 | D3: 2月 | E3: 3月 | F3: 4月 | G3: 5月 | H3: 6月 | I3: 7月 | J3: 8月 | K3: 9月 | L3: 10月 | M3: 11月 | N3: 12月 | O3: 計
A4: 徳島県 | B4: 2025年（人泊） | C4: 14100 | D4: 13100 | E4: 25170 | F4: 26590 | G4: 20190 | H4: 15710 | I4: 16420 | J4: 14260 | K4: 14600 | L4: 26020 | M4: 23340 | N4: 20580 | O4: 230080
B5: 2026年（人泊） | C5: 12460 | D5: 14150 | E5: 23770 | F5: 25350 | G5: 21600 | H5: 14940 | I5: 16350 | J5: 21470
B6: 対2025年比（％） | C6: =C5/C4*100-100 -> -11.631206 | D6: =D5/D4*100-100 -> 8.0152672 | E6: =E5/E4*100-100 -> -5.5621772 | F6: =F5/F4*100-100 -> -4.6634073 | G6: =G5/G4*100-100 -> 6.9836553 | H6: =H5/H4*100-100 -> -4.9013367 | I6: =I5/I4*100-100 -> -0.42630938 | J6: =J5/J4*100-100 -> 50.56101
A7: 香川県 | B7: 2025年（人泊） | C7: 75510 | D7: 69440 | E7: 98320 | F7: 117480 | G7: 115790 | H7: 72170 | I7: 65990 | J7: 79140 | K7: 79160 | L7: 140200 | M7: 126690 | N7: 87160 | O7: 1127070
B8: 2026年（人泊） | C8: 69760 | D8: 77550 | E8: 88510 | F8: 107820 | G8: 96740 | H8: 73540 | I8: 76640 | J8: 63260
B9: 対2025年比（％） | C9: =C8/C7*100-100 -> -7.6148854 | D9: =D8/D7*100-100 -> 11.679147 | E9: =E8/E7*100-100 -> -9.9776241 | F9: =F8/F7*100-100 -> -8.2226762 | G9: =G8/G7*100-100 -> -16.452198 | H9: =H8/H7*100-100 -> 1.8982957 | I9: =I8/I7*100-100 -> 16.138809 | J9: =J8/J7*100-100 -> -20.065706
A10: 愛媛県 | B10: 2025年（人泊） | C10: 42740 | D10: 33150 | E10: 51570 | F10: 62350 | G10: 50340 | H10: 46310 | I10: 42260 | J10: 33090 | K10: 37050 | L10: 63550 | M10: 61280 | N10: 57150 | O10: 580850
B11: 2026年（人泊） | C11: 47820 | D11: 53050 | E11: 60690 | F11: 90000 | G11: 74300 | H11: 37700 | I11: 59780 | J11: 48040
B12: 対2025年比（％） | C12: =C11/C10*100-100 -> 11.885821 | D12: =D11/D10*100-100 -> 60.030166 | E12: =E11/E10*100-100 -> 17.6847 | F12: =F11/F10*100-100 -> 44.346431 | G12: =G11/G10*100-100 -> 47.596345 | H12: =H11/H10*100-100 -> -18.592097 | I12: =I11/I10*100-100 -> 41.457643 | J12: =J11/J10*100-100 -> 45.179813
A13: 高知県 | B13: 2025年（人泊） | C13: 8130 | D13: 8920 | E13: 16000 | F13: 17170 | G13: 12880 | H13: 9540 | I13: 8940 | J13: 7210 | K13: 11200 | L13: 16050 | M13: 14680 | N13: 10060 | O13: 140780
B14: 2026年（人泊） | C14: 14940 | D14: 16510 | E14: 23040 | F14: 16820 | G14: 13930 | H14: 12570 | I14: 13010 | J14: 13710
B15: 対2025年比（％） | C15: =C14/C13*100-100 -> 83.763838 | D15: =D14/D13*100-100 -> 85.089686 | E15: =E14/E13*100-100 -> 44 | F15: =F14/F13*100-100 -> -2.0384391 | G15: =G14/G13*100-100 -> 8.1521739 | H15: =H14/H13*100-100 -> 31.761006 | I15: =I14/I13*100-100 -> 45.525727 | J15: =J14/J13*100-100 -> 90.152566
A16: 四国 | B16: 2025年（人泊） | C16: 140480 | D16: 124620 | E16: 191050 | F16: 223600 | G16: 199200 | H16: 143730 | I16: 133620 | J16: 133700 | K16: 142020 | L16: 245830 | M16: 225990 | N16: 174960 | O16: 2078790
B17: 2026年（人泊） | C17: 144980 | D17: 161120 | E17: =E5+E8+E11+E14 -> 196010 | F17: 239990 | G17: 206570 | H17: 138750 | I17: 165790 | J17: 146480
B18: 対2025年比（％） | C18: =C17/C16*100-100 -> 3.203303 | D18: =D17/D16*100-100 -> 29.289039 | E18: =E17/E16*100-100 -> 2.596179 | F18: =F17/F16*100-100 -> 7.3300537 | G18: =G17/G16*100-100 -> 3.6997992 | H18: =H17/H16*100-100 -> -3.4648299 | I18: =I17/I16*100-100 -> 24.075737 | J18: =J17/J16*100-100 -> 9.5587135
A19: 全国 | B19: 2025年（人泊） | C19: 15235390 | D19: 13788140 | E19: 14854500 | F19: 17218330 | G19: 15946130 | H19: 14206900 | I19: 14236220 | J19: 14090860 | K19: 12834640 | L19: 16852030 | M19: 14825030 | N19: 15833960 | O19: 179922130
B20: 2026年（人泊） | C20: 12833880 | D20: 14037770 | E20: 14280740 | F20: 15362170 | G20: 14507490 | H20: 12219870 | I20: 13314610 | J20: 12393220
B21: 対2025年比（％） | C21: =C20/C19*100-100 -> -15.762708 | D21: =D20/D19*100-100 -> 1.810469 | E21: =E20/E19*100-100 -> -3.8625332 | F21: =F20/F19*100-100 -> -10.78014 | G21: =G20/G19*100-100 -> -9.0218755 | H21: =H20/H19*100-100 -> -13.986373 | I21: =I20/I19*100-100 -> -6.4736988 | J21: =J20/J19*100-100 -> -12.04781
O22: 観光庁「宿泊旅行統計調査」（2025年確定値･2026年第2次速報値）による。

Sheet 日本人
A1: =全体!A1 -> 宿泊旅行統計調査
A2: ３．都道府県別日本人延べ宿泊者数
A3: 県別 | B3: 年別 | C3: 1月 | D3: 2月 | E3: 3月 | F3: 4月 | G3: 5月 | H3: 6月 | I3: 7月 | J3: 8月 | K3: 9月 | L3: 10月 | M3: 11月 | N3: 12月 | O3: 計
A4: 徳島県 | B4: 2025年（人泊） | C4: 156770 | D4: 167430 | E4: 217570 | F4: 209920 | G4: 219350 | H4: 163030 | I4: 214760 | J4: 270970 | K4: 197360 | L4: 209100 | M4: 220140 | N4: 186720 | O4: 2433120
B5: 2026年（人泊） | C5: =全体!C5-外国人!C5 -> 146030 | D5: =全体!D5-外国人!D5 -> 147310 | E5: =全体!E5-外国人!E5 -> 209970 | F5: =全体!F5-外国人!F5 -> 183750 | G5: =全体!G5-外国人!G5 -> 218490 | H5: =全体!H5-外国人!H5 -> 156820 | I5: =全体!I5-外国人!I5 -> 189530 | J5: =全体!J5-外国人!J5 -> 255700
B6: 対2025年比（％） | C6: =C5/C4*100-100 -> -6.8508005 | D6: =D5/D4*100-100 -> -12.016962 | E6: =E5/E4*100-100 -> -3.4931286 | F6: =F5/F4*100-100 -> -12.466654 | G6: =G5/G4*100-100 -> -0.39206747 | H6: =H5/H4*100-100 -> -3.8091149 | I6: =I5/I4*100-100 -> -11.747998 | J6: =J5/J4*100-100 -> -5.6353102
A7: 香川県 | B7: 2025年（人泊） | C7: 243950 | D7: 241910 | E7: 354530 | F7: 274810 | G7: 315560 | H7: 279070 | I7: 300120 | J7: 509530 | K7: 311890 | L7: 331580 | M7: 339830 | N7: 301870 | O7: 3804630
B8: 2026年（人泊） | C8: =全体!C8-外国人!C8 -> 256750 | D8: =全体!D8-外国人!D8 -> 259070 | E8: =全体!E8-外国人!E8 -> 380040 | F8: =全体!F8-外国人!F8 -> 296260 | G8: =全体!G8-外国人!G8 -> 356670 | H8: =全体!H8-外国人!H8 -> 256350 | I8: =全体!I8-外国人!I8 -> 341680 | J8: =全体!J8-外国人!J8 -> 504560
B9: 対2025年比（％） | C9: =C8/C7*100-100 -> 5.2469768 | D9: =D8/D7*100-100 -> 7.0935472 | E9: =E8/E7*100-100 -> 7.1954419 | F9: =F8/F7*100-100 -> 7.8053928 | G9: =G8/G7*100-100 -> 13.027633 | H9: =H8/H7*100-100 -> -8.1413265 | I9: =I8/I7*100-100 -> 13.847794 | J9: =J8/J7*100-100 -> -0.97540871
A10: 愛媛県 | B10: 2025年（人泊） | C10: 284450 | D10: 286490 | E10: 342780 | F10: 295800 | G10: 321580 | H10: 243620 | I10: 285750 | J10: 391020 | K10: 312340 | L10: 347020 | M10: 359220 | N10: 312390 | O10: 3782450
B11: 2026年（人泊） | C11: =全体!C11-外国人!C11 -> 308260 | D11: =全体!D11-外国人!D11 -> 330920 | E11: =全体!E11-外国人!E11 -> 425970 | F11: =全体!F11-外国人!F11 -> 365580 | G11: =全体!G11-外国人!G11 -> 425390 | H11: =全体!H11-外国人!H11 -> 298360 | I11: =全体!I11-外国人!I11 -> 388180 | J11: =全体!J11-外国人!J11 -> 492620
B12: 対2025年比（％） | C12: =C11/C10*100-100 -> 8.3705396 | D12: =D11/D10*100-100 -> 15.508395 | E12: =E11/E10*100-100 -> 24.269211 | F12: =F11/F10*100-100 -> 23.590264 | G12: =G11/G10*100-100 -> 32.281236 | H12: =H11/H10*100-100 -> 22.46942 | I12: =I11/I10*100-100 -> 35.846019 | J12: =J11/J10*100-100 -> 25.983326
A13: 高知県 | B13: 2025年（人泊） | C13: 163860 | D13: 169510 | E13: 216060 | F13: 209840 | G13: 240010 | H13: 174860 | I13: 229060 | J13: 340960 | K13: 246950 | L13: 244410 | M13: 245700 | N13: 191240 | O13: 2672450
B14: 2026年（人泊） | C14: =全体!C14-外国人!C14 -> 198960 | D14: =全体!D14-外国人!D14 -> 199560 | E14: =全体!E14-外国人!E14 -> 281320 | F14: =全体!F14-外国人!F14 -> 243170 | G14: =全体!G14-外国人!G14 -> 303270 | H14: =全体!H14-外国人!H14 -> 228120 | I14: =全体!I14-外国人!I14 -> 291570 | J14: =全体!J14-外国人!J14 -> 436430
B15: 対2025年比（％） | C15: =C14/C13*100-100 -> 21.420725 | D15: =D14/D13*100-100 -> 17.727568 | E15: =E14/E13*100-100 -> 30.204573 | F15: =F14/F13*100-100 -> 15.88353 | G15: =G14/G13*100-100 -> 26.357235 | H15: =H14/H13*100-100 -> 30.458653 | I15: =I14/I13*100-100 -> 27.289793 | J15: =J14/J13*100-100 -> 28.000352
A16: 四国 | B16: 2025年（人泊） | C16: 849030 | D16: 865320 | E16: 1130940 | F16: 990360 | G16: 1096500 | H16: 860580 | I16: 1029680 | J16: 1512480 | K16: 1068540 | L16: 1132100 | M16: 1164890 | N16: 992220 | O16: 12692640
B17: 2026年（人泊） | C17: =全体!C17-外国人!C17 -> 910010 | D17: =全体!D17-外国人!D17 -> 937000 | E17: =全体!E17-外国人!E17 -> 1297300 | F17: =全体!F17-外国人!F17 -> 1088770 | G17: =全体!G17-外国人!G17 -> 1303810 | H17: =全体!H17-外国人!H17 -> 939660 | I17: =全体!I17-外国人!I17 -> 1210950 | J17: =全体!J17-外国人!J17 -> 1689320
B18: 対2025年比（％） | C18: =C17/C16*100-100 -> 7.1823139 | D18: =D17/D16*100-100 -> 8.2836407 | E18: =E17/E16*100-100 -> 14.709887 | F18: =F17/F16*100-100 -> 9.9367907 | G18: =G17/G16*100-100 -> 18.906521 | H18: =H17/H16*100-100 -> 9.1891515 | I18: =I17/I16*100-100 -> 17.604498 | J18: =J17/J16*100-100 -> 11.692055
A19: 全国 | B19: 2025年（人泊） | C19: 33402410 | D19: 34177900 | E19: 40765090 | F19: 35699700 | G19: 40126460 | H19: 35836320 | I19: 42414160 | J19: 53113630 | K19: 41404130 | L19: 42876350 | M19: 42214470 | N19: 39152720 | O19: 481183350
B20: 2026年（人泊） | C20: =全体!C20-外国人!C20 -> 32628920 | D20: =全体!D20-外国人!D20 -> 33615300 | E20: =全体!E20-外国人!E20 -> 40133960 | F20: =全体!F20-外国人!F20 -> 33743000 | G20: =全体!G20-外国人!G20 -> 39784030 | H20: =全体!H20-外国人!H20 -> 33595270 | I20: =全体!I20-外国人!I20 -> 40660160 | J20: =全体!J20-外国人!J20 -> 50006020
B21: 対2025年比（％） | C21: =C20/C19*100-100 -> -2.3156712 | D21: =D20/D19*100-100 -> -1.6460929 | E21: =E20/E19*100-100 -> -1.548212 | F21: =F20/F19*100-100 -> -5.4809984 | G21: =G20/G19*100-100 -> -0.85337705 | H21: =H20/H19*100-100 -> -6.2535718 | I21: =I20/I19*100-100 -> -4.1354114 | J21: =J20/J19*100-100 -> -5.850871
O22: 観光庁「宿泊旅行統計調査」（2025年確定値･2026年第2次速報値）による。

Sheet 客室稼働率
A1: =全体!A1 -> 宿泊旅行統計調査
A2: ４．都道府県別客室稼働率
A3: 県別 | B3: 年別 | C3: 1月 | D3: 2月 | E3: 3月 | F3: 4月 | G3: 5月 | H3: 6月 | I3: 7月 | J3: 8月 | K3: 9月 | L3: 10月 | M3: 11月 | N3: 12月 | O3: 計
A4: 徳島県 | B4: 2025年（％） | C4: 46 | D4: 50.4 | E4: 57.2 | F4: 56.4 | G4: 59.1 | H4: 45.4 | I4: 52 | J4: 55.9 | K4: 50.4 | L4: 55 | M4: 57.6 | N4: 46 | O4: 52.6
B5: 2026年（％） | C5: 40.4 | D5: 47.3 | E5: 51.5 | F5: 51.4 | G5: 55.5 | H5: 47.7 | I5: 50.1 | J5: 57.7
B6: 対2025年差（ポイント） | C6: =C5-C4 -> -5.6 | D6: =D5-D4 -> -3.1 | E6: =E5-E4 -> -5.7 | F6: =F5-F4 -> -5 | G6: =G5-G4 -> -3.6 | H6: =H5-H4 -> 2.3 | I6: =I5-I4 -> -1.9 | J6: =J5-J4 -> 1.8
A7: 香川県 | B7: 2025年（％） | C7: 47.7 | D7: 53.4 | E7: 61.6 | F7: 59.5 | G7: 61.5 | H7: 52.4 | I7: 52.8 | J7: 67.7 | K7: 58 | L7: 64.1 | M7: 66.4 | N7: 54.1 | O7: 58.4
B8: 2026年（％） | C8: 46 | D8: 54.7 | E8: 62.1 | F8: 58.3 | G8: 58.3 | H8: 50.2 | I8: 55.9 | J8: 65.8
B9: 対2025年差（ポイント） | C9: =C8-C7 -> -1.7 | D9: =D8-D7 -> 1.3 | E9: =E8-E7 -> 0.5 | F9: =F8-F7 -> -1.2 | G9: =G8-G7 -> -3.2 | H9: =H8-H7 -> -2.2 | I9: =I8-I7 -> 3.1 | J9: =J8-J7 -> -1.9
A10: 愛媛県 | B10: 2025年（％） | C10: 53.1 | D10: 57.5 | E10: 61.3 | F10: 57.6 | G10: 57.6 | H10: 48.6 | I10: 51.1 | J10: 57.6 | K10: 56.6 | L10: 64 | M10: 65.8 | N10: 55 | O10: 57.2
B11: 2026年（％） | C11: 48.9 | D11: 58 | E11: 62.4 | F11: 61.5 | G11: 64.1 | H11: 50.9 | I11: 59.9 | J11: 63.3
B12: 対2025年差（ポイント） | C12: =C11-C10 -> -4.2 | D12: =D11-D10 -> 0.5 | E12: =E11-E10 -> 1.1 | F12: =F11-F10 -> 3.9 | G12: =G11-G10 -> 6.5 | H12: =H11-H10 -> 2.3 | I12: =I11-I10 -> 8.8 | J12: =J11-J10 -> 5.7
A13: 高知県 | B13: 2025年（％） | C13: 37.9 | D13: 45.4 | E13: 49.1 | F13: 48.5 | G13: 50.6 | H13: 42 | I13: 46.5 | J13: 58.3 | K13: 52.2 | L13: 53.5 | M13: 56.7 | N13: 42.3 | O13: 48.6
B14: 2026年（％） | C14: 43.6 | D14: 53.9 | E14: 58.5 | F14: 53.2 | G14: 58.2 | H14: 49.6 | I14: 56.6 | J14: 66.9
B15: 対2025年差（ポイント） | C15: =C14-C13 -> 5.7 | D15: =D14-D13 -> 8.5 | E15: =E14-E13 -> 9.4 | F15: =F14-F13 -> 4.7 | G15: =G14-G13 -> 7.6 | H15: =H14-H13 -> 7.6 | I15: =I14-I13 -> 10.1 | J15: =J14-J13 -> 8.6
A16: 四国 | B16: 2025年（％） | C16: 46.7 | D16: 52.2 | E16: 58 | F16: 55.9 | G16: 57.5 | H16: 47.6 | I16: 50.8 | J16: 60.5 | K16: 54.8 | L16: 59.9 | M16: 62.3 | N16: 50.2 | O16: 54.7
B17: 2026年（％） | C17: 45.5 | D17: 54.3 | E17: 59.5 | F17: 57.1 | G17: 59.7 | H17: 49.9 | I17: 56.4 | J17: 63.8
B18: 対2025年差（ポイント） | C18: =C17-C16 -> -1.2 | D18: =D17-D16 -> 2.1 | E18: =E17-E16 -> 1.5 | F18: =F17-F16 -> 1.2 | G18: =G17-G16 -> 2.2 | H18: =H17-H16 -> 2.3 | I18: =I17-I16 -> 5.6 | J18: =J17-J16 -> 3.3
A19: 全国 | B19: 2025年（％） | C19: 54.6 | D19: 60.4 | E19: 61.1 | F19: 61.4 | G19: 61.7 | H19: 58.8 | I19: 61.2 | J19: 65.7 | K19: 62.8 | L19: 66.6 | M19: 65.4 | N19: 59.5 | O19: 61.6
B20: 2026年（％） | C20: 52.7 | D20: 59.6 | E20: 59.4 | F20: 59.1 | G20: 61 | H20: 57.2 | I20: 61 | J20: 64.6
B21: 対2025年差（ポイント） | C21: =C20-C19 -> -1.9 | D21: =D20-D19 -> -0.8 | E21: =E20-E19 -> -1.7 | F21: =F20-F19 -> -2.3 | G21: =G20-G19 -> -0.7 | H21: =H20-H19 -> -1.6 | I21: =I20-I19 -> -0.2 | J21: =J20-J19 -> -1.1
O22: 観光庁「宿泊旅行統計調査」（2025年確定値･2026年第2次速報値）による。
