Workbook

Sheet 申請書
I1: 令和 年 月 日
A3: 東北運輸局長 殿
B5: 譲渡人
C6: 郵 便 番 号
C7: 住 所
C8: 氏名又は名称
C9: 代 表 者 氏 名
B11: 譲受人
C12: 郵 便 番 号
C13: 住 所
C14: 氏名又は名称
C15: 代 表 者 氏 名
C16: 連絡先 電話番号（担当者氏名）
A19: 一般乗用旅客自動車運送事業の譲渡及び譲受の認可申請書
A23: この度、下記のとおり一般乗用旅客自動車運送事業を譲渡及び譲受したいので、道路運送法
A24: 第３６条第１項及び同法施行規則第２２条の規定により、関係書類を添えて申請いたします。
E26: 記
A28: １．譲渡人及び譲受人の氏名又は名称及び住所並びに法人にあっては、その代表者の氏名
B29: 譲渡人
C30: 住 所
C31: 氏名又は名称
C32: 代 表 者 氏 名
B34: 譲受人
C35: 住 所
C36: 氏名又は名称
C37: 代 表 者 氏 名
A39: ２．事業の種別
A40: 一般乗用旅客自動車運送事業
A42: ３．譲渡及び譲受をしようとする事業の種類及び営業区域
B43: ・事業の種類 | D43: 一般乗用旅客自動車運送事業
B44: ・営業区域
A46: ４．譲渡価格
A49: ５．譲渡及び譲受をしようとする時期
A52: ６．譲渡及び譲受を必要とする理由

Sheet 添付書類
E1: 添 付 書 類
A2: □ | B2: １．譲渡譲受契約書の写し
A3: □ | B3: ２．譲渡譲受価格の明細表
A4: □ | B4: ３．事業計画 新・旧【別紙１】
B5: ４．事業用自動車の運行管理等の体制を記載した書面
A6: □ | B6: イ．譲受人の管理運営体制図【別紙２】
A7: □ | B7: ロ．運行管理者の資格要件を証する書類（資格者証及び雇用契約書等）
A8: □ | B8: ハ．整備管理者の資格要件を証する書類（資格者証及び雇用契約書等）
A9: □ | B9: ニ．運転者の雇用契約書等及び運転免許証の写し
A10: □ | B10: ホ．乗務割の計画を記載した書面
A11: □ | B11: ５．譲受人における所要資金及び事業開始に要する資金の内訳【別紙３】
B12: ただし、譲渡譲受後に運行する２台分の車両に関係する所要資金に限る
A13: □ | B13: 譲受人における資金の調達方法を記載した書面【別紙３－２】
A14: □ | B14: ・残高証明書等
A15: □ | B15: 所要資金及び事業開始に要する資金の内訳の詳細【別紙３－３、３－４】
B16: ６．事業の用に供する施設の概要及び付近の状況を記載した書類
A17: □ | B17: イ．施設（営業所・車庫・休憩、仮眠又は睡眠のための施設等）の案内図・見取図・平面図（寸法記入）
B18: ロ．施設の使用権限を証する書面
A19: □ | B19: ・自己所有－登記事項証明書（登記簿謄本）
A20: □ | B20: ・借 入－契約期間が３年以上の賃貸借契約書の写し
A21: □ | B21: ハ．建築基準法、都市計画法、消防法、農地法等関係法令に抵触しない旨の宣誓書【別紙４】
A22: □ | B22: ニ．車庫前面道路が車両制限令に抵触しない旨の宣誓書【別紙４－２】（前面道路が国道の場合は不要）
B23: ７．計画する事業用自動車の使用権限を証する書面
A24: □ | B24: ・自己所有－自動車検査証の写し
A25: □ | B25: ・購 入－売買契約書又は見積書等
A26: □ | B26: ・リ ー ス－リース契約書等
B27: ８．譲受人が現に一般旅客自動車運送事業を経営する者でないときは、次に掲げる書類
B28: ①．既存の法人にあっては、
A29: □ | B29: イ．定款又は寄附行為及び登記事項証明書（登記簿謄本）
A30: □ | B30: ロ．最近の事業年度における貸借対照表
A31: □ | B31: ハ．役員又は社員の名簿及び履歴書
B32: ②．法人を設立しようとするものにあっては、
A33: □ | B33: イ．定款（会社法（平成17年法律第86号）第30条第1項及びその準用規定により認証を必要とする場合
B34: には、認証のある定款）又は寄附行為
A35: □ | B35: ロ．発起人、社員又は設立者の名簿及び履歴書
A36: □ | B36: ハ．設立しようとする法人が株式会社であるときは、株式の引受けの状況及び見込みを記載した書類
B37: ③．法人格なき組合にあっては、
A38: □ | B38: イ．組合契約書の写し
A39: □ | B39: ロ．組合員の資産目録
A40: □ | B40: ハ．組合員の履歴書
...

Sheet 事業計画・旧 (譲渡人)
J1: 【別紙１】
A2: 譲渡人の事業計画等（譲渡前）
A4: １．営業区域
A6: ２．主たる事務所及び営業所の名称及び位置
A8: ①主たる事務所
A9: 名 称 | C9: 位 置
A13: ②営業所
A14: 名 称 | C14: 位 置 | H14: 面積 | I14: 自己所有・ 借入の別 | J14: 備 考
A18: ３．営業所ごとに配置する事業用自動車の数並びにその種別ごとの数
B20: 種別 | C20: 一般車両 | F20: 特殊車両 | I20: 合計
A21: 営業所 | C21: 特大 | D21: 大型 | E21: 普通 | F21: 特大 | G21: 大型 | H21: 普通
B22: 営業所
B23: 営業所
A24: 合計 | C24: 両 | D24: 両 | E24: 両 | F24: 両 | G24: 両 | H24: 両
A25: ＊種別は、一般車両（一般の需要に応じることができる事業用自動車）及び特殊車両（一般車両以外の事業用自動車）及び運賃適用車種区分の別とする。 ＊上記表の括弧書きは特定地域における一般乗用旅客自動車運送事業の適正化及び活性化に関する特別措置法第１１条第５項の規定に基づく特定事業計画による休車。 ＊事業用自動車の明細は【別紙１－２】のとおり。
A27: ４．自動車車庫の名称及び位置並びに収容能力
A28: 営業所名 | C28: 車庫名称 | D28: 位 置 | H28: 収容能力 | I28: 自己所有・ 借入の別 | J28: 営業所からの距離
H29: ㎡ | J29: ㎞
H31: ㎡ | J31: ㎞
H33: ㎡ | J33: ㎞
H35: ㎡ | J35: ㎞
A39: ５．事業用自動車の乗務員の休憩、仮眠又は睡眠のための施設の位置及び面積
A40: 営業所名 | C40: 位 置 | H40: 面積 | I40: 自己所有・ 借入の別 | J40: 併設の別
H41: ㎡
H42: ㎡

Sheet 事業計画・旧 (譲受人)
J1: 【別紙１】
A2: 譲受人の事業計画等（譲受前）
A4: １．営業区域
A6: ２．主たる事務所及び営業所の名称及び位置
A8: ①主たる事務所
A9: 名 称 | C9: 位 置
A13: ②営業所
A14: 名 称 | C14: 位 置 | H14: 面積 | I14: 自己所有・ 借入の別 | J14: 備 考
A18: ３．営業所ごとに配置する事業用自動車の数並びにその種別ごとの数
B20: 種別 | C20: 一般車両 | F20: 特殊車両 | I20: 合計
A21: 営業所 | C21: 特大 | D21: 大型 | E21: 普通 | F21: 特大 | G21: 大型 | H21: 普通
B22: 営業所
B23: 営業所
A24: 合計 | C24: 両 | D24: 両 | E24: 両 | F24: 両 | G24: 両 | H24: 両
A25: ＊種別は、一般車両（一般の需要に応じることができる事業用自動車）及び特殊車両（一般車両以外の事業用自動車）及び運賃適用車種区分の別とする。 ＊上記表の括弧書きは特定地域における一般乗用旅客自動車運送事業の適正化及び活性化に関する特別措置法第１１条第５項の規定に基づく特定事業計画による休車。 ＊事業用自動車の明細は【別紙１－２】のとおり。
A27: ４．自動車車庫の名称及び位置並びに収容能力
A28: 営業所名 | C28: 車庫名称 | D28: 位 置 | H28: 収容能力 | I28: 自己所有・ 借入の別 | J28: 営業所からの距離
H29: ㎡ | J29: ㎞
H31: ㎡ | J31: ㎞
H33: ㎡ | J33: ㎞
H35: ㎡ | J35: ㎞
A39: ５．事業用自動車の乗務員の休憩、仮眠又は睡眠のための施設の位置及び面積
A40: 営業所名 | C40: 位 置 | H40: 面積 | I40: 自己所有・ 借入の別 | J40: 併設の別
H41: ㎡
H42: ㎡

Sheet 事業計画・新
J1: 【別紙１】
A2: 譲受人の事業計画等（譲受後）
A4: １．営業区域
A6: ２．主たる事務所及び営業所の名称及び位置
A8: ①主たる事務所
A9: 名 称 | C9: 位 置
A13: ②営業所
A14: 名 称 | C14: 位 置 | H14: 面積 | I14: 自己所有・ 借入の別 | J14: 備 考
A18: ３．営業所ごとに配置する事業用自動車の数並びにその種別ごとの数
B20: 種別 | C20: 一般車両 | F20: 特殊車両 | I20: 合計
A21: 営業所 | C21: 特大 | D21: 大型 | E21: 普通 | F21: 特大 | G21: 大型 | H21: 普通
B22: 営業所
B23: 営業所
A24: 合計 | C24: 両 | D24: 両 | E24: 両 | F24: 両 | G24: 両 | H24: 両
A25: ＊種別は、一般車両（一般の需要に応じることができる事業用自動車）及び特殊車両（一般車両以外の事業用自動車）及び運賃適用車種区分の別とする。 ＊上記表の括弧書きは特定地域における一般乗用旅客自動車運送事業の適正化及び活性化に関する特別措置法第１１条第５項の規定に基づく特定事業計画による休車。 ＊事業用自動車の明細は【別紙１－２】のとおり。
A27: ４．自動車車庫の名称及び位置並びに収容能力
A28: 営業所名 | C28: 車庫名称 | D28: 位 置 | H28: 収容能力 | I28: 自己所有・ 借入の別 | J28: 営業所からの距離
H29: ㎡ | J29: ㎞
H31: ㎡ | J31: ㎞
H33: ㎡ | J33: ㎞
H35: ㎡ | J35: ㎞
A39: ５．事業用自動車の乗務員の休憩、仮眠又は睡眠のための施設の位置及び面積
A40: 営業所名 | C40: 位 置 | H40: 面積 | I40: 自己所有・ 借入の別 | J40: 併設の別
H41: ㎡
H42: ㎡

Sheet 事業用自動車の明細
J1: 【別紙１－２】
A2: 事業用自動車の明細
A4: 番号 | B4: 登録番号 | C4: 車種区分 | D4: 車 名 | F4: 車体の形状 | G4: 乗車定員 | H4: 譲渡人における 配置営業所 | I4: 譲受人における 配置営業所又は減車・休車の別 | J4: 備 考
A5: 1
A6: 2
A7: 3
A8: 4
A9: 5
A10: 6
A11: 7
A12: 8
A13: 9
A14: 10
A15: 11
A16: 12
... A24: 20
I25: 合計

Sheet 管理運営体制・譲受人
R1: 【別紙２】
I2: 譲受人の管理運営体制
R3: 専従役員（ ）
A4: １．事業計画を遂行するに足りる有資格者の運転者を確保する計画
C5: 確保人員 名 確保予定人員 名 運転者数合計 名
A7: ２．適切な運行管理者及び整備管理者の選任計画並びに指揮命令系統
K9: 運行管理者 | M9: 補助者 | P9: 運転者
B10: 代表者 | F10: 担当役員等 | J10: 氏名 | M10: 氏名
A11: 氏名 | E11: 氏名
K12: 整備管理者 | M12: 補助者
J13: 氏名 | M13: 氏名
A15: ３．点呼等が確実に実施できる体制
B16: 点呼場所 | I16: 運行前点検実施場所
B17: 点呼実施者 | I17: 運行前点検実施者
B19: ※営業所と車庫が併設されていない場合
B20: 営業所と車庫間の連絡方法と距離 | N20: ｍ
A23: ４．事故防止についての教育及び指導体制並びに事故の処理及び報告の体制
B24: (1)事故防止に関する指導教育方法及び計画
C25: 研修・講習会等の開催予定 | I25: 年間 回
B26: (2)事故処理連絡体制
A32: ５．苦情処理体制
B33: 苦情処理 責任者 | F33: 氏名
B34: 苦情処理 担当者 | F34: 氏名
A36: ６．指導主任者
B37: 指導主任者 | E37: 氏名
A39: ７．乗務割の計画
B42: 拘 束 時 間 | G42: 労 働 時 間 | N42: 休 息 時 間
B43: １ヶ月 | C43: 時間 | G43: ２日平均１日当り | L43: 時間 | N43: 勤務と勤務の間 | Q43: 時間
B44: １ 日 | C44: 時間 | G44: ２週平均１週当り | L44: 時間

Sheet 乗務割表
B1: 様式例
C2: 勤務形態 | D2: ① | F2: ② | H2: ③ | J2: ④ | L2: ⑤ | S2: 乗 務 割 表
C3: 拘束時間
C5: 休憩時間
C7: 運転時間
C8: 日 | D8: 1 | E8: 2 | F8: 3 | G8: 4 | H8: 5 | I8: 6 | J8: 7 | K8: 8 | L8: 9 | M8: 10 | N8: 11 | O8: 12 | P8: 13 | Q8: 14 | R8: 15 | S8: 16 | T8: 17 | U8: 18 | V8: 19 | W8: 20 | X8: 21 | Y8: 22 | Z8: 23 | AA8: 24 | AB8: 25 | AC8: 26 | AD8: 27 | AE8: 28 | AF8: 29 | AG8: 30 | AH8: 31
B9: 氏 名 | C9: 項目 | D9: 月 | E9: 火 | F9: 水 | G9: 木 | H9: 金 | I9: 土 | J9: 日 | K9: 月 | L9: 火 | M9: 水 | N9: 木 | O9: 金 | P9: 土 | Q9: 日 | R9: 月 | S9: 火 | T9: 水 | U9: 木 | V9: 金 | W9: 土 | X9: 日 | Y9: 月 | Z9: 火 | AA9: 水 | AB9: 木 | AC9: 金 | AD9: 土 | AE9: 日 | AF9: 月 | AG9: 火 | AH9: 水 | AI9: 合 計
C10: 勤務形態
C11: 拘束時間
A12: 1 | C12: （累計） | D12: （ ） | E12: （ ） | F12: （ ） | G12: （ ） | H12: （ ） | I12: （ ） | J12: （ ） | K12: （ ） | L12: （ ） | M12: （ ） | N12: （ ） | O12: （ ） | P12: （ ） | Q12: （ ） | R12: （ ） | S12: （ ） | T12: （ ） | U12: （ ） | V12: （ ） | W12: （ ） | X12: （ ） | Y12: （ ） | Z12: （ ） | AA12: （ ） | AB12: （ ） | AC12: （ ） | AD12: （ ） | AE12: （ ） | AF12: （ ） | AG12: （ ） | AH12: （ )
C13: 運転時間
C14: （累計） | D14: （ ） | E14: （ ） | F14: （ ） | G14: （ ） | H14: （ ） | I14: （ ） | J14: （ ） | K14: （ ） | L14: （ ） | M14: （ ） | N14: （ ） | O14: （ ） | P14: （ ） | Q14: （ ） | R14: （ ） | S14: （ ） | T14: （ ） | U14: （ ） | V14: （ ） | W14: （ ） | X14: （ ） | Y14: （ ） | Z14: （ ） | AA14: （ ） | AB14: （ ） | AC14: （ ） | AD14: （ ） | AE14: （ ） | AF14: （ ） | AG14: （ ） | AH14: （ )
C15: 勤務形態
C16: 拘束時間
A17: 2 | C17: （累計） | D17: （ ） | E17: （ ） | F17: （ ） | G17: （ ） | H17: （ ） | I17: （ ） | J17: （ ） | K17: （ ） | L17: （ ） | M17: （ ） | N17: （ ） | O17: （ ） | P17: （ ） | Q17: （ ） | R17: （ ） | S17: （ ） | T17: （ ） | U17: （ ） | V17: （ ） | W17: （ ） | X17: （ ） | Y17: （ ） | Z17: （ ） | AA17: （ ） | AB17: （ ） | AC17: （ ） | AD17: （ ） | AE17: （ ） | AF17: （ ） | AG17: （ ） | AH17: （ )
C18: 運転時間
C19: （累計） | D19: （ ） | E19: （ ） | F19: （ ） | G19: （ ） | H19: （ ） | I19: （ ） | J19: （ ） | K19: （ ） | L19: （ ） | M19: （ ） | N19: （ ） | O19: （ ） | P19: （ ） | Q19: （ ） | R19: （ ） | S19: （ ） | T19: （ ） | U19: （ ） | V19: （ ） | W19: （ ） | X19: （ ） | Y19: （ ） | Z19: （ ） | AA19: （ ） | AB19: （ ） | AC19: （ ） | AD19: （ ） | AE19: （ ） | AF19: （ ） | AG19: （ ） | AH19: （ )
C20: 勤務形態
C21: 拘束時間
A22: 3 | C22: （累計） | D22: （ ） | E22: （ ） | F22: （ ） | G22: （ ） | H22: （ ） | I22: （ ） | J22: （ ） | K22: （ ） | L22: （ ） | M22: （ ） | N22: （ ） | O22: （ ） | P22: （ ） | Q22: （ ） | R22: （ ） | S22: （ ） | T22: （ ） | U22: （ ） | V22: （ ） | W22: （ ） | X22: （ ） | Y22: （ ） | Z22: （ ） | AA22: （ ） | AB22: （ ） | AC22: （ ） | AD22: （ ） | AE22: （ ） | AF22: （ ） | AG22: （ ） | AH22: （ )
C23: 運転時間
C24: （累計） | D24: （ ） | E24: （ ） | F24: （ ） | G24: （ ） | H24: （ ） | I24: （ ） | J24: （ ） | K24: （ ） | L24: （ ） | M24: （ ） | N24: （ ） | O24: （ ） | P24: （ ） | Q24: （ ） | R24: （ ） | S24: （ ） | T24: （ ） | U24: （ ） | V24: （ ） | W24: （ ） | X24: （ ） | Y24: （ ） | Z24: （ ） | AA24: （ ） | AB24: （ ） | AC24: （ ） | AD24: （ ） | AE24: （ ） | AF24: （ ） | AG24: （ ） | AH24: （ )
C25: 勤務形態
C26: 拘束時間
A27: 4 | C27: （累計） | D27: （ ） | E27: （ ） | F27: （ ） | G27: （ ） | H27: （ ） | I27: （ ） | J27: （ ） | K27: （ ） | L27: （ ） | M27: （ ） | N27: （ ） | O27: （ ） | P27: （ ） | Q27: （ ） | R27: （ ） | S27: （ ） | T27: （ ） | U27: （ ） | V27: （ ） | W27: （ ） | X27: （ ） | Y27: （ ） | Z27: （ ） | AA27: （ ） | AB27: （ ） | AC27: （ ） | AD27: （ ） | AE27: （ ） | AF27: （ ） | AG27: （ ） | AH27: （ )
C28: 運転時間
C29: （累計） | D29: （ ） | E29: （ ） | F29: （ ） | G29: （ ） | H29: （ ） | I29: （ ） | J29: （ ） | K29: （ ） | L29: （ ） | M29: （ ） | N29: （ ） | O29: （ ） | P29: （ ） | Q29: （ ） | R29: （ ） | S29: （ ） | T29: （ ） | U29: （ ） | V29: （ ） | W29: （ ） | X29: （ ） | Y29: （ ） | Z29: （ ） | AA29: （ ） | AB29: （ ） | AC29: （ ） | AD29: （ ） | AE29: （ ） | AF29: （ ） | AG29: （ ） | AH29: （ )
C30: 勤務形態
C31: 拘束時間
A32: 5 | C32: （累計） | D32: （ ） | E32: （ ） | F32: （ ） | G32: （ ） | H32: （ ） | I32: （ ） | J32: （ ） | K32: （ ） | L32: （ ） | M32: （ ） | N32: （ ） | O32: （ ） | P32: （ ） | Q32: （ ） | R32: （ ） | S32: （ ） | T32: （ ） | U32: （ ） | V32: （ ） | W32: （ ） | X32: （ ） | Y32: （ ） | Z32: （ ） | AA32: （ ） | AB32: （ ） | AC32: （ ） | AD32: （ ） | AE32: （ ） | AF32: （ ） | AG32: （ ） | AH32: （ )
C33: 運転時間
C34: （累計） | D34: （ ） | E34: （ ） | F34: （ ） | G34: （ ） | H34: （ ） | I34: （ ） | J34: （ ） | K34: （ ） | L34: （ ） | M34: （ ） | N34: （ ） | O34: （ ） | P34: （ ） | Q34: （ ） | R34: （ ） | S34: （ ） | T34: （ ） | U34: （ ） | V34: （ ） | W34: （ ） | X34: （ ） | Y34: （ ） | Z34: （ ） | AA34: （ ） | AB34: （ ） | AC34: （ ） | AD34: （ ） | AE34: （ ） | AF34: （ ） | AG34: （ ） | AH34: （ )
B35: 記載例
C36: 勤務形態 | D36: ① | F36: ② | H36: ③ | J36: ④ | L36: ⑤ | S36: 乗 務 割 表
C37: 拘束時間 | D37: 8:00~17:00
D38: 9
C39: 休憩時間 | D39: 11:00~15:00の間
D40: 1
C41: 運転時間 | D41: 8
C42: 日 | D42: 1 | E42: 2 | F42: 3 | G42: 4 | H42: 5 | I42: 6 | J42: 7 | K42: 8 | L42: 9 | M42: 10 | N42: 11 | O42: 12 | P42: 13 | Q42: 14 | R42: 15 | S42: 16 | T42: 17 | U42: 18 | V42: 19 | W42: 20 | X42: 21 | Y42: 22 | Z42: 23 | AA42: 24 | AB42: 25 | AC42: 26 | AD42: 27 | AE42: 28 | AF42: 29 | AG42: 30 | AH42: 31
...

Sheet 所要資金
K1: 【別紙３】
A2: １．譲受人における所要資金及び事業開始に要する資金の内訳
A3: 項 目 | E3: 所 要 資 金 額 | G3: 事業開始当初に要する資金 | I3: 備 考
A4: （イ）車両費 | E4: 取得価格（含未払金） | G4: （一括の場合左欄と同額、分割の場合 頭金及び２ヶ月分の賃借料） | I4: 〔一 括〕 現金 円、未払金 円
F5: 円 | H5: 円
E6: （１年分） | G6: （２ヶ月分）
F7: 円 | H7: 円 | I7: 〔リース料〕 月額 円
A8: （ロ）土地費 | E8: 取得価格（含未払金） | G8: （一括の場合左欄と同額、分割の場合 頭金及び２ヶ月分の賃借料） | I8: 〔一 括〕 現金 円、未払金 円
F9: 円 | H9: 円 | I9: 〔分 割〕 頭金 円、月額 円
E10: （１年分） | G10: （２ヶ月分）
F11: 円 | H11: 円 | I11: 〔賃貸料〕 月額 円
A12: （ハ）建物費 | E12: 取得価格（含未払金） | G12: （一括の場合左欄と同額、分割の場合 頭金及び２ヶ月分の賃借料） | I12: 〔一 括〕 現金 円、未払金 円
F13: 円 | H13: 円 | I13: 〔分 割〕 頭金 円、月額 円
E14: （１年分） | G14: （２ヶ月分）
F15: 円 | H15: 円 | I15: 〔賃貸料〕 月額 円
A16: （ニ）機械器具及び什器備品 | E16: 取得価格（含未払金） | G16: （左欄と同額）
E17: =#REF!+#REF! -> #REF! | F17: 円 | G17: =E17 -> #REF! | H17: 円 | I17: 〔一 括〕 現金 円、未払金 円
A18: （ホ） | B18: 運送費 | C18: 人 件 費 | E18: ='別紙３－３'!M17:T17 -> #VALUE! | F18: 円 | I18: （２ヶ月分）
A19: 運転資金 | C19: 燃料油脂費 | E19: ='別紙３－３'!M18:T18 -> #VALUE! | F19: 円 | I19: （２ヶ月分）
C20: 修 繕 費 | E20: ='別紙３－３'!M22:T22 -> #VALUE! | F20: 円 | I20: （２ヶ月分）
C21: その他経費 | E21: ='別紙３－３'!M23:T23 -> #VALUE! | F21: 円 | I21: （２ヶ月分）
B22: 管理経費 | C22: 人 件 費 | E22: ='別紙３－３'!M31:T31 -> #VALUE! | F22: 円 | I22: （２ヶ月分）
C23: その他経費 | E23: ='別紙３－３'!M32:T32 -> #VALUE! | F23: 円 | I23: （２ヶ月分） 旅費、備品・消耗品費、水道・光熱費、広告宣伝費 等
A24: 小 計 | G24: （左欄と同額）
F25: 円 | G25: =E25 -> 0 | H25: 円
A26: （ヘ） | B26: 自賠責保険料 | F26: 円 | I26: （１年分） 円× 両
A27: 保険料等 | B27: 任意保険料 | F27: 円 | I27: （１年分） 円× 両 〔対人 ・対物 〕
B28: 自動車重量税 | F28: 円 | I28: （１年分） 円× 両
B29: 自動車税 | F29: 円 | I29: （１年分） 円× 両
B30: 環境性能割 | F30: 円 | I30: （全額） 円× 両
B31: 登録免許税 | F31: 円
A32: 小 計 | G32: （左欄と同額）
E33: =IF(E26="","",SUM(E26:E31)) | F33: 円 | G33: =E33 | H33: 円
A34: （ト）その他創業費等 | G34: （左欄と同額）
F35: 円 | H35: 円 | I35: （全額） 等
A36: 合 計 | E36: =SUM(E5,E7,E9,E11,E13,E15,E17,E25,E33,E35) -> #REF! | F36: 円 | G36: =SUM(G5,G7,G9,G11,G13,G15,G17,G25,G33,G35) -> #REF! | H36: 円
A37: ５０％相当額 | E37: =ROUNDUP(E36/2,0) -> #REF! | F37: 円 | I37: 円未満切り上げ
A38: 自己資金額 | E38: 「５０％相当額」を上回ること | G38: 「合計」額を上回ること
F39: 円 | G39: =E39 -> 0 | H39: 円
A40: ※備考欄には、内訳等を適宜記載すること。

Sheet 資金調達方法
K1: 【別紙３－２】
A2: ２．譲受人における資金の調達方法
A4: （１）法人の場合
B6: 項 目 | C6: 既存法人 | F6: 設立法人 | J6: 出資者名 | K6: 出資金額
B7: 資 本 金
B8: 剰 余 金 等
B9: 増資資本金
B10: 合 計
B12: 項 目 | E12: 申請事業充当額
B13: 現 金 預 金
B14: その他流動資産
B15: 調達資金合計（自己資金額）
A18: （２）個人の場合
B20: 金融機関名 | C20: 預貯金等の種類 | F20: 預貯金等の発行番号 | J20: 申請日現在の預貯金額
B24: 合 計（自己資金額）

Sheet 別紙３－３
AL1: 別紙３－３
A2: 運転資金（ホ）算出明細書（円未満切り上げ）
A3: 項 目 | M3: 金 額 | V3: 明 細
C4: 給 与 | M4: =AL4+AL5+AL6+AL7+AL8 -> 0 | U4: 円 | V4: 運転者 | Z4: 月額 | AE4: 円×２ヶ月× | AK4: 人= | AL4: =AB4*2*AJ4 -> 0 | AO4: 円
Z5: 月額 | AE5: 円×２ヶ月× | AK5: 人= | AL5: =AB5*2*AJ5 -> 0 | AO5: 円
Z6: 月額 | AE6: 円×２ヶ月× | AK6: 人= | AL6: =AB6*2*AJ6 -> 0 | AO6: 円
B7: 人 | V7: 運行管理者 | Z7: 月額 | AE7: 円×２ヶ月× | AK7: 人= | AL7: =AB7*2*AJ7 -> 0 | AO7: 円
A8: 運 | V8: 整備管理者 | Z8: 月額 | AE8: 円×２ヶ月× | AK8: 人= | AL8: =AB8*2*AJ8 -> 0 | AO8: 円
C9: 手 当 | M9: =AL9+AL10+AL11+AL12+AL13 -> 0 | U9: 円 | V9: 運転者 | Z9: 月額 | AE9: 円×２ヶ月× | AK9: 人= | AL9: =AB9*2*AJ9 -> 0 | AO9: 円
Z10: 月額 | AE10: 円×２ヶ月× | AK10: 人= | AL10: =AB10*2*AJ10 -> 0 | AO10: 円
Z11: 月額 | AE11: 円×２ヶ月× | AK11: 人= | AL11: =AB11*2*AJ11 -> 0 | AO11: 円
B12: 件 | V12: 運行管理者 | Z12: 月額 | AE12: 円×２ヶ月× | AK12: 人= | AL12: =AB12*2*AJ12 -> 0 | AO12: 円
V13: 整備管理者 | Z13: 月額 | AE13: 円×２ヶ月× | AK13: 人= | AL13: =AB13*2*AJ13 -> 0 | AO13: 円
C14: 賞 与 | M14: =ROUNDUP(SUM(AB4:AD8)*W14*AF14*2/12,0) -> 0 | U14: 円 | V14: 年 | X14: 回支給、給与１ヶ月分の | AG14: ヶ月分×2/12ヶ月
A15: 送 | B15: 費 | C15: 法 定 福 利 費 | M15: =ROUNDUP(SUM(M4:T14)*0.13,0) -> 0 | U15: 円 | V15: 給与、手当、賞与の１３％を見込む
C16: 厚 生 福 利 費 | M16: =ROUNDUP(SUM(M4:T14)*0.02,0) -> 0 | U16: 円 | V16: 給与、手当、賞与の２％を見込む
C17: 計 | M17: =SUM(M4:T16) -> 0 | U17: 円
B18: 燃 料 油 脂 費 | M18: =Z45 | U18: 円 | V18: 下記燃料油脂費明細による
B19: 修繕費 | C19: 外 注 修 繕 費 | U19: 円 | V19: １両月額 | AB19: 円×２ヶ月× | AI19: 両
A20: 費 | C20: 自家修繕費・部品費 | U20: 円 | V20: １両月額 | AB20: 円×２ヶ月× | AI20: 両
C21: タイヤ・チューブ費 | M21: =(AD21*AJ21)*(2/12) -> 0 | U21: 円 | V21: 年間 | Y21: 本使用、（１本 | AH21: 円× | AJ21: =X21 -> 0 | AK21: 本）×2/12ヶ月
C22: 計 | M22: =SUM(M19:T21) -> 0 | U22: 円
B23: そ の 他 経 費 | M23: =AE23*2 -> 0 | U23: 円 | V23: 通信費、交通費等 | AC23: 月額 | AI23: 円×２ヶ月
B24: 運 送 費 合 計 | M24: =SUM(M17,M18,M22,M23) -> 0 | U24: 円 | V24: 人件費、燃料油脂費、修繕費、その他経費の合計
C25: 役 員 報 酬 | M25: =X25*2 -> 0 | U25: 円 | V25: 月額 | AA25: 円×２ヶ月
B26: 人 | C26: 給 与 | M26: =AL26 -> 0 | U26: 円 | V26: 事務員 | Z26: 月額 | AE26: 円×２ヶ月× | AK26: 人= | AL26: =AB26*2*AJ26 -> 0 | AO26: 円
A27: 管 | C27: 手 当 | M27: =AL27 -> 0 | U27: 円 | V27: 事務員 | Z27: 月額 | AE27: 円×２ヶ月× | AK27: 人= | AL27: =AB27*2*AJ27 -> 0 | AO27: 円
A28: 理 | B28: 件 | C28: 賞 与 | M28: =ROUNDUP(AB26*Y28*AA28*AJ28*2/12,0) -> 0 | U28: 円 | V28: 事務員 | Z28: 人 | AB28: 回支給、給与１ヶ月分の | AK28: ヶ月分×2/12ヶ月
A29: 経 | C29: 法 定 福 利 費 | M29: =ROUNDUP(SUM(M25:T28)*0.13,0) -> 0 | U29: 円 | V29: 役員報酬、給与、手当、賞与の１３％を見込む
A30: 費 | B30: 費 | C30: 厚 生 福 利 費 | M30: =ROUNDUP(SUM(M25:T28)*0.02,0) -> 0 | U30: 円 | V30: 役員報酬、給与、手当、賞与の２％を見込む
C31: 計 | M31: =SUM(M25:T30) -> 0 | U31: 円
B32: そ の 他 経 費 | M32: =AC32*2 -> 0 | U32: 円 | V32: 光熱費、雑費等 | AA32: 月額 | AG32: 円×２ヶ月
B33: 管 理 経 費 合 計 | M33: =SUM(M31,M32) -> 0 | U33: 円 | V33: 人件費、その他経費の合計
A35: １両当たり 年間走行ｷﾛ | F35: ㍑当たり走行ｷﾛ | K35: １両当たり 年間使用量（㍑） | Q35: 燃料単価 | U35: 車両数
E36: ｷﾛ | J36: ｷﾛ | K36: =IF(A36="","",ROUNDUP(A36/F36,0)) | P36: ㍑ | T36: 円 | X36: 両 | Y36: =K36 | AA36: ㍑× | AC36: =Q36 -> 0 | AF36: 円× | AH36: =U36 -> 0 | AJ36: 両＝ | AL36: =IF(A36="","",Y36*AC36*AH36) | AP36: 円
E37: ｷﾛ | J37: ｷﾛ | K37: =IF(A37="","",ROUNDUP(A37/F37,0)) | P37: ㍑ | T37: 円 | X37: 両 | Y37: =K37 | AA37: ㍑× | AC37: =Q37 -> 0 | AF37: 円× | AH37: =U37 -> 0 | AJ37: 両＝ | AL37: =IF(A37="","",Y37*AC37*AH37) | AP37: 円
E38: ｷﾛ | J38: ｷﾛ | K38: =IF(A38="","",ROUNDUP(A38/F38,0)) | P38: ㍑ | T38: 円 | X38: 両 | Y38: =K38 | AA38: ㍑× | AC38: =Q38 -> 0 | AF38: 円× | AH38: =U38 -> 0 | AJ38: 両＝ | AL38: =IF(A38="","",Y38*AC38*AH38) | AP38: 円
A40: 燃料油脂費明細
A41: 年間燃料費（Ａ） | Z41: =IF(A36="","",SUM(AL36:AO38)) | AP41: 円
A42: 年間油脂費（油脂費は燃料費の３％として計算）（Ｂ）（Ａ×0.03） | Z42: =IF(A36="","",ROUNDUP(Z41*0.03,0)) | AP42: 円
...

Sheet 別紙３－４
W1: 別紙３－４
B2: 品 名 | C2: 数 量 | E2: 単 価 | G2: 合 価 | I2: 摘 要 | R2: 備 考
B3: ジャッキ | D3: 台 | F3: 円 | G3: =C3*E3 -> 0 | H3: 円 | I3: 許可後購入 ・ 既所有
B4: 注油器 | D4: 台 | F4: 円 | G4: =C4*E4 -> 0 | H4: 円 | I4: 許可後購入 ・ 既所有
B5: ホイールナットレンチ | D5: 個 | F5: 円 | G5: =C5*E5 -> 0 | H5: 円 | I5: 許可後購入 ・ 既所有
B6: 輪止め | D6: 個 | F6: 円 | G6: =C6*E6 -> 0 | H6: 円 | I6: 許可後購入 ・ 既所有
B7: 巻き尺 | D7: 個 | F7: 円 | G7: =C7*E7 -> 0 | H7: 円 | I7: 許可後購入 ・ 既所有
B8: タイヤゲージ | D8: 個 | F8: 円 | G8: =C8*E8 -> 0 | H8: 円 | I8: 許可後購入 ・ 既所有
B9: タイヤデプスゲージ | D9: 個 | F9: 円 | G9: =C9*E9 -> 0 | H9: 円 | I9: 許可後購入 ・ 既所有
B10: 点検灯 | D10: 個 | F10: 円 | G10: =C10*E10 -> 0 | H10: 円 | I10: 許可後購入 ・ 既所有
B11: スパナ | D11: 個 | F11: 円 | G11: =C11*E11 -> 0 | H11: 円 | I11: 許可後購入 ・ 既所有
A12: 機械器具費 | B12: ソケットレンチ | D12: 個 | F12: 円 | G12: =C12*E12 -> 0 | H12: 円 | I12: 許可後購入 ・ 既所有
B13: プラグレンチ | D13: 個 | F13: 円 | G13: =C13*E13 -> 0 | H13: 円 | I13: 許可後購入 ・ 既所有
B14: プライヤー | D14: 個 | F14: 円 | G14: =C14*E14 -> 0 | H14: 円 | I14: 許可後購入 ・ 既所有
B15: ペンチ | D15: 個 | F15: 円 | G15: =C15*E15 -> 0 | H15: 円 | I15: 許可後購入 ・ 既所有
B16: ねじ回し | D16: 個 | F16: 円 | G16: =C16*E16 -> 0 | H16: 円 | I16: 許可後購入 ・ 既所有
B17: 運賃メーター器等 | D17: 式 | F17: 円 | G17: =C17*E17 -> 0 | H17: 円 | I17: 許可後購入 ・ 既所有
B18: 無線設備 | D18: 式 | F18: 円 | G18: =C18*E18 -> 0 | H18: 円 | I18: 許可後購入 ・ 既所有
B19: アルコール検知器 | D19: 個 | F19: 円 | G19: =C19*E19 -> 0 | H19: 円 | I19: 許可後購入 ・ 既所有
B20: 自動体外式除細動器 | D20: 台 | F20: 円 | G20: =C20*E20 -> 0 | H20: 円 | I20: 許可後購入 ・ 既所有
B21: 小計 | G21: =SUM(G3:G20) -> 0 | H21: 円
B22: 消費税 | G22: =ROUNDDOWN(G21*0.1,0) -> 0 | H22: 円
B23: 合計 | G23: =G21+G22 -> 0 | H23: 円
B24: 品 名 | C24: 数 量 | E24: 単 価 | G24: 合 価 | I24: 摘 要 | R24: 備 考
B25: 事務机 | D25: 基 | F25: 円 | G25: =C25*E25 -> 0 | H25: 円 | I25: 許可後購入 ・ 既所有
B26: 椅子 | D26: 脚 | F26: 円 | G26: =C26*E26 -> 0 | H26: 円 | I26: 許可後購入 ・ 既所有
B27: 書庫 | D27: 基 | F27: 円 | G27: =C27*E27 -> 0 | H27: 円 | I27: 許可後購入 ・ 既所有
B28: ロッカー | D28: 個 | F28: 円 | G28: =C28*E28 -> 0 | H28: 円 | I28: 許可後購入 ・ 既所有
B29: 金庫 | D29: 台 | F29: 円 | G29: =C29*E29 -> 0 | H29: 円 | I29: 許可後購入 ・ 既所有
B30: 応接セット | D30: 式 | F30: 円 | G30: =C30*E30 -> 0 | H30: 円 | I30: 許可後購入 ・ 既所有
B31: 寝具 | D31: 式 | F31: 円 | G31: =C31*E31 -> 0 | H31: 円 | I31: 許可後購入 ・ 既所有
A32: 什器備品費 | B32: 電話機 | D32: 台 | F32: 円 | G32: =C32*E32 -> 0 | H32: 円 | I32: 許可後購入 ・ 既所有
B33: ファクシミリ | D33: 台 | F33: 円 | G33: =C33*E33 -> 0 | H33: 円 | I33: 許可後購入 ・ 既所有
B34: 消火器 | D34: 個 | F34: 円 | G34: =C34*E34 -> 0 | H34: 円 | I34: 許可後購入 ・ 既所有
B35: 冷暖房器具 | D35: 式 | F35: 円 | G35: =C35*E35 -> 0 | H35: 円 | I35: 許可後購入 ・ 既所有
B36: テレビ | D36: 台 | F36: 円 | G36: =C36*E36 -> 0 | H36: 円 | I36: 許可後購入 ・ 既所有
B37: 黒板 | D37: 台 | F37: 円 | G37: =C37*E37 -> 0 | H37: 円 | I37: 許可後購入 ・ 既所有
B38: 小計 | G38: =SUM(G25:G37) -> 0 | H38: 円
B39: 消費税 | G39: =ROUNDDOWN(G38*0.1,0) -> 0 | H39: 円
B40: 合計 | G40: =G38+G39 -> 0 | H40: 円
...

Sheet 各種宣誓書
I1: 【別紙４】
B5: 東北運輸局長 殿
E10: 宣 誓 書
A13: 道路運送法第５条第１項第３号に規定する事業計画のうち営業所・自動車車庫・仮眠又は睡眠のための施設については、建築基準法（昭和25年法律第201号）、都市計画法（昭和43年法律第100号）、消防法（昭和23年法律第186号）、農地法（昭和27年法律第229号）等の関係法令に抵触しないことを宣誓致します。
A19: 令和 年 月 日
E21: 住 所 ：
E23: 名 称 ：
E24: 氏名又は代表者氏名 ：
I37: 【別紙４-２】
B41: 東北運輸局長 殿
E43: 宣 誓 書
A46: 「法人タクシー事業の許可申請事案及び事業計画変更認可申請事案等の基準について」
A47: （平成２９年９月１日制定公示第３８号）の１．（５）自動車車庫⑧について、前面道路が車両
A48: 制限令（昭和３６年政令第２６５号）の規定に抵触しないこと及び前面道路の概要については
A49: 以下のとおりで相違ない旨宣誓します。
B51: 【道路概要】
B52: 路 線 名 | C52: ： 道 号（ 線）
B53: 車道幅員 | C53: ： m
A56: 令和 年 月 日
E58: 住 所 ：
E60: 名 称 ：
E61: 氏名又は代表者氏名 ：
I63: 【別紙５】
B68: 東北運輸局長 殿
E73: 宣 誓 書
A77: １．道路運送法 第７条（欠格事由）各号の規定に該当致しません。
A79: ２．一般乗用旅客自動車運送事業（１人１車制個人タクシーを除く。）の許可申請事案及び 事業計画変更認可申請事案等の審査基準について（平成２９年９月１日付け公示第３８ 号）の１．（１０）法令遵守で規定される事項のいずれにも抵触しません。
A83: 上記に相違ないことを宣誓致します。
B88: 令和 年 月 日
D91: 住 所：
D93: 氏 名：
D94: 生年月日： | E94: 大正・昭和・平成 年 月 日生
A98: ※申請者が、法人である場合は登記されている役員全員分が必要。 なお、印については、役員の個人印を押印すること。
I101: 【別紙６】
B105: 東北運輸局長 殿
E110: 宣 誓 書
A113: ２．一般乗用旅客自動車運送事業（１人１車制個人タクシーを除く。）の許可申請事案及び 事業計画変更認可申請事案等の審査基準について（平成２９年９月１日付け公示第３８ 号）の１．（１２）適用等③で規定する社会保険等加入義務者が社会保険等に加入するこ とを宣誓します。
A119: 令和 年 月 日
E121: 住 所 ：
E123: 名 称 ：
...
