Workbook
Name 局別事業者: #REF!
Name 局別事業者: #REF!
Name 局別事業者数: #REF!
Name 局別事業者数: #REF!
Name 支局別一覧: #REF!
Name 支局別一覧: #REF!
Name 数: #REF!
Name 数: #REF!

Sheet 実施団体一覧
A1: 自家用有償旅客運送者（交通空白地有償運送）一覧
D2: =TODAY() -> 46265
B3: 団体等名 | C3: 種 別 | D3: 登録期限 | E3: 備考
A6: 1 | B6: 新庄市 | C6: 交通空白 | D6: =新庄市!H$5 -> 47904
A7: 2 | B7: 庄内町 | C7: 交通空白 | D7: =庄内町!H$5 -> 46295
A8: 3 | B8: 鶴岡市 | C8: 交通空白 | D8: =鶴岡市!H$5 -> 46295
A9: 4 | B9: 朝日町 | C9: 交通空白 | D9: =朝日町!H$5 -> 46295
A10: 5 | B10: 山辺町 | C10: 交通空白 | D10: =山辺町!H$5 -> 47391
A11: 8 | B11: 金山町 | C11: 交通空白 | D11: =金山町!H$5 -> 46295
A12: 9 | B12: 遊佐町 | C12: 交通空白 | D12: =遊佐町!H$5 -> 47391
A13: 10 | B13: 尾花沢市 | C13: 交通空白 | D13: =尾花沢市!H$5 -> 46295
A14: 11 | B14: 米沢市 | C14: 交通空白 | D14: =米沢市!H$5 -> 46295
A15: 13 | B15: 中山町 | C15: 交通空白 | D15: =中山町!H$5 -> 46295
A16: 14 | B16: 真室川町 | C16: 交通空白 | D16: =真室川町!H$5 -> 46295
A17: 16 | B17: 大江町 | C17: 交通空白 | D17: =大江町!H$5 -> 46295
A18: 17 | B18: 戸沢村 | C18: 交通空白 | D18: =戸沢村!H$5 -> 47391
A19: 18 | B19: 長井市 | C19: 交通空白 | D19: =長井市!H$5 -> 46295
A20: 19 | B20: 最上町 | C20: 交通空白 | D20: =最上町!H$5 -> 47391
A21: 20 | B21: 酒田市 | C21: 交通空白 | D21: =酒田市!H$5 -> 46295
A22: 21 | B22: 西川町 | C22: 交通空白 | D22: =西川町!H$5 -> 46295
A23: 22 | B23: 小国町 | C23: 交通空白 | D23: =小国町!H$5 -> 47026
A24: 23 | B24: 白鷹町 | C24: 交通空白 | D24: =白鷹町!H$5 -> 47202
A25: 24 | B25: 大蔵村 | C25: 交通空白 | D25: =大蔵村!H$5 -> 47913
A26: 26 | B26: 特定非営利活動法人 アルカディアもがみ | C26: 交通空白 | D26: =アルカディアもがみ!H$5 -> 46709
B28: 合計 | C28: 21 | D28: 団体

Sheet 新庄市
A1: 一覧へ | H1: 最終更新 | I1: 46078
A2: 自家用有償旅客運送者登録簿
A3: 登録番号 | B3: 東山市交第１号
A4: 登録年月日 及び 更新年月日 | B4: 登録年月日 | E4: 39139 | H4: 有効期間満了日
B5: 更新登録年月日（直近） | E5: 46078 | H5: 47904
A6: 名称 | B6: 新庄市
A7: 代表者氏名 | B7: 山科 朝則
A8: 住所 | B8: 新庄市沖の町１０番３７号
A9: 運送の種別 | B9: 交通空白地有償運送 | F9: 福祉有償運送
B10: ○
A11: 事務所の名称 及び位置 | B11: 名 称 | D11: 位 置
B12: ㈱新庄タクシー | D12: 山形県新庄市金沢字南沢１５７２－１
A14: 路線又は 運送の区域 | B14: 別紙のとおり
A15: 運送する旅客の範囲 | B15: 在住する新庄市民及びその親族、その他新庄市に日常の用務を有する者
A17: 事業者協力型自家用有償旅客運送を行うときは、協力を得る一般旅客自動車運送事業者の氏名又は名称及び住所 | B17: 氏名又は名称 | D17: 住 所
B18: ㈱新庄タクシー | D18: 山形県新庄市金沢字南沢１５７２－１
A19: 備考
A20: 運送の種別 | B20: 事務所 | C20: 自家用有償旅客運送自動車の数
C21: 寝台車 | D21: 車いす車 | E21: 兼用車 | F21: 回転シート車 | G21: セダン等 | H21: バス | I21: 合計
C22: （軽自動車） | D22: （軽自動車） | E22: （軽自動車） | F22: （軽自動車） | G22: （軽自動車） | I22: （軽自動車）
A23: 交通空白地有償運送 | B23: 株式会社新庄タクシー | H23: 1 | I23: 1

Sheet 新庄市別紙
A1: 路線 | B1: 新庄市 | E1: 別紙 | F1: ＮＯ． | G1: 1
B2: 路線名 | C2: 起点 | D2: 終点 | E2: 主たる経過地 | F2: キロ程 | G2: 備考
A3: 1 | B3: 土内線 | C3: 新庄市多門町１－１ | D3: 新庄市大字萩野字土内6545 | E3: 中山公民館前 | F3: 24.5
C4: （新庄駅前） | D4: （土内）
A5: 2 | B5: 芦沢線 | C5: 新庄市金沢720-1 | D5: 新庄市大字角沢字芦沢902先 | E5: 本宮町 | F5: 14.6
C6: （県立病院前） | D6: （芦沢）
B7: 【以下余白】

Sheet 庄内町
A1: 一覧へ | H1: 最終更新 | I1: 45730
A2: 自家用有償旅客運送者登録簿
A3: 登録番号 | B3: 東山市交第２号
A4: 登録年月日 及び 更新年月日 | B4: 登録年月日 | E4: 38991 | H4: 有効期間満了日
B5: 更新登録年月日（直近） | E5: 45196 | H5: 46295
A6: 名称 | B6: 庄内町
A7: 代表者氏名 | B7: 富樫 透
A8: 住所 | B8: 山形県東田川郡庄内町余目字町１３２番地１
A9: 運送の種別 | B9: 交通空白地有償運送 | F9: 福祉有償運送
B10: ○
A11: 事務所の名称 及び位置 | B11: 名 称 | D11: 位 置
B12: 庄内町役場 | D12: 山形県東田川郡庄内町余目字町１３２番地１
B13: 庄内町立谷沢格納庫 | D13: 山形県東田川郡庄内町肝煎字家ノ前13-1
A14: 路線又は 運送の区域 | B14: 別紙のとおり
A15: 運送する旅客の範囲 | B15: 東田川郡庄内町に在住する住民及びその親族、その他庄内町に日常の用務を有する者
A17: 事業者協力型自家用有償旅客運送を行うときは、協力を得る一般旅客自動車運送事業者の氏名又は名称及び住所 | B17: 氏名又は名称 | D17: 住 所
A19: 備考
A20: 運送の種別 | B20: 事務所 | C20: 自家用有償旅客運送自動車の数
C21: 寝台車 | D21: 車いす車 | E21: 兼用車 | F21: 回転シート車 | G21: セダン等 | H21: バス | I21: 合計
C22: （軽自動車） | D22: （軽自動車） | E22: （軽自動車） | F22: （軽自動車） | G22: （軽自動車） | I22: （軽自動車）
A23: 交通空白地有償運送 | B23: 庄内町役場 | G23: 1 | H23: 4 | I23: 5
A25: 交通空白地有償運送 | B25: 庄内町立谷沢格納庫 | H25: 1 | I25: 1

Sheet 庄内町  別紙
A1: 路線 | B1: 庄内町 | C1: 令和7年3月31日まで | E1: 別紙 | F1: ＮＯ． | G1: 1
B2: 路線名 | C2: 起点 | D2: 終点 | E2: 主たる経過地 | F2: キロ程 | G2: 備考
A3: 1 | B3: 立谷沢余目線 | C3: 東田川郡庄内町立谷沢字西山１－６７（北月山荘） | D3: 東田川郡庄内町余目字町１３２－１（庄内町役場） | E3: 中村地区、庄内町立川複合拠点施設 | F3: 39 | G3: 往路
F4: 41.2 | G4: 復路
A5: 2 | B5: 立谷沢余目線 | C5: 東田川郡庄内町立谷沢字西山１－６７（北月山荘） | D5: 東田川郡庄内町余目字町１３２－１（庄内町役場） | E5: 鉢子地区、庄内町立川複合拠点施設 | F5: 42.8 | G5: 往路
F6: 41 | G6: 復路
A7: 3 | B7: 小出新田循環線 | C7: 東田川郡庄内町余目字町１３２－１（庄内町役場） | D7: 東田川郡庄内町余目字町１３２－１（庄内町役場） | E7: 小出新田地区 | F7: 26.6
A8: 4 | B8: 家根合循環線 | C8: 東田川郡庄内町余目字町１３２－１（庄内町役場） | D8: 東田川郡庄内町余目字町１３２－１（庄内町役場） | E8: 家根合地区 | F8: 31.3
A9: 5 | B9: 狩川循環線 | C9: 東田川郡庄内町余目字町１３２－１（庄内町役場） | D9: 東田川郡庄内町余目字町１３２－１（庄内町役場） | E9: 庄内町立川複合拠点施設 | F9: 28.6
A10: 6 | B10: 平岡循環線 | C10: 東田川郡庄内町余目字町１３２－１（庄内町役場） | D10: 東田川郡庄内町余目字町１３２－１（庄内町役場） | E10: 平岡地区 | F10: 24.4
A11: 7 | B11: 中心市街地循環線 | C11: 東田川郡庄内町余目字町１３２－１（庄内町役場） | D11: 東田川郡庄内町余目字町１３２－１（庄内町役場） | E11: 庄内余目病院 | F11: 9
B12: 【以下余白】
A23: 路線 | B23: 庄内町 | C23: 令和7年4月１日から | E23: 別紙 | F23: ＮＯ． | G23: 2
B24: 路線名 | C24: 起点 | D24: 終点 | E24: 主たる経過地 | F24: キロ程 | G24: 備考
A25: 1 | B25: 立谷沢余目線 | C25: 東田川郡庄内町立谷沢字西山１－６７（北月山荘） | D25: 東田川郡庄内町余目字町１３２－１（庄内町役場） | E25: 中村地区、庄内町立川複合拠点施設 | F25: 39 | G25: 往路
F26: 41.2 | G26: 復路
A27: 2 | B27: 立谷沢余目線 | C27: 東田川郡庄内町立谷沢字西山１－６７（北月山荘） | D27: 東田川郡庄内町余目字町１３２－１（庄内町役場） | E27: 鉢子地区、庄内町立川複合拠点施設 | F27: 42.8 | G27: 往路
F28: 41 | G28: 復路
A29: 3 | B29: 小出新田循環線 | C29: 東田川郡庄内町余目字町１３２－１（庄内町役場） | D29: 東田川郡庄内町余目字町１３２－１（庄内町役場） | E29: 小出新田地区 | F29: 31.2
A30: 4 | B30: 家根合循環線 | C30: 東田川郡庄内町余目字町１３２－１（庄内町役場） | D30: 東田川郡庄内町余目字町１３２－１（庄内町役場） | E30: 家根合地区 | F30: 31.3
A31: 5 | B31: 狩川循環線 | C31: 東田川郡庄内町余目字町１３２－１（庄内町役場） | D31: 東田川郡庄内町余目字町１３２－１（庄内町役場） | E31: 庄内町立川複合拠点施設 | F31: 28.6
A32: 6 | B32: 平岡循環線 | C32: 東田川郡庄内町余目字町１３２－１（庄内町役場） | D32: 東田川郡庄内町余目字町１３２－１（庄内町役場） | E32: 平岡地区 | F32: 24.4
A33: 7 | B33: 中心市街地循環線 | C33: 東田川郡庄内町余目字町１３２－１（庄内町役場） | D33: 東田川郡庄内町余目字町１３２－１（庄内町役場） | E33: 庄内余目病院 | F33: 9
B34: 【以下余白】

Sheet 鶴岡市
A1: 一覧へ | H1: 最終更新 | I1: 46055
A2: 自家用有償旅客運送者登録簿
A3: 登録番号 | B3: 東山市交第３号
A4: 登録年月日 及び 更新年月日 | B4: 登録年月日 | E4: 38991 | H4: 有効期間満了日
B5: 更新登録年月日（直近） | E5: 45198 | H5: 46295
A6: 名称 | B6: 鶴岡市
A7: 代表者氏名 | B7: 市長 佐藤 聡
A8: 住所 | B8: 山形県鶴岡市馬場町９番２５号
A9: 運送の種別 | B9: 交通空白地有償運送 | F9: 福祉有償運送
B10: ○
A11: 事務所の名称 及び位置 | B11: 名 称 | D11: 位 置
B12: 羽黒庁舎 | D12: 鶴岡市羽黒町荒川字前田元８９番地
B13: 櫛引庁舎 | D13: 鶴岡市上山添字文栄１００番地
A14: 路線又は 運送の区域 | B14: 別紙のとおり
A15: 運送する旅客の範囲 | B15: 鶴岡市に在住する住民及びその親族、その他鶴岡市に日常の用務を有する者
A17: 事業者協力型自家用有償旅客運送を行うときは、協力を得る一般旅客自動車運送事業者の氏名又は名称及び住所 | B17: 氏名又は名称 | D17: 住 所
A19: 備考
A20: 運送の種別 | B20: 事務所 | C20: 自家用有償旅客運送自動車の数
C21: 寝台車 | D21: 車いす車 | E21: 兼用車 | F21: 回転シート車 | G21: セダン等 | H21: バス | I21: 合計
C22: （軽自動車） | D22: （軽自動車） | E22: （軽自動車） | F22: （軽自動車） | G22: （軽自動車） | I22: （軽自動車）
A23: 交通空白地有償運送 | B23: 羽黒庁舎 | G23: 1 | H23: 1 | I23: 2
A25: 交通空白地有償運送 | B25: 櫛引庁舎 | H25: 2 | I25: 2

Sheet 鶴岡市 別紙
A1: 路線 | B1: 鶴岡市 | E1: 別紙 | F1: ＮＯ． | G1: 1
B2: 路線名 | C2: 起点 | D2: 終点 | E2: 主たる経過地 | F2: キロ程 | G2: 備考
A3: 1 | B3: 上川代・小増川線 | C3: 鶴岡市羽黒町川代字上川代１８６番 | D3: 鶴岡市末広町1番1号 | E3: 十文字、小増川 | F3: 26.3
C4: (上川代) | D4: (鶴岡駅)
A5: 2 | B5: 今野線 | C5: 鶴岡市羽黒町川代字川代山８６３番 | D5: 鶴岡市末広町1番1号 | E5: 今野橋、松ヶ岡 | F5: 22.8
C6: (川代山） | D6: (鶴岡駅)
A7: 3 | B7: 中学校・𣗄代線 | C7: 鶴岡市上山添字文栄８６番地 | D7: 鶴岡市上山添字文栄８６番地 | E7: 三千刈地区、黒川地区、田代地区、宝谷地区 | F7: 23.6
C8: (櫛引中学校前） | D8: (櫛引中学校前）
B9: 【以下余白】

Sheet 朝日町
A1: 一覧へ | H1: 最終更新 | I1: 46107
A2: 自家用有償旅客運送者登録簿
A3: 登録番号 | B3: 東山市交第 ４ 号
A4: 登録年月日 及び 更新年月日 | B4: 登録年月日 | E4: 38991 | H4: 有効期間満了日
B5: 更新登録年月日（直近） | E5: 45190 | H5: 46295
A6: 名称 | B6: 朝日町
A7: 代表者氏名 | B7: 町長 鈴木 浩幸
A8: 住所 | B8: 山形県西村山郡朝日町大字宮宿1115番地
A9: 運送の種別 | B9: 交通空白地有償運送 | F9: 福祉有償運送
B10: ○
A11: 事務所の名称 及び位置 | B11: 名 称 | D11: 位 置
B12: 朝日町役場 | D12: 西村山郡朝日町大字宮宿1115番地
A14: 路線又は 運送の区域 | B14: 路線：別紙のとおり | F14: 運送の区域：朝日町
A15: 運送する旅客の範囲 | B15: 朝日町に在住する住民及びその親族、その他朝日町に日常の用務を有する者
A17: 事業者協力型自家用有償旅客運送を行うときは、協力を得る一般旅客自動車運送事業者の氏名又は名称及び住所 | B17: 氏名又は名称 | D17: 住 所
A19: 備考
A20: 運送の種別 | B20: 事務所 | C20: 自家用有償旅客運送自動車の数
C21: 寝台車 | D21: 車いす車 | E21: 兼用車 | F21: 回転シート車 | G21: 普通自動車 | H21: バス | I21: 合計
C22: （軽自動車） | D22: （軽自動車） | E22: （軽自動車） | F22: （軽自動車） | G22: （軽自動車） | I22: （軽自動車）
A23: 交通空白地有償運送 | B23: 朝日町役場 | G23: 5 | H23: 2 | I23: =SUM(G23:H23) -> 7

Sheet 朝日町 別紙
A1: 路線 | B1: 朝日町 | E1: 別紙 | F1: ＮＯ． | G1: 1
B2: 路線名 | C2: 起点 | D2: 終点 | E2: 主たる経過地 | F2: キロ程 | G2: 備考
A3: 1 | B3: 朝日・山形線 （往路） | C3: 朝日町大字太郎858-3 | D3: 山形市城北町1-11 | E3: 山辺町 | F3: 38.2
C4: （太郎公民館） | D4: （城北）
A5: 2 | B5: 朝日・山形線 （復路） | C5: 山形市清住町1-1 | D5: 朝日町大字太郎858-3 | E5: 山辺町 | F5: 36
C6: （山交バス本社前） | D6: （太郎公民館）
A7: 3 | B7: 朝日・寒河江線 | C7: 寒河江市本町1-1-18 | D7: 朝日町大字宮宿1115 | E7: 左沢駅、大谷 | F7: 23.3
C8: （寒河江駅前） | D8: （朝日町役場前）
A9: 4 | B9: 朝日・左沢駅線 | C9: 朝日町大字宮宿1115 | D9: 大江町大字左沢字前田876-18 | E9: 大谷、和合 | F9: 14.8 | G9: 往路
C10: （朝日町役場前） | D10: （左沢駅前） | F10: 15 | G10: 復路
B11: 【以下余白】

Sheet 山辺町
A1: 一覧へ | H1: 最終更新 | I1: 46265
A2: 自家用有償旅客運送者登録簿
A3: 登録番号 | B3: 東山市交第 ５ 号
A4: 登録年月日 及び 更新年月日 | B4: 登録年月日 | E4: 38991 | H4: 有効期間満了日
B5: 更新登録年月日（直近） | E5: 46265 | H5: 47391
A6: 名称 | B6: 山辺町
A7: 代表者氏名 | B7: 町長 安達 春彦
A8: 住所 | B8: 山形県東村山郡山辺町緑ケ丘５番地
A9: 運送の種別 | B9: 交通空白地有償運送 | F9: 福祉有償運送
B10: ○
A11: 事務所の名称 及び位置 | B11: 名 称 | D11: 位 置
B12: 山辺町役場 | D12: 東村山郡山辺町緑ケ丘５番地
A14: 路線又は 運送の区域 | B14: 路線：別紙のとおり | F14: 運送の区域：山辺町
A15: 運送する旅客の範囲 | B15: 山辺町に在住する住民及びその親族、その他山辺町に日常の用務を有する者
A17: 事業者協力型自家用有償旅客運送を行うときは、協力を得る一般旅客自動車運送事業者の氏名又は名称及び住所 | B17: 氏名又は名称 | D17: 住 所
A19: 備考
A20: 運送の種別 | B20: 事務所 | C20: 自家用有償旅客運送自動車の数
C21: 寝台車 | D21: 車いす車 | E21: 兼用車 | F21: 回転シート車 | G21: セダン等 | H21: バス | I21: 合計
C22: （軽自動車） | D22: （軽自動車） | E22: （軽自動車） | F22: （軽自動車） | G22: （軽自動車） | I22: （軽自動車）
A23: 交通空白地有償運送 | B23: 山辺町役場 | H23: 3 | I23: 3

Sheet 山辺町 別紙 
A1: 路線 | B1: 山辺町 | E1: 別紙 | F1: ＮＯ． | G1: 1
B2: 路線名 | C2: 起点 | D2: 終点 | E2: 主たる経過地 | F2: キロ程 | G2: 備考
A3: 1 | B3: 中作線 | C3: 東村山郡山辺町大字畑谷333番１先 | D3: 東村山郡山辺町大字大塚801番地 | E3: 大蕨、大寺、山辺 | F3: 18.5 | G3: 往路
C4: （畑谷） | D4: （山辺温泉） | F4: 22.2 | G4: 復路
B5: 【以下余白】

Sheet 金山町
A1: 一覧へ | H1: 最終更新 | I1: 45735
A2: 自家用有償旅客運送者登録簿
A3: 登録番号 | B3: 東山市交第 ８ 号
A4: 登録年月日 及び 更新年月日 | B4: 登録年月日 | E4: 38991 | H4: 有効期間満了日
B5: 更新登録年月日（直近） | E5: 45191 | H5: 46295
A6: 名称 | B6: 金山町
A7: 代表者氏名 | B7: 町長 佐藤 英司
A8: 住所 | B8: 山形県最上郡金山町大字金山３２４－１
A9: 運送の種別 | B9: 交通空白地有償運送 | F9: 福祉有償運送
B10: ○
A11: 事務所の名称 及び位置 | B11: 名 称 | D11: 位 置
B12: 金山町役場 | D12: 最上郡金山町大字金山３２４－１
A14: 路線又は 運送の区域 | B14: 別紙のとおり
A15: 運送する旅客の範囲 | B15: 金山町に在住する住民及びその親族、その他金山町に日常の用務を有する者
A17: 事業者協力型自家用有償旅客運送を行うときは、協力を得る一般旅客自動車運送事業者の氏名又は名称及び住所 | B17: 氏名又は名称 | D17: 住 所
A19: 備考
A20: 運送の種別 | B20: 事務所 | C20: 自家用有償旅客運送自動車の数
C21: 寝台車 | D21: 車いす車 | E21: 兼用車 | F21: 回転シート車 | G21: セダン等 | H21: バス | I21: 合計
C22: （軽自動車） | D22: （軽自動車） | E22: （軽自動車） | F22: （軽自動車） | G22: （軽自動車） | I22: （軽自動車）
A23: 交通空白地有償運送 | B23: 金山町役場 | G23: 8 | H23: 8 | I23: 16
G24: （2）
B25: （持込み） | G25: 1 | I25: 1
B27: 合計 | G27: 9 | H27: 8 | I27: 17
G28: （2）

Sheet 金山町 別紙
A1: 路線 | B1: 金山町 | C1: 令和７年３月３１日まで | E1: 別紙 | F1: ＮＯ． | G1: 1
B2: 路線名 | C2: 起点 | D2: 終点 | E2: 主たる経過地 | F2: キロ程 | G2: 備考
A3: 1 | B3: 金山有屋線 | C3: 金山町大字金山字荒屋829-1 | D3: 金山町大字金山字本町548-2 | E3: みずき荘前・稲沢・入有屋 | F3: 21.4
C4: (みずき荘前) | D4: (診療所前）
A5: 2 | B5: 金山中田線 | C5: 金山町大字金山字本町548-2 | D5: 金山町大字金山字本町548-2 | E5: 日当・小蝉・下中田・上中田・外沢 | F5: 25.1
C6: (診療所前） | D6: (診療所前）
A7: 3 | B7: 金山西郷線 | C7: 金山町大字金山字本町548-2 | D7: 金山町大字金山字本町548-2 | E7: 飛森口・谷口上・朴山・板橋・長野口 | F7: 17.8
C8: (診療所前） | D8: (診療所前）
A9: 4 | B9: 金山東郷線 | C9: 金山町大字金山字北の沢108-2 | D9: 金山町大字金山字本町548-2 | E9: 蒲沢・田茂沢・安沢・みずき荘前 | F9: 15.9
C10: (小学校前） | D10: (診療所前）
A11: 5 | B11: 金山明安線 | C11: 金山町大字下野明字楢台道下1641 | D11: 金山町大字金山字本町548-2 | E11: 下野明・片貝・楢台・焼山・安沢 | F11: 16.8
C12: (下野明口） | D12: (診療所前）
A13: 6 | B13: 金山三枝荒屋線 | C13: 金山町大字山崎字三枝３０ | D13: 金山町大字金山字大柳324-1 | E13: 凝山・大又・持越・朴山公民館前・荒屋 | F13: 15.9
C14: (凝山） | D14: (役場前）
A15: 7 | B15: 運送区域（デマンド交通）
B17: 起 点 | C17: 金山町大字金山324‐1
C18: 金山町役場(運行拠点地)
B19: 終 点 | C19: 金山町大字金山324‐1
C20: 金山町役場(運行拠点地)
B21: 運送区域 | C21: 金山町(山交バス・有屋線運行区域は除く)
B23: 【以下余白】
A27: 路線 | B27: 金山町 | C27: 令和７年４月１日から | E27: 別紙 | F27: ＮＯ． | G27: 2
B28: 路線名 | C28: 起点 | D28: 終点 | E28: 主たる経過地 | F28: キロ程 | G28: 備考
A29: 1 | B29: 金山有屋線 | C29: 金山町大字金山字荒屋829-1 | D29: 金山町大字金山字本町548-2 | E29: みずき荘前・稲沢・入有屋 | F29: 21.4
C30: (みずき荘前) | D30: (診療所前）
A31: 2 | B31: 金山中田線 | C31: 金山町大字金山字本町548-2 | D31: 金山町大字金山字本町548-2 | E31: 日当・小蝉・下中田・上中田・外沢 | F31: 26.1
C32: (診療所前） | D32: (診療所前）
A33: 3 | B33: 金山西郷線 | C33: 金山町大字金山字本町548-2 | D33: 金山町大字金山字本町548-2 | E33: 飛森口・谷口上・朴山・板橋・長野口・春木 | F33: 21.7
C34: (診療所前） | D34: (診療所前）
A35: 4 | B35: 金山東郷線 | C35: 金山町大字金山字北の沢108-2 | D35: 金山町大字金山字本町548-2 | E35: 蒲沢・田茂沢・安沢・みずき荘前 | F35: 16.3
C36: (小学校前） | D36: (診療所前）
A37: 5 | B37: 金山明安線 | C37: 金山町大字下野明字楢台道下1641 | D37: 金山町大字金山字本町548-2 | E37: 下野明・片貝・楢台・焼山・安沢 | F37: 16.8
C38: (下野明口） | D38: (診療所前）
A39: 6 | B39: 金山三枝荒屋線 | C39: 金山町大字金山字北の沢108-2 | D39: 金山町大字金山字大柳324-1 | E39: 凝山・大又・持越・板橋・朴山公民館前・荒屋 | F39: 18.1
C40: (小学校前） | D40: (役場前）
A41: 7 | B41: 運送区域（デマンド交通）
B43: 起 点 | C43: 金山町大字金山324‐1
C44: 金山町役場(運行拠点地)
B45: 終 点 | C45: 金山町大字金山324‐1
C46: 金山町役場(運行拠点地)
B47: 運送区域 | C47: 金山町(山交バス・有屋線運行区域は除く)
B49: 【以下余白】

Sheet 遊佐町
A1: 一覧へ | H1: 最終更新 | I1: 46265
A2: 自家用有償旅客運送者登録簿
A3: 登録番号 | B3: 東山市交第 ９ 号
A4: 登録年月日 及び 更新年月日 | B4: 登録年月日 | E4: 38991 | H4: 有効期間満了日
B5: 更新登録年月日（直近） | E5: 46265 | H5: 47391
A6: 名称 | B6: 遊佐町
A7: 代表者氏名 | B7: 町長 松永 裕美
A8: 住所 | B8: 山形県飽海郡遊佐町遊佐字舞鶴２０２
A9: 運送の種別 | B9: 交通空白地有償運送 | F9: 福祉有償運送
B10: ○
A11: 事務所の名称 及び位置 | B11: 名 称 | D11: 位 置
B12: 遊佐町役場 | D12: 飽海郡遊佐町遊佐字舞鶴２０２
A14: 路線又は 運送の区域 | B14: 遊佐町
A15: 運送する旅客の範囲 | B15: 遊佐町に在住する住民及びその親族、その他遊佐町に日常の用務を有する者
A17: 事業者協力型自家用有償旅客運送を行うときは、協力を得る一般旅客自動車運送事業者の氏名又は名称及び住所 | B17: 氏名又は名称 | D17: 住 所
A19: 備考
A20: 運送の種別 | B20: 事務所 | C20: 自家用有償旅客運送自動車の数
C21: 寝台車 | D21: 車いす車 | E21: 兼用車 | F21: 回転シート車 | G21: セダン等 | H21: バス | I21: 合計
C22: （軽自動車） | D22: （軽自動車） | E22: （軽自動車） | F22: （軽自動車） | G22: （軽自動車） | I22: （軽自動車）
A23: 交通空白地有償運送 | B23: 遊佐町役場 | G23: 4 | I23: =SUM(G23:H23) -> 4

Sheet 尾花沢市
A1: 一覧へ | H1: 最終更新 | I1: 45197
A2: 自家用有償旅客運送者登録簿
A3: 登録番号 | B3: 東山市交第１０号
A4: 登録年月日 及び 更新年月日 | B4: 登録年月日 | E4: 38991 | H4: 有効期間満了日
B5: 更新登録年月日（直近） | E5: 45197 | H5: 46295
A6: 名称 | B6: 尾花沢市
A7: 代表者氏名 | B7: 市長 結城 裕
A8: 住所 | B8: 山形県尾花沢市若葉町1丁目2番3号
A9: 運送の種別 | B9: 交通空白地有償運送 | F9: 福祉有償運送
B10: ○
A11: 事務所の名称 及び位置 | B11: 名 称 | D11: 位 置
B12: 尾花沢市役所 | D12: 山形県尾花沢市若葉町1丁目2番3号
A14: 路線又は 運送の区域 | B14: 別紙のとおり
A15: 運送する旅客の範囲 | B15: 尾花沢市内に在住する住民及びその親族、その他尾花沢市に日常の用務を有する者
A17: 事業者協力型自家用有償旅客運送を行うときは、協力を得る一般旅客自動車運送事業者の氏名又は名称及び住所 | B17: 氏名又は名称 | D17: 住 所
A19: 備考
A20: 運送の種別 | B20: 事務所 | C20: 自家用有償旅客運送自動車の数
C21: 寝台車 | D21: 車いす車 | E21: 兼用車 | F21: 回転シート車 | G21: セダン等 | H21: バス | I21: 合計
C22: （軽自動車） | D22: （軽自動車） | E22: （軽自動車） | F22: （軽自動車） | G22: （軽自動車） | I22: （軽自動車）
A23: 交通空白地有償運送 | B23: 尾花沢市 | H23: 5 | I23: 5

Sheet 尾花沢市 別紙
A1: 路線 | B1: 尾花沢市 | E1: 別紙 | F1: ＮＯ． | G1: 4
B2: 路線名 | C2: 起点 | D2: 終点 | E2: 主たる経過地 | F2: キロ程 | G2: 備考
A3: 1 | B3: 南沢線 | C3: 尾花沢市大字南沢363番地先 | D3: 尾花沢市若葉町１－２－３ | E3: 野黒沢、寺内 | F3: 18.9
C4: （南沢） | D4: （尾花沢市役所）
A5: 2 | B5: 市野々線 | C5: 尾花沢市大字岩谷沢59番地先 | D5: 尾花沢市若葉町１－２－３ | E5: 正厳、行沢、丹生、 | F5: 21.4
C6: （岩谷沢） | D6: （尾花沢市役所） | E6: 中沢、刈安
A7: 3 | B7: 毒沢線 | C7: 尾花沢市大字毒沢769番地先 | D7: 尾花沢市若葉町１－２－３ | E7: 芦沢、名木沢 | F7: 15.9
C8: （毒沢） | D8: （尾花沢市役所）
B9: 【以下余白】

Sheet 米沢市
A1: 一覧へ | H1: 最終更新 | I1: 45734
A2: 自家用有償旅客運送者登録簿
A3: 登録番号 | B3: 東山市交第１１号
A4: 登録年月日 及び 更新年月日 | B4: 登録年月日 | E4: 38991 | H4: 有効期間満了日
B5: 更新登録年月日（直近） | E5: 45194 | H5: 46295
A6: 名称 | B6: 米沢市
A7: 代表者氏名 | B7: 市長 近藤 洋介
A8: 住所 | B8: 山形県米沢市金池五丁目2番25号
A9: 運送の種別 | B9: 交通空白地有償運送 | F9: 福祉有償運送
B10: ○
A11: 事務所の名称 及び位置 | B11: 名 称 | D11: 位 置
B12: 米沢市役所 | D12: 米沢市金池5丁目2番25号
A14: 路線又は 運送の区域 | B14: 別紙のとおり
A15: 運送する旅客の範囲 | B15: 米沢市に在住する住民及びその親族、その他米沢市に日常の用務を有する者
A17: 事業者協力型自家用有償旅客運送を行うときは、協力を得る一般旅客自動車運送事業者の氏名又は名称及び住所 | B17: 氏名又は名称 | D17: 住 所
A19: 備考
A20: 運送の種別 | B20: 事務所 | C20: 自家用有償旅客運送自動車の数
C21: 寝台車 | D21: 車いす車 | E21: 兼用車 | F21: 回転シート車 | G21: セダン等 | H21: バス | I21: 合計
C22: （軽自動車） | D22: （軽自動車） | E22: （軽自動車） | F22: （軽自動車） | G22: （軽自動車） | I22: （軽自動車）
A23: 交通空白地有償運送 | B23: 米沢市役所 | H23: 6 | I23: 6

Sheet 米沢市 別紙
A1: 路線 | B1: 米沢市 | C1: 令和7年3月31日まで | E1: 別紙 | F1: ＮＯ． | G1: 1
B2: 路線名 | C2: 起点 | D2: 終点 | E2: 主たる経過地 | F2: キロ程 | G2: 備考
A3: 1 | B3: 市街地循環路線 | C3: 米沢市駅前1丁目1番地 | D3: 米沢市駅前1丁目1番地 | E3: 市立病院、上杉神社、市役所、商店街 | F3: 17.3 | G3: 右回り
C4: （米沢駅） | D4: （米沢駅） | F4: 18 | G4: 左回り
A5: 2 | B5: 万世線 | C5: 米沢市金池3丁目 | D5: 米沢市万世町刈安 | E5: 米沢駅、桑山団地、アルカディア、七中、万世小学校、福祉の里入口 | F5: 31.3 | G5: 上り
C6: （米沢市役所前） | D6: （米沢スキー場前） | F6: 29 | G6: 下り
A7: 3 | B7: 万世線 | C7: 米沢市駅前1丁目1-43 | D7: 米沢市川井 | F7: -
B8: （直行便） | C8: （米沢駅前） | D8: （米工前） | F8: 3.1 | G8: 下り
B9: 【以下余白】
A31: 路線 | B31: 米沢市 | C31: 令和7年4月1日から | E31: 別紙 | F31: ＮＯ． | G31: 2
B32: 路線名 | C32: 起点 | D32: 終点 | E32: 主たる経過地 | F32: キロ程 | G32: 備考
A33: 1 | B33: 市街地循環路線 | C33: 米沢市駅前1丁目1番地 | D33: 米沢市駅前1丁目1番地 | E33: 市立病院、上杉神社、市役所、商店街 | F33: 18 | G33: 右回り
C34: （米沢駅前（東口）） | D34: （米沢駅前（東口）） | F34: 18 | G34: 左回り
A35: 2 | B35: 万世線 | C35: 米沢市金池3丁目 | D35: 米沢市万世町刈安 | E35: 米沢駅、桑山団地、アルカディア、七中、万世小学校、福祉の里入口 | F35: 31.3 | G35: 上り
C36: （米沢市役所前） | D36: （米沢スキー場前） | F36: 29 | G36: 下り
A37: 3 | B37: 万世線 | C37: 米沢市駅前1丁目1-43 | D37: 米沢市川井 | F37: -
B38: （直行便） | C38: （米沢駅前（西口）） | D38: （鶴城高校前） | F38: 3.1 | G38: 下り
A39: 4 | B39: 万世線 | C39: 米沢市八幡原３丁目 | D39: 米沢市駅前1丁目1-43 | E39: 八幡原工業団地、アルカディア口、米沢駅前（東口） | F39: 10.6 | G39: 上り
B40: （上り9便） | C40: （大日商事前） | D40: （米沢駅前（西口））
B41: 【以下余白】

Sheet 中山町
A1: 一覧へ | H1: 最終更新 | I1: 45194
A2: 自家用有償旅客運送者登録簿
A3: 登録番号 | B3: 東山市交第１３号
A4: 登録年月日 及び 更新年月日 | B4: 登録年月日 | E4: 38991 | H4: 有効期間満了日
B5: 更新登録年月日（直近） | E5: 45194 | H5: 46295
A6: 名称 | B6: 中山町
A7: 代表者氏名 | B7: 町長 佐藤 俊晴
A8: 住所 | B8: 山形県東村山郡中山町大字長崎１２０番地
A9: 運送の種別 | B9: 交通空白地有償運送 | F9: 福祉有償運送
B10: ○
A11: 事務所の名称 及び位置 | B11: 名 称 | D11: 位 置
B12: 中山町役場 | D12: 山形県東村山郡中山町大字長崎１２０番地
A14: 路線又は 運送の区域 | B14: 別紙のとおり
A15: 運送する旅客の範囲 | B15: 中山町に在住する住民及びその親族、その他中山町に日常の用務を有する者
A17: 事業者協力型自家用有償旅客運送を行うときは、協力を得る一般旅客自動車運送事業者の氏名又は名称及び住所 | B17: 氏名又は名称 | D17: 住 所
A19: 備考
A20: 運送の種別 | B20: 事務所 | C20: 自家用有償旅客運送自動車の数
C21: 寝台車 | D21: 車いす車 | E21: 兼用車 | F21: 回転シート車 | G21: セダン等 | H21: バス | I21: 合計
C22: （軽自動車） | D22: （軽自動車） | E22: （軽自動車） | F22: （軽自動車） | G22: （軽自動車） | I22: （軽自動車）
A23: 交通空白地有償運送 | B23: 中山町役場 | G23: 1 | H23: 1 | I23: 2

Sheet 中山町 別紙
A1: 路線 | B1: 中山町 | E1: ＮＯ． | F1: 1
B2: 起点 | C2: 主たる経過地 | D2: 終点 | E2: キロ程 | F2: 備考
A3: 1 | B3: 中山町保健福祉センター前 | C3: 金沢地区、柳沢地区、土橋地区、岡地区、小塩地区、ひまわり温泉ゆ・ら・ら、中山町役場、三軒屋・落合地区、文新田地区、達磨寺地区 | D3: 向新田観音前 | E3: 24.5
B4: 中山町大字柳沢２３３６番地１ | D4: 中山町大字向新田６番地１
A5: 2 | B5: 【以下余白】
A7: 3
A9: 4
A11: 5
A13: 6
A15: 7
A17: 8

Sheet 真室川町
A1: 一覧へ | H1: 最終更新 | I1: 45194
A2: 自家用有償旅客運送者登録簿
A3: 登録番号 | B3: 東山市交第１４号
A4: 登録年月日 及び 更新年月日 | B4: 登録年月日 | E4: 38991 | H4: 有効期間満了日
B5: 更新登録年月日（直近） | E5: 45194 | H5: 46295
A6: 名称 | B6: 真室川町
A7: 代表者氏名 | B7: 町長 新田 隆治
A8: 住所 | B8: 山形県最上郡真室川町大字新町１２４番４
A9: 運送の種別 | B9: 交通空白地有償運送 | F9: 福祉有償運送
B10: ○
A11: 事務所の名称 及び位置 | B11: 名 称 | D11: 位 置
B12: 真室川町役場 | D12: 山形県最上郡真室川町大字新町１２４番４
A14: 路線又は 運送の区域 | B14: 別紙のとおり
A15: 運送する旅客の範囲 | B15: 真室川町に在住する住民及びその親族、その他真室川町に日常の用務を有する者
A17: 事業者協力型自家用有償旅客運送を行うときは、協力を得る一般旅客自動車運送事業者の氏名又は名称及び住所 | B17: 氏名又は名称 | D17: 住 所
A19: 備考
A20: 運送の種別 | B20: 事務所 | C20: 自家用有償旅客運送自動車の数
C21: 寝台車 | D21: 車いす車 | E21: 兼用車 | F21: 回転シート車 | G21: セダン等 | H21: バス | I21: 合計
C22: （軽自動車） | D22: （軽自動車） | E22: （軽自動車） | F22: （軽自動車） | G22: （軽自動車） | I22: （軽自動車）
A23: 交通空白地有償運送 | B23: 真室川町役場 | H23: 4 | I23: 4

Sheet 真室川町 別紙
A1: 路線 | B1: 真室川町 | E1: 別紙 | F1: ＮＯ． | G1: 1
B2: 路線名 | C2: 起点 | D2: 終点 | E2: 主たる経過地 | F2: キロ程 | G2: 備考
A3: 1 | B3: 及位線 | C3: 最上郡真室川町大字新町４６９－１ | D3: 最上郡真室川町大字及位字中の股 | E3: 真室川町役場 | F3: 34
C4: （真室川病院） | D4: （中の股）
A5: 2 | B5: 金山線 | C5: 最上郡真室川町大字新町４６９－１ | D5: 最上郡金山町大字金山３２４－１ | E5: 真室川町役場 | F5: 13.1
C6: （真室川病院） | D6: （金山町役場）
A7: 3 | B7: 循環線 | C7: 最上郡真室川町大字新町４６９－１ | D7: 最上郡真室川町大字新町４６９－１ | E7: 真室川町役場 | F7: 11.9 | G7: 東循環
C8: （真室川病院） | D8: （真室川病院） | F8: 10.6 | G8: 西循環
A9: 4 | B9: 高坂線 | C9: 最上郡真室川町大字新町４６９－１ | D9: 最上郡真室川町大字差首鍋１６０－４ | E9: 真室川町役場 | F9: 18.4
C10: （真室川病院） | D10: （高坂）
B11: 【以下余白】

Sheet 大江町
A1: 一覧へ | H1: 最終更新 | I1: 45677
A2: 自家用有償旅客運送者登録簿
A3: 登録番号 | B3: 東山市交第１６号
A4: 登録年月日 及び 更新年月日 | B4: 登録年月日 | E4: 38991 | H4: 有効期間満了日
B5: 更新登録年月日（直近） | E5: 45183 | H5: 46295
A6: 名称 | B6: 大江町
A7: 代表者氏名 | B7: 町長 松田 清隆
A8: 住所 | B8: 山形県西村山郡大江町大字左沢882番地の１
A9: 運送の種別 | B9: 交通空白地有償運送 | F9: 福祉有償運送
B10: ○
A11: 事務所の名称 及び位置 | B11: 名 称 | D11: 位 置
B12: 大江町役場 | D12: 西村山郡大江町大字左沢882番地の１
A14: 路線又は 運送の区域 | B14: 別紙のとおり
A15: 運送する旅客の範囲 | B15: 大江町に在住する住民及びその親族、その他大江町に日常の用務を有する者
A17: 事業者協力型自家用有償旅客運送を行うときは、協力を得る一般旅客自動車運送事業者の氏名又は名称及び住所 | B17: 氏名又は名称 | D17: 住 所
A19: 備考
A20: 運送の種別 | B20: 事務所 | C20: 自家用有償旅客運送自動車の数
C21: 寝台車 | D21: 車いす車 | E21: 兼用車 | F21: 回転シート車 | G21: セダン等 | H21: バス | I21: 合計
C22: （軽自動車） | D22: （軽自動車） | E22: （軽自動車） | F22: （軽自動車） | G22: （軽自動車） | I22: （軽自動車）
A23: 交通空白地有償運送 | B23: 大江町役場 | H23: 4 | I23: 4

Sheet 大江町 別紙
A1: 路線 | B1: 大江町 | E1: 別紙 | F1: ＮＯ． | G1: 1
B2: 路線名 | C2: 起点 | D2: 終点 | E2: 主たる経過地 | F2: キロ程 | G2: 備考
A3: 1 | B3: 柳川線 | C3: 大江町大字柳川1502番地の3 | D3: 大江町大字藤田831番地の40 | E3: 貫見地区、十八才地区、左沢駅 | F3: 21.1
C4: （柳川温泉） | D4: （テルメ柏陵）
B5: 【以下余白】

Sheet 戸沢村
A1: 一覧へ | H1: 最終更新 | I1: 46265
A2: 自家用有償旅客運送者登録簿
A3: 登録番号 | B3: 東山市交第１７号
A4: 登録年月日 及び 更新年月日 | B4: 登録年月日 | E4: 38991 | H4: 有効期間満了日
B5: 更新登録年月日（直近） | E5: 46265 | H5: 47391
A6: 名称 | B6: 戸沢村
A7: 代表者氏名 | B7: 村長 加藤 文明
A8: 住所 | B8: 山形県最上郡戸沢村大字古口２７０
A9: 運送の種別 | B9: 交通空白地有償運送 | F9: 福祉有償運送
B10: ○
A11: 事務所の名称 及び位置 | B11: 名 称 | D11: 位 置
B12: 戸沢村役場 | D12: 最上郡戸沢村大字古口２７０
A14: 路線又は 運送の区域 | B14: 別紙のとおり
A15: 運送する旅客の範囲 | B15: 戸沢村に在住する住民及び戸沢村に日常の用務を有する者
A17: 事業者協力型自家用有償旅客運送を行うときは、協力を得る一般旅客自動車運送事業者の氏名又は名称及び住所 | B17: 氏名又は名称 | D17: 住 所
A19: 備考
A20: 運送の種別 | B20: 事務所 | C20: 自家用有償旅客運送自動車の数
C21: 寝台車 | D21: 車いす車 | E21: 兼用車 | F21: 回転シート車 | G21: セダン等 | H21: バス | I21: 合計
C22: （軽自動車） | D22: （軽自動車） | E22: （軽自動車） | F22: （軽自動車） | G22: （軽自動車） | I22: （軽自動車）
A23: 交通空白地有償運送 | B23: 戸沢村役場 | G23: 3 | I23: =SUM(C23:H23) -> 3

Sheet 戸沢村 別紙
A1: 路線 | B1: 戸沢村 | E1: 別紙 | F1: ＮＯ． | G1: 1
B2: 路線名 | C2: 起点 | D2: 終点 | E2: 主たる経過地 | F2: キロ程 | G2: 備考
A3: 1 | B3: やまなみロード線 | C3: 戸沢村大字古口228-2 | D3: 戸沢村大字角川2447-2 | E3: 上本郷 | F3: 16
C4: （JR古口駅前） | D4: （やまなみセンター）
A5: 2 | B5: いきいき百年の里線(1) | C5: 戸沢村大字古口228-2 | D5: 戸沢村大字蔵岡87 | E5: 堀田沢 | F5: 5.2
C6: （JR古口駅前） | D6: （蔵岡）
A7: 3 | B7: いきいき百年の里線(2) | C7: 戸沢村大字古口228-2 | D7: 戸沢村大字松坂155 | E7: 神田、出舟 | F7: 23.3
C8: （JR古口駅前） | D8: （ぽんぽ館）
A9: 4 | B9: いきいき百年の里線(3) | C9: 戸沢村大字古口228-2 | D9: 戸沢村大字松坂155 | E9: 名高、出舟 | F9: 24.3
C10: （JR古口駅前） | D10: （ぽんぽ館）
A11: 5 | B11: いきいき百年の里線(4) | C11: 戸沢村大字古口228-2 | D11: 戸沢村大字津谷51-2 | E11: まごころ荘前 | F11: 4.7
C12: （JR古口駅前） | D12: （JR津谷駅前）
B13: 【以下余白】

Sheet 長井市
A1: 一覧へ | H1: 最終更新 | I1: 46171
A2: 自家用有償旅客運送者登録簿
A3: 登録番号 | B3: 東山市交第１８号
A4: 登録年月日 及び 更新年月日 | B4: 登録年月日 | E4: 38991 | H4: 有効期間満了日
B5: 更新登録年月日（直近） | E5: 45191 | H5: 46295
A6: 名称 | B6: 長井市
A7: 代表者氏名 | B7: 市長 内谷 重治
A8: 住所 | B8: 山形県長井市栄町１番１号
A9: 運送の種別 | B9: 交通空白地有償運送 | F9: 福祉有償運送
B10: ○
A11: 事務所の名称 及び位置 | B11: 名 称 | D11: 位 置
B12: 長井市役所 | D12: 山形県長井市栄町１番１号
A14: 路線又は 運送の区域 | B14: 別紙のとおり
A15: 運送する旅客の範囲 | B15: 長井市に在住する住民及びその親族、その他長井市に日常の用務を有する者
A17: 事業者協力型自家用有償旅客運送を行うときは、協力を得る一般旅客自動車運送事業者の氏名又は名称及び住所 | B17: 氏名又は名称 | D17: 住 所
A19: 備考
A20: 運送の種別 | B20: 事務所 | C20: 自家用有償旅客運送自動車の数
C21: 寝台車 | D21: 車いす車 | E21: 兼用車 | F21: 回転シート車 | G21: セダン等 | H21: バス | I21: 合計
C22: （軽自動車） | D22: （軽自動車） | E22: （軽自動車） | F22: （軽自動車） | G22: （軽自動車） | I22: （軽自動車）
A23: 交通空白地有償運送 | B23: 長井市役所 | G23: ※6 | H23: 7 | I23: 13
F25: ※事業用自動車の持込車両

Sheet 長井市 別紙
A1: 路線 | B1: 長井市 | E1: 別紙 | F1: ＮＯ． | G1: 1
B2: 路線名 | C2: 起点 | D2: 終点 | E2: 主たる経過地 | F2: キロ程 | G2: 備考
A3: 1 | B3: 里巻・中央線 | C3: 長井市勧進代１０７０ | D3: 長井市館町南１１－３ | E3: 長井市役所・長井駅 | F3: 21.7
C4: （里巻） | D4: （ヤマザワ前）
A5: 2 | B5: 里巻・中央・置賜総合病院線 | C5: 長井市勧進代１０７０ | D5: 川西町大字西大塚2000 | E5: 長井市役所・長井駅・ヤマザワ長井店 | F5: 28.5
C6: （里巻） | D6: （公立置賜総合病院前）
A7: 3 | B7: 粡舘・白兎・中央線 | C7: 長井市草岡２０１０－２ | D7: 長井市館町南１１－３ | E7: はぎ苑・長井市役所・長井駅 | F7: 21.7
C8: （粡舘構造改善センター前） | D8: （ヤマザワ前）
A9: 4 | B9: 粡舘・白兎・中央線 | C9: 長井市草岡２０１０－２ | D9: 長井市館町南１１－３ | E9: 長井市役所・長井駅 | F9: 20.9
C10: （粡舘構造改善センター前） | D10: （ヤマザワ前）
A11: 5 | B11: 九野本・中央・平山線 | C11: 長井市九野本3118 | D11: 長井市平山2743-4 | E11: ヤマザワ長井店・長井市役所・長井駅 | F11: 25.1
C12: （平野小学校前） | D12: （野川まなび館前）
A13: 6 | B13: 九野本・中央・平山線 | C13: 長井市九野本3118 | D13: 長井市平山2743-4 | E13: ヤマザワ長井店・長井工業高校・長井市役所・長井駅 | F13: 26.1
C14: （平野小学校前） | D14: （野川まなび館前）
A15: 7 | B15: 伊佐沢・中央線 | C15: 長井市下伊佐沢861-2 | D15: 長井市本町2-4-36-1 | E15: ヤマザワ長井店・長井市役所・長井駅 | F15: 22.7
C16: （下伊佐沢） | D16: （本町二丁目）
A17: 8 | B17: 中央・伊佐沢・置賜総合病院線 | C17: 長井市栄町１－１ | D17: 川西町大字西大塚２０００ | E17: 伊佐沢地区・西大塚駅 | F17: 20.1
C18: （長井市役所・長井駅前） | D18: （公立置賜総合病院前）
A19: 9 | B19: 置賜総合病院・豊田・中央線 | C19: 川西町大字西大塚２０００ | D19: 長井市館町南11-3 | E19: 今泉駅・豊田コミュニティセンター | F19: 15.8
C20: （公立置賜総合病院前） | D20: （ヤマザワ前）
A21: 10 | B21: 中央・置賜総合病院線 | C21: 長井市館町南11-3 | D21: 川西町大字西大塚2000 | E21: 今泉駅 | F21: 10
C22: （ヤマザワ前） | D22: （公立置賜総合病院前）
A23: 11 | B23: 中央・置賜総合病院線（短縮） | C23: 長井市館町南11-3 | D23: 川西町大字西大塚2000 | F23: 6
C24: （ヤマザワ前） | D24: （公立置賜総合病院前）
A25: 12 | B25: 【以下余白】
A27: 13
A29: 14
A31: 15
A33: 16

Sheet 最上町
A1: 一覧へ | H1: 最終更新 | I1: 46265
A2: 自家用有償旅客運送者登録簿
A3: 登録番号 | B3: 東山市交第１９号
A4: 登録年月日 及び 更新年月日 | B4: 登録年月日 | E4: 38991 | H4: 有効期間満了日
B5: 更新登録年月日（直近） | E5: 46265 | H5: 47391
A6: 名称 | B6: 最上町
A7: 代表者氏名 | B7: 町長 髙橋 重美
A8: 住所 | B8: 山形県最上郡最上町大字向町６４４
A9: 運送の種別 | B9: 交通空白地有償運送 | F9: 福祉有償運送
B10: ○
A11: 事務所の名称 及び位置 | B11: 名 称 | D11: 位 置
B12: 最上町役場 | D12: 最上郡最上町大字向町６４４
A14: 路線又は 運送の区域 | B14: 最上町
A15: 運送する旅客の範囲 | B15: 最上町に在住する住民及びその親族、その他最上町に日常の用務を有する者
A17: 事業者協力型自家用有償旅客運送を行うときは、協力を得る一般旅客自動車運送事業者の氏名又は名称及び住所 | B17: 氏名又は名称 | D17: 住 所
A19: 備考
A20: 運送の種別 | B20: 事務所 | C20: 自家用有償旅客運送自動車の数
C21: 寝台車 | D21: 車いす車 | E21: 兼用車 | F21: 回転シート車 | G21: セダン等 | H21: バス | I21: 合計
C22: （軽自動車） | D22: （軽自動車） | E22: （軽自動車） | F22: （軽自動車） | G22: （軽自動車） | I22: （軽自動車）
A23: 交通空白地有償運送 | B23: 最上町役場 | H23: 4 | I23: 4

Sheet 酒田市
A1: 一覧へ | H1: 最終更新 | I1: 46107
A2: 自家用有償旅客運送者登録簿
A3: 登録番号 | B3: 東山市交第２０号
A4: 登録年月日 及び 更新年月日 | B4: 登録年月日 | E4: 38991 | H4: 有効期間満了日
B5: 更新登録年月日（直近） | E5: 45188 | H5: 46295
A6: 名称 | B6: 酒田市
A7: 代表者氏名 | B7: 市長 矢口 明子
A8: 住所 | B8: 山形県酒田市本町2丁目2番45号
A9: 運送の種別 | B9: 交通空白地有償運送 | F9: 福祉有償運送
B10: ○
A11: 事務所の名称 及び位置 | B11: 名 称 | D11: 位 置
B12: 酒田市役所 | D12: 山形県酒田市本町2丁目2番45号
A14: 路線又は 運送の区域 | B14: 別紙のとおり
A15: 運送する旅客の範囲 | B15: 酒田市に在住する住民及びその親族、その他酒田市に日常の用務を有する者
A17: 事業者協力型自家用有償旅客運送を行うときは、協力を得る一般旅客自動車運送事業者の氏名又は名称及び住所 | B17: 氏名又は名称 | D17: 住 所
A19: 備考
A20: 運送の種別 | B20: 事務所 | C20: 自家用有償旅客運送自動車の数
C21: 寝台車 | D21: 車いす車 | E21: 兼用車 | F21: 回転シート車 | G21: セダン等 | H21: バス | I21: 合計
C22: （軽自動車） | D22: （軽自動車） | E22: （軽自動車） | F22: （軽自動車） | G22: （軽自動車） | I22: （軽自動車）
A23: 交通空白地有償運送 | B23: 酒田市役所 | G23: 1 | H23: 8 | I23: 9

Sheet 酒田市 別紙
A1: 路線 | B1: 酒田市 | E1: 別紙
B2: 路線名 | C2: 起点 | D2: 終点 | E2: 主たる経過地 | F2: キロ程 | G2: 備考
A3: 1 | B3: 市内循環Ａ線 | C3: 酒田市幸町一丁目10 | D3: 酒田市幸町一丁目10 | E3: 日本海総合病院 | F3: 21.8
C4: （酒田駅前①） | D4: （酒田駅前②）
A5: 2 | B5: 市内循環Ｂ線 | C5: 酒田市幸町一丁目10 | D5: 酒田市幸町一丁目10 | E5: 日本海総合病院 | F5: 22.4
C6: （酒田駅前①） | D6: （酒田駅前②）
A7: 3 | B7: 市内循環Ｃ線 | C7: 酒田市中町二丁目5 | D7: 酒田市中町二丁目5 | E7: 日本海総合病院 | F7: 22.4
C8: （中町①） | D8: （中町①）
A9: 4 | B9: 市内循環Ｄ線 | C9: 酒田市中町二丁目5 | D9: 酒田市中町二丁目5 | E9: 日本海総合病院 | F9: 22.9
C10: （中町②） | D10: （中町②）
A11: 5 | B11: 酒田駅大学線 | C11: 酒田市幸町一丁目10 | D11: 酒田市あきほ町30番地 | E11: 中町二丁目 | F11: 21.8
C12: （酒田駅前①） | D12: （日本海総合病院）
A13: 6 | B13: 古湊アイアイひらた線 | C13: 酒田市古湊１番地内 | D13: 酒田市山楯字南山32番地の4 | E13: 中町二丁目 | F13: 27.5
C14: （古湊） | D14: （悠々の杜温泉施設前）
B15: 【以下余白】

Sheet 西川町
A1: 一覧へ | H1: 最終更新 | I1: 46226
A2: 自家用有償旅客運送者登録簿
A3: 登録番号 | B3: 東山市交第２１号
A4: 登録年月日 及び 更新年月日 | B4: 登録年月日 | E4: 38991 | H4: 有効期間満了日
B5: 更新登録年月日（直近） | E5: 45194 | H5: 46295
A6: 名称 | B6: 西川町
A7: 代表者氏名 | B7: 町長 菅野 大志
A8: 住所 | B8: 山形県西村山郡西川町大字海味５１０番地
A9: 運送の種別 | B9: 交通空白地有償運送 | F9: 福祉有償運送
B10: ○
A11: 事務所の名称 及び位置 | B11: 名 称 | D11: 位 置
B12: 西川町役場 | D12: 山形県西村山郡西川町大字海味５１０番地
B13: 寒河江自動車学校 | D13: 山形県寒河江市寒河江字久保１番地
A14: 路線又は 運送の区域 | B14: 路線：別紙のとおり 運送の区域：西川町（大字睦合、大字吉川、大字海味、大字間沢、大字沼山、大字原）
A15: 運送する旅客の範囲 | B15: １．西村山郡西川町に在住する住民及びその親族、その他西村山郡西川町に日常の用務を有する者 ２．寒河江市内に在住する住民及びその親族、その他寒河江市に日常の用務を有する者（但し、「道の駅にしかわ・寒河江駅線」及び「羽前高松駅・県立河北病院線」に限る） ３．西村山郡河北町に在住する住民及びその親族、その他西村山郡河北町に日常の用務を有する者（但し、「羽前高松駅・県立河北病院線」に限る）
A17: 事業者協力型自家用有償旅客運送を行うときは、協力を得る一般旅客自動車運送事業者の氏名又は名称及び住所 | B17: 氏名又は名称 | D17: 住 所
A19: 備考
A20: 運送の種別 | B20: 事務所 | C20: 自家用有償旅客運送自動車の数
C21: 寝台車 | D21: 車いす車 | E21: 兼用車 | F21: 回転シート車 | G21: セダン等 | H21: バス | I21: 合計
C22: （軽自動車） | D22: （軽自動車） | E22: （軽自動車） | F22: （軽自動車） | G22: （軽自動車） | I22: （軽自動車）
A23: 交通空白地有償運送 | B23: 西川町役場 | H23: 18 | I23: 18
B25: 寒河江自動車学校（持込） | G25: 4 | I25: 4

Sheet 西川町 別紙
A1: 路線 | B1: 西川町 | E1: 別紙 | F1: ＮＯ． | G1: 1
B2: 路線名 | C2: 起点 | D2: 終点 | E2: 主たる経過地 | F2: キロ程 | G2: 備考
A3: 1 | B3: 岩根沢線 | C3: 西川町大字岩根沢181-2 | D3: 西川町大字間沢59 | E3: 老人福祉センター、西川町立病院 | F3: 18.8
C4: (桂林) | D4: (間沢）
A5: 2 | B5: 大井沢線 | C5: 西川町大字大井沢3382-1 | D5: 西川町大字海味437-2 | E5: 道の駅にしかわ、本道寺 | F5: 30.6
C6: (根子） | D6: (西川町福祉センター)
A7: 3 | B7: 月山志津温泉線 | C7: 西川町大字睦合丙681-4 | D7: 西川町大字月山沢字月山国有林115-ホ | E7: 西川小学校、西川中学校、西川町立病院 | F7: 39.1
C8: (西川IC） | D8: (姥沢)
A9: 4 | B9: 入間線 | C9: 西川町大字入間590-15 | D9: 西川町大字間沢59 | E9: 沢口、原、西川町立病院 | F9: 18.3
C10: (新田） | D10: (間沢)
A11: 5 | B11: 大井沢・稲沢・ 左沢線 | C11: 西川町大字大井沢3382-1 | D11: 大江町大字藤田816-3 | E11: 稲沢、間沢、道の駅にしかわ | F11: 44.2
C12: (根子） | D12: (左沢高校前）
A13: 6 | B13: 道の駅にしかわ・ 寒河江駅線 | C13: 西川町大字水沢2304 | D13: 寒河江市本町一丁目1-1 | E13: 間沢、西川町立病院、白岩、羽前高松駅、寒河江市立病院 | F13: 21
C14: （道の駅にしかわ） | D14: （寒河江駅）
A15: 7 | B15: 羽前高松駅・ 県立河北病院線 | C15: 寒河江市大字八鍬字郷の目７７２－２ | D15: 河北町谷地字月山堂１１１ | E15: 高松口、一里塚、白山堂、松橋、県立谷地高校前、若葉町 | F15: 8.2
C16: （羽前高松駅） | D16: （県立河北病院）
B17: 【以下余白】

Sheet 小国町
A1: 一覧へ | H1: 最終更新 | I1: 45924
A2: 自家用有償旅客運送者登録簿
A3: 登録番号 | B3: 東山市交第２２号
A4: 登録年月日 及び 更新年月日 | B4: 登録年月日 | E4: 38991 | H4: 有効期間満了日
B5: 更新登録年月日（直近） | E5: 45924 | H5: 47026
A6: 名称 | B6: 小国町
A7: 代表者氏名 | B7: 町長 仁科 洋一
A8: 住所 | B8: 山形県西置賜郡小国町大字小国小坂町２丁目７０番地
A9: 運送の種別 | B9: 交通空白地有償運送 | F9: 福祉有償運送
B10: ○
A11: 事務所の名称 及び位置 | B11: 名 称 | D11: 位 置
B12: 小国町役場 | D12: 山形県西置賜郡小国町大字小国小坂町２丁目７０番地
A14: 路線又は 運送の区域 | B14: 別紙のとおり
A15: 運送する旅客の範囲 | B15: 小国町民又は観光旅客その他の小国町を来訪する者
A17: 事業者協力型自家用有償旅客運送を行うときは、協力を得る一般旅客自動車運送事業者の氏名又は名称及び住所 | B17: 氏名又は名称 | D17: 住 所
A19: 備考
A20: 運送の種別 | B20: 事務所 | C20: 自家用有償旅客運送自動車の数
C21: 寝台車 | D21: 車いす車 | E21: 兼用車 | F21: 回転シート車 | G21: セダン等 | H21: バス | I21: 合計
C22: （軽自動車） | D22: （軽自動車） | E22: （軽自動車） | F22: （軽自動車） | G22: （軽自動車） | I22: （軽自動車）
A23: 交通空白地有償運送 | B23: 小国町役場 | G23: 2 | H23: 7 | I23: 9

Sheet 小国町 別紙
A1: 路線 | B1: 小国町 | E1: 別紙 | F1: ＮＯ． | G1: 1
B2: 路線名 | C2: 起点 | D2: 終点 | E2: 主たる経過地 | F2: キロ程 | G2: 備考
A3: 1 | B3: 循環線 | C3: 小国町大字あけぼの一丁目１番地 | D3: 小国町大字あけぼの一丁目１番地 | E3: 小国町役場、ショッピングセンターアスモ、小国駅、幸町 | F3: 16.5
C4: （小国町立病院） | D4: （小国町立病院）
A5: 2 | B5: 南部線 | C5: 小国町大字あけぼの一丁目１番地 | D5: 小国町大字小玉川６６３番３ | E5: 小国町役場、小国小学校、玉川地区、飯豊梅花皮荘 | F5: 32.8
C6: （小国町立病院） | D6: （飯豊山荘）
A7: 3 | B7: 北部線 | C7: 小国町大字あけぼの一丁目１番地 | D7: 小国町大字五味沢６８番１ | E7: 小国町役場、幸町、舟渡地区、りふれ、小国小学校 | F7: 31.1
C8: （小国町立病院） | D8: （徳網）
B9: 【以下余白】

Sheet 白鷹町
A1: 一覧へ | H1: 最終更新 | I1: 46107
A2: 自家用有償旅客運送者登録簿
A3: 登録番号 | B3: 東山市交第２３号
A4: 登録年月日 及び 更新年月日 | B4: 登録年月日 | E4: 39898 | H4: 有効期間満了日
B5: 更新登録年月日（直近） | E5: 46080 | H5: 47202
A6: 名称 | B6: 白鷹町
A7: 代表者氏名 | B7: 町長 田宮 修
A8: 住所 | B8: 山形県西置賜郡白鷹町大字荒砥甲８３３
A9: 運送の種別 | B9: 交通空白地有償運送 | F9: 福祉有償運送
B10: ○
A11: 事務所の名称 及び位置 | B11: 名 称 | D11: 位 置
B12: 白鷹町役場 | D12: 西置賜郡白鷹町大字荒砥甲８３３
A14: 路線又は 運送の区域 | B14: 別紙のとおり
A15: 運送する旅客の範囲 | B15: 白鷹町民又は観光旅客その他の白鷹町を来訪する者
A17: 事業者協力型自家用有償旅客運送を行うときは、協力を得る一般旅客自動車運送事業者の氏名又は名称及び住所 | B17: 氏名又は名称 | D17: 住 所
A19: 備考
A20: 運送の種別 | B20: 事務所 | C20: 自家用有償旅客運送自動車の数
C21: 寝台車 | D21: 車いす車 | E21: 兼用車 | F21: 回転シート車 | G21: セダン等 | H21: バス | I21: 合計
C22: （軽自動車） | D22: （軽自動車） | E22: （軽自動車） | F22: （軽自動車） | G22: （軽自動車） | I22: （軽自動車）
A23: 交通空白地有償運送 | B23: 白鷹町役場 | H23: 2 | I23: 2

Sheet 白鷹町 別紙
A1: 路線 | B1: 白鷹町 | E1: 別紙 | F1: ＮＯ． | G1: 1
B2: 路線名 | C2: 起点 | D2: 終点 | E2: 主たる経過地 | F2: キロ程 | G2: 備考
A3: 1 | B3: 荒砥・大瀬線 | C3: 白鷹町大字荒砥甲1268-3 | D3: 白鷹町大字大瀬995-1 | E3: 菖蒲、下山、佐野原 | F3: 11.4
C4: （荒砥駅） | D4: （大瀬）
A5: 2 | B5: 荒砥・中山線 | C5: 白鷹町大字荒砥甲1268-3 | D5: 白鷹町大字中山176-5 | E5: 十王、滝野、萩野 | F5: 15.5
C6: （荒砥駅） | D6: （中山スキー場口）
A7: 3 | B7: 【以下余白】
A9: 4
A11: 5
A13: 6
A15: 7
A17: 8
A19: 9
A21: 10
A23: 11
A25: 12
A27: 13
A29: 14
A31: 15

Sheet 大蔵村
A1: 一覧へ | H1: 最終更新 | I1: 46080
A2: 自家用有償旅客運送者登録簿
A3: 登録番号 | B3: 東山市交第２４号
A4: 登録年月日 及び 更新年月日 | B4: 登録年月日 | E4: 41340 | H4: 有効期間満了日
B5: 更新登録年月日（直近） | E5: 46080 | H5: 47913
A6: 名称 | B6: 大蔵村
A7: 代表者氏名 | B7: 村長 加藤 正美
A8: 住所 | B8: 山形県最上郡大蔵村大字清水２５２８
A9: 運送の種別 | B9: 交通空白地有償運送 | F9: 福祉有償運送
B10: ○
A11: 事務所の名称 及び位置 | B11: 名 称 | D11: 位 置
B12: 大蔵村役場 | D12: 最上郡大蔵村大字清水２５２８
A14: 路線又は 運送の区域 | B14: 別紙のとおり
A15: 運送する旅客の範囲 | B15: 大蔵村に在住する住民及びその親族、その他大蔵村に日常の用務を有する者
A17: 事業者協力型自家用有償旅客運送を行うときは、協力を得る一般旅客自動車運送事業者の氏名又は名称及び住所 | B17: 氏名又は名称 | D17: 住 所
B18: 株式会社新庄輸送サービス | D18: 山形県新庄市千門町２－１５
A19: 備考
A20: 運送の種別 | B20: 事務所 | C20: 自家用有償旅客運送自動車の数
C21: 寝台車 | D21: 車いす車 | E21: 兼用車 | F21: 回転シート車 | G21: セダン等 | H21: バス | I21: 合計
C22: （軽自動車） | D22: （軽自動車） | E22: （軽自動車） | F22: （軽自動車） | G22: （軽自動車） | I22: （軽自動車）
A23: 交通空白地有償運送 | B23: 大蔵村役場 | G23: 1 | I23: 1

Sheet 大蔵村 別紙
A1: 路線 | B1: 大蔵村 | E1: 別紙 | F1: ＮＯ． | G1: 1
B2: 路線名 | C2: 起点 | D2: 終点 | E2: 主たる経過地 | F2: キロ程 | G2: 備考
A3: 1 | B3: 土合滝の沢線 | C3: 大蔵村大字南山3349 | D3: 大蔵村大字南山3349 | E3: 滝の沢、平林、沼の台、豊牧 | F3: 13 | G3: 循環路線
C4: （土合〈日陰〉） | D4: （土合〈日陰〉）
B5: 【以下余白】

Sheet アルカディアもがみ
A1: 一覧へ | H1: 最終更新 | I1: 45980
A2: 自家用有償旅客運送者登録簿
A3: 登録番号 | B3: 東山交第２６号
A4: 登録年月日 及び 更新年月日 | B4: 登録年月日 | E4: 45980 | H4: 有効期間満了日
B5: 更新登録年月日（直近） | E5: - | H5: 46709
A6: 名称 | B6: 特定非営利活動法人 アルカディアもがみ
A7: 代表者氏名 | B7: 理事長 金田 綾子
A8: 住所 | B8: 山形県最上郡最上町大字向町６４６
A9: 運送の種別 | B9: 交通空白地有償運送 | F9: 福祉有償運送
B10: ○
A11: 事務所の名称 及び位置 | B11: 名 称 | D11: 位 置
B12: みんなの家 | D12: 山形県最上郡最上町大字向町６４６
A14: 路線又は 運送の区域 | B14: 最上町
A15: 運送する旅客の範囲 | B15: 最上町民及び最上町への来訪者
A17: 事業者協力型自家用有償旅客運送を行うときは、協力を得る一般旅客自動車運送事業者の氏名又は名称及び住所 | B17: 氏名又は名称 | D17: 住 所
A19: 備考
A20: 運送の種別 | B20: 事務所 | C20: 自家用有償旅客運送自動車の数
C21: 寝台車 | D21: 車いす車 | E21: 兼用車 | F21: 回転シート車 | G21: セダン等 | H21: バス | I21: 合計
C22: （軽自動車） | D22: （軽自動車） | E22: （軽自動車） | F22: （軽自動車） | G22: （軽自動車） | I22: （軽自動車）
A23: 交通空白地有償運送 | B23: みんなの家 | G23: 1 | I23: 1
